Workbook

Sheet HK1
A1: STT | B1: Mã nhân sự | C1: Đơn vị | D1: HỌ VÀ TÊN GIẢNG VIÊN | E1: ĐỀ THI | J1: COI THI | O1: CHẤM THI KTHP | W1: CHẤM THI TỐT NGHIỆP | AF1: DỰ PHÒNG KỲ THI | AG1: GIÁM SÁT | AH1: TỔNG KHỐI LƯỢNG | AI1: =SUBTOTAL(9,AH:AH) -> 767.85
O2: LÝ THUYẾT | S2: TIỂU LUẬN | W2: LÝ THUYẾT | Z2: T.HÀNH CHUNG | AC2: T.HÀNH RIÊNG
E3: SL ĐỀ LT KTHP | F3: SL ĐỀ TN KTHP | G3: SL ĐỀ LT TN | H3: SL ĐỀ TH TN | I3: KL SOẠN ĐỀ (tiết) | J3: KTHPLT COITHI 1 | K3: KTHPLT COITHI 2 | L3: ThiTN COITHI 1 | M3: ThiTN COITHI 2 | N3: KL COITHI (tiết) | O3: SL BÀI LT CHẤM 1 | P3: SL BÀI LT CHẤM 2 | Q3: SL CHẤM LT NGHĨA VỤ | R3: KL CHẤM LT (tiết) | S3: SL BÀI TL CHẤM 1 | T3: SL BÀI TL CHẤM 2 | U3: SL CHẤM TL NGHĨA VỤ | V3: KL CHẤM TL (tiết) | W3: SL BÀI LT CHẤM 1 | X3: SL BÀI LT CHẤM 2 | Y3: KL CHẤM LT (tiết) | Z3: SL BÀI TL CHẤM 1 | AA3: SL BÀI TL CHẤM 2 | AB3: KL CHẤM TL (tiết) | AC3: SL BÀI TL CHẤM 1 | AD3: SL BÀI TL CHẤM 2 | AE3: KL CHẤM TL (tiết)
A4: =IF(D4="","",SUBTOTAL(3,$D$4:$D4)) -> 0 | B4: 01002001 | C4: Ban Giám hiệu | D4: Đinh Hồng Minh | E4: =VLOOKUP($B4,'[1]TK KHOILUONG'!$B:$AH,4,0) -> 0 | F4: =VLOOKUP($B4,'[1]TK KHOILUONG'!$B:$AH,5,0) -> 0 | G4: =VLOOKUP($B4,'[1]TK KHOILUONG'!$B:$AH,6,0) -> 0 | H4: =VLOOKUP($B4,'[1]TK KHOILUONG'!$B:$AH,7,0) -> 0 | I4: =VLOOKUP($B4,'[1]TK KHOILUONG'!$B:$AH,8,0) -> 0 | J4: =VLOOKUP($B4,'[1]TK KHOILUONG'!$B:$AH,9,0) -> 0 | K4: =VLOOKUP($B4,'[1]TK KHOILUONG'!$B:$AH,10,0) -> 0 | L4: =VLOOKUP($B4,'[1]TK KHOILUONG'!$B:$AH,11,0) -> 0 | M4: =VLOOKUP($B4,'[1]TK KHOILUONG'!$B:$AH,12,0) -> 0 | N4: =VLOOKUP($B4,'[1]TK KHOILUONG'!$B:$AH,13,0) -> 0 | O4: =VLOOKUP($B4,'[1]TK KHOILUONG'!$B:$AH,14,0) -> 0 | P4: =VLOOKUP($B4,'[1]TK KHOILUONG'!$B:$AH,15,0) -> 0 | Q4: =VLOOKUP($B4,'[1]TK KHOILUONG'!$B:$AH,16,0) -> 0 | R4: =VLOOKUP($B4,'[1]TK KHOILUONG'!$B:$AH,17,0) -> 0 | S4: =VLOOKUP($B4,'[1]TK KHOILUONG'!$B:$AH,18,0) -> 0 | T4: =VLOOKUP($B4,'[1]TK KHOILUONG'!$B:$AH,19,0) -> 0 | U4: =VLOOKUP($B4,'[1]TK KHOILUONG'!$B:$AH,20,0) -> 0 | V4: =VLOOKUP($B4,'[1]TK KHOILUONG'!$B:$AH,21,0) -> 0 | W4: =VLOOKUP($B4,'[1]TK KHOILUONG'!$B:$AH,22,0) -> 0 | X4: =VLOOKUP($B4,'[1]TK KHOILUONG'!$B:$AH,23,0) -> 0 | Y4: =VLOOKUP($B4,'[1]TK KHOILUONG'!$B:$AH,24,0) -> 0 | Z4: =VLOOKUP($B4,'[1]TK KHOILUONG'!$B:$AH,25,0) -> 0 | AA4: =VLOOKUP($B4,'[1]TK KHOILUONG'!$B:$AH,26,0) -> 0 | AB4: =VLOOKUP($B4,'[1]TK KHOILUONG'!$B:$AH,27,0) -> 0 | AC4: =VLOOKUP($B4,'[1]TK KHOILUONG'!$B:$AH,28,0) -> 0 | AD4: =VLOOKUP($B4,'[1]TK KHOILUONG'!$B:$AH,29,0) -> 0 | AE4: =VLOOKUP($B4,'[1]TK KHOILUONG'!$B:$AH,30,0) -> 0 | AF4: =VLOOKUP($B4,'[1]TK KHOILUONG'!$B:$AH,31,0) -> 0 | AG4: =VLOOKUP($B4,'[1]TK KHOILUONG'!$B:$AH,32,0) -> 0 | AH4: =IF(D4="","",ROUND(I4+N4+R4+V4+Y4+AB4+AE4+SUM(AF4:AG4),2)) -> 0
A5: =IF(D5="","",SUBTOTAL(3,$D$4:$D5)) -> 0 | B5: 01001006 | C5: Ban Giám hiệu | D5: Đinh Văn Đệ | E5: =VLOOKUP($B5,'[1]TK KHOILUONG'!$B:$AH,4,0) -> 0 | F5: =VLOOKUP($B5,'[1]TK KHOILUONG'!$B:$AH,5,0) -> 0 | G5: =VLOOKUP($B5,'[1]TK KHOILUONG'!$B:$AH,6,0) -> 0 | H5: =VLOOKUP($B5,'[1]TK KHOILUONG'!$B:$AH,7,0) -> 0 | I5: =VLOOKUP($B5,'[1]TK KHOILUONG'!$B:$AH,8,0) -> 0 | J5: =VLOOKUP($B5,'[1]TK KHOILUONG'!$B:$AH,9,0) -> 0 | K5: =VLOOKUP($B5,'[1]TK KHOILUONG'!$B:$AH,10,0) -> 0 | L5: =VLOOKUP($B5,'[1]TK KHOILUONG'!$B:$AH,11,0) -> 0 | M5: =VLOOKUP($B5,'[1]TK KHOILUONG'!$B:$AH,12,0) -> 0 | N5: =VLOOKUP($B5,'[1]TK KHOILUONG'!$B:$AH,13,0) -> 0 | O5: =VLOOKUP($B5,'[1]TK KHOILUONG'!$B:$AH,14,0) -> 0 | P5: =VLOOKUP($B5,'[1]TK KHOILUONG'!$B:$AH,15,0) -> 0 | Q5: =VLOOKUP($B5,'[1]TK KHOILUONG'!$B:$AH,16,0) -> 187 | R5: =VLOOKUP($B5,'[1]TK KHOILUONG'!$B:$AH,17,0) -> -9.35 | S5: =VLOOKUP($B5,'[1]TK KHOILUONG'!$B:$AH,18,0) -> 0 | T5: =VLOOKUP($B5,'[1]TK KHOILUONG'!$B:$AH,19,0) -> 0 | U5: =VLOOKUP($B5,'[1]TK KHOILUONG'!$B:$AH,20,0) -> 0 | V5: =VLOOKUP($B5,'[1]TK KHOILUONG'!$B:$AH,21,0) -> 0 | W5: =VLOOKUP($B5,'[1]TK KHOILUONG'!$B:$AH,22,0) -> 0 | X5: =VLOOKUP($B5,'[1]TK KHOILUONG'!$B:$AH,23,0) -> 0 | Y5: =VLOOKUP($B5,'[1]TK KHOILUONG'!$B:$AH,24,0) -> 0 | Z5: =VLOOKUP($B5,'[1]TK KHOILUONG'!$B:$AH,25,0) -> 0 | AA5: =VLOOKUP($B5,'[1]TK KHOILUONG'!$B:$AH,26,0) -> 0 | AB5: =VLOOKUP($B5,'[1]TK KHOILUONG'!$B:$AH,27,0) -> 0 | AC5: =VLOOKUP($B5,'[1]TK KHOILUONG'!$B:$AH,28,0) -> 0 | AD5: =VLOOKUP($B5,'[1]TK KHOILUONG'!$B:$AH,29,0) -> 0 | AE5: =VLOOKUP($B5,'[1]TK KHOILUONG'!$B:$AH,30,0) -> 0 | AF5: =VLOOKUP($B5,'[1]TK KHOILUONG'!$B:$AH,31,0) -> 0 | AG5: =VLOOKUP($B5,'[1]TK KHOILUONG'!$B:$AH,32,0) -> 0 | AH5: =IF(D5="","",ROUND(I5+N5+R5+V5+Y5+AB5+AE5+SUM(AF5:AG5),2)) -> -9.35
A6: =IF(D6="","",SUBTOTAL(3,$D$4:$D6)) -> 0 | B6: 01001003 | C6: Ban Giám hiệu | D6: Nguyễn Văn Dũng | E6: =VLOOKUP($B6,'[1]TK KHOILUONG'!$B:$AH,4,0) -> 0 | F6: =VLOOKUP($B6,'[1]TK KHOILUONG'!$B:$AH,5,0) -> 0 | G6: =VLOOKUP($B6,'[1]TK KHOILUONG'!$B:$AH,6,0) -> 0 | H6: =VLOOKUP($B6,'[1]TK KHOILUONG'!$B:$AH,7,0) -> 0 | I6: =VLOOKUP($B6,'[1]TK KHOILUONG'!$B:$AH,8,0) -> 0 | J6: =VLOOKUP($B6,'[1]TK KHOILUONG'!$B:$AH,9,0) -> 0 | K6: =VLOOKUP($B6,'[1]TK KHOILUONG'!$B:$AH,10,0) -> 0 | L6: =VLOOKUP($B6,'[1]TK KHOILUONG'!$B:$AH,11,0) -> 0 | M6: =VLOOKUP($B6,'[1]TK KHOILUONG'!$B:$AH,12,0) -> 0 | N6: =VLOOKUP($B6,'[1]TK KHOILUONG'!$B:$AH,13,0) -> 0 | O6: =VLOOKUP($B6,'[1]TK KHOILUONG'!$B:$AH,14,0) -> 0 | P6: =VLOOKUP($B6,'[1]TK KHOILUONG'!$B:$AH,15,0) -> 0 | Q6: =VLOOKUP($B6,'[1]TK KHOILUONG'!$B:$AH,16,0) -> 0 | R6: =VLOOKUP($B6,'[1]TK KHOILUONG'!$B:$AH,17,0) -> 0 | S6: =VLOOKUP($B6,'[1]TK KHOILUONG'!$B:$AH,18,0) -> 0 | T6: =VLOOKUP($B6,'[1]TK KHOILUONG'!$B:$AH,19,0) -> 0 | U6: =VLOOKUP($B6,'[1]TK KHOILUONG'!$B:$AH,20,0) -> 0 | V6: =VLOOKUP($B6,'[1]TK KHOILUONG'!$B:$AH,21,0) -> 0 | W6: =VLOOKUP($B6,'[1]TK KHOILUONG'!$B:$AH,22,0) -> 0 | X6: =VLOOKUP($B6,'[1]TK KHOILUONG'!$B:$AH,23,0) -> 0 | Y6: =VLOOKUP($B6,'[1]TK KHOILUONG'!$B:$AH,24,0) -> 0 | Z6: =VLOOKUP($B6,'[1]TK KHOILUONG'!$B:$AH,25,0) -> 0 | AA6: =VLOOKUP($B6,'[1]TK KHOILUONG'!$B:$AH,26,0) -> 0 | AB6: =VLOOKUP($B6,'[1]TK KHOILUONG'!$B:$AH,27,0) -> 0 | AC6: =VLOOKUP($B6,'[1]TK KHOILUONG'!$B:$AH,28,0) -> 0 | AD6: =VLOOKUP($B6,'[1]TK KHOILUONG'!$B:$AH,29,0) -> 0 | AE6: =VLOOKUP($B6,'[1]TK KHOILUONG'!$B:$AH,30,0) -> 0 | AF6: =VLOOKUP($B6,'[1]TK KHOILUONG'!$B:$AH,31,0) -> 0 | AG6: =VLOOKUP($B6,'[1]TK KHOILUONG'!$B:$AH,32,0) -> 0 | AH6: =IF(D6="","",ROUND(I6+N6+R6+V6+Y6+AB6+AE6+SUM(AF6:AG6),2)) -> 0
A7: =IF(D7="","",SUBTOTAL(3,$D$4:$D7)) -> 0 | B7: 01001001 | C7: Ban Giám hiệu | D7: Phạm Hữu Lộc | E7: =VLOOKUP($B7,'[1]TK KHOILUONG'!$B:$AH,4,0) -> 0 | F7: =VLOOKUP($B7,'[1]TK KHOILUONG'!$B:$AH,5,0) -> 0 | G7: =VLOOKUP($B7,'[1]TK KHOILUONG'!$B:$AH,6,0) -> 0 | H7: =VLOOKUP($B7,'[1]TK KHOILUONG'!$B:$AH,7,0) -> 0 | I7: =VLOOKUP($B7,'[1]TK KHOILUONG'!$B:$AH,8,0) -> 0 | J7: =VLOOKUP($B7,'[1]TK KHOILUONG'!$B:$AH,9,0) -> 0 | K7: =VLOOKUP($B7,'[1]TK KHOILUONG'!$B:$AH,10,0) -> 0 | L7: =VLOOKUP($B7,'[1]TK KHOILUONG'!$B:$AH,11,0) -> 0 | M7: =VLOOKUP($B7,'[1]TK KHOILUONG'!$B:$AH,12,0) -> 0 | N7: =VLOOKUP($B7,'[1]TK KHOILUONG'!$B:$AH,13,0) -> 0 | O7: =VLOOKUP($B7,'[1]TK KHOILUONG'!$B:$AH,14,0) -> 0 | P7: =VLOOKUP($B7,'[1]TK KHOILUONG'!$B:$AH,15,0) -> 0 | Q7: =VLOOKUP($B7,'[1]TK KHOILUONG'!$B:$AH,16,0) -> 0 | R7: =VLOOKUP($B7,'[1]TK KHOILUONG'!$B:$AH,17,0) -> 0 | S7: =VLOOKUP($B7,'[1]TK KHOILUONG'!$B:$AH,18,0) -> 0 | T7: =VLOOKUP($B7,'[1]TK KHOILUONG'!$B:$AH,19,0) -> 0 | U7: =VLOOKUP($B7,'[1]TK KHOILUONG'!$B:$AH,20,0) -> 0 | V7: =VLOOKUP($B7,'[1]TK KHOILUONG'!$B:$AH,21,0) -> 0 | W7: =VLOOKUP($B7,'[1]TK KHOILUONG'!$B:$AH,22,0) -> 0 | X7: =VLOOKUP($B7,'[1]TK KHOILUONG'!$B:$AH,23,0) -> 0 | Y7: =VLOOKUP($B7,'[1]TK KHOILUONG'!$B:$AH,24,0) -> 0 | Z7: =VLOOKUP($B7,'[1]TK KHOILUONG'!$B:$AH,25,0) -> 0 | AA7: =VLOOKUP($B7,'[1]TK KHOILUONG'!$B:$AH,26,0) -> 0 | AB7: =VLOOKUP($B7,'[1]TK KHOILUONG'!$B:$AH,27,0) -> 0 | AC7: =VLOOKUP($B7,'[1]TK KHOILUONG'!$B:$AH,28,0) -> 0 | AD7: =VLOOKUP($B7,'[1]TK KHOILUONG'!$B:$AH,29,0) -> 0 | AE7: =VLOOKUP($B7,'[1]TK KHOILUONG'!$B:$AH,30,0) -> 0 | AF7: =VLOOKUP($B7,'[1]TK KHOILUONG'!$B:$AH,31,0) -> 0 | AG7: =VLOOKUP($B7,'[1]TK KHOILUONG'!$B:$AH,32,0) -> 0 | AH7: =IF(D7="","",ROUND(I7+N7+R7+V7+Y7+AB7+AE7+SUM(AF7:AG7),2)) -> 0
A8: =IF(D8="","",SUBTOTAL(3,$D$4:$D8)) -> 1 | B8: 01012023 | C8: Khoa CN Cơ khí | D8: Bùi Anh Tuấn | E8: =VLOOKUP($B8,'[1]TK KHOILUONG'!$B:$AH,4,0) -> 11 | F8: =VLOOKUP($B8,'[1]TK KHOILUONG'!$B:$AH,5,0) -> 0 | G8: =VLOOKUP($B8,'[1]TK KHOILUONG'!$B:$AH,6,0) -> 0 | H8: =VLOOKUP($B8,'[1]TK KHOILUONG'!$B:$AH,7,0) -> 0 | I8: =VLOOKUP($B8,'[1]TK KHOILUONG'!$B:$AH,8,0) -> 11 | J8: =VLOOKUP($B8,'[1]TK KHOILUONG'!$B:$AH,9,0) -> 9.6 | K8: =VLOOKUP($B8,'[1]TK KHOILUONG'!$B:$AH,10,0) -> 7.2 | L8: =VLOOKUP($B8,'[1]TK KHOILUONG'!$B:$AH,11,0) -> 0 | M8: =VLOOKUP($B8,'[1]TK KHOILUONG'!$B:$AH,12,0) -> 0 | N8: =VLOOKUP($B8,'[1]TK KHOILUONG'!$B:$AH,13,0) -> 16.8 | O8: =VLOOKUP($B8,'[1]TK KHOILUONG'!$B:$AH,14,0) -> 158 | P8: =VLOOKUP($B8,'[1]TK KHOILUONG'!$B:$AH,15,0) -> 31 | Q8: =VLOOKUP($B8,'[1]TK KHOILUONG'!$B:$AH,16,0) -> 178 | R8: =VLOOKUP($B8,'[1]TK KHOILUONG'!$B:$AH,17,0) -> 0.55 | S8: =VLOOKUP($B8,'[1]TK KHOILUONG'!$B:$AH,18,0) -> 0 | T8: =VLOOKUP($B8,'[1]TK KHOILUONG'!$B:$AH,19,0) -> 0 | U8: =VLOOKUP($B8,'[1]TK KHOILUONG'!$B:$AH,20,0) -> 0 | V8: =VLOOKUP($B8,'[1]TK KHOILUONG'!$B:$AH,21,0) -> 0 | W8: =VLOOKUP($B8,'[1]TK KHOILUONG'!$B:$AH,22,0) -> 0 | X8: =VLOOKUP($B8,'[1]TK KHOILUONG'!$B:$AH,23,0) -> 0 | Y8: =VLOOKUP($B8,'[1]TK KHOILUONG'!$B:$AH,24,0) -> 0 | Z8: =VLOOKUP($B8,'[1]TK KHOILUONG'!$B:$AH,25,0) -> 0 | AA8: =VLOOKUP($B8,'[1]TK KHOILUONG'!$B:$AH,26,0) -> 0 | AB8: =VLOOKUP($B8,'[1]TK KHOILUONG'!$B:$AH,27,0) -> 0 | AC8: =VLOOKUP($B8,'[1]TK KHOILUONG'!$B:$AH,28,0) -> 0 | AD8: =VLOOKUP($B8,'[1]TK KHOILUONG'!$B:$AH,29,0) -> 0 | AE8: =VLOOKUP($B8,'[1]TK KHOILUONG'!$B:$AH,30,0) -> 0 | AF8: =VLOOKUP($B8,'[1]TK KHOILUONG'!$B:$AH,31,0) -> 0 | AG8: =VLOOKUP($B8,'[1]TK KHOILUONG'!$B:$AH,32,0) -> 2.4 | AH8: =IF(D8="","",ROUND(I8+N8+R8+V8+Y8+AB8+AE8+SUM(AF8:AG8),2)) -> 30.75
A9: =IF(D9="","",SUBTOTAL(3,$D$4:$D9)) -> 2 | B9: 01012003 | C9: Khoa CN Cơ khí | D9: Chung Trần Thế Vinh | E9: =VLOOKUP($B9,'[1]TK KHOILUONG'!$B:$AH,4,0) -> 2 | F9: =VLOOKUP($B9,'[1]TK KHOILUONG'!$B:$AH,5,0) -> 0 | G9: =VLOOKUP($B9,'[1]TK KHOILUONG'!$B:$AH,6,0) -> 0 | H9: =VLOOKUP($B9,'[1]TK KHOILUONG'!$B:$AH,7,0) -> 0 | I9: =VLOOKUP($B9,'[1]TK KHOILUONG'!$B:$AH,8,0) -> 2 | J9: =VLOOKUP($B9,'[1]TK KHOILUONG'!$B:$AH,9,0) -> 0 | K9: =VLOOKUP($B9,'[1]TK KHOILUONG'!$B:$AH,10,0) -> 0 | L9: =VLOOKUP($B9,'[1]TK KHOILUONG'!$B:$AH,11,0) -> 0 | M9: =VLOOKUP($B9,'[1]TK KHOILUONG'!$B:$AH,12,0) -> 0 | N9: =VLOOKUP($B9,'[1]TK KHOILUONG'!$B:$AH,13,0) -> 0 | O9: =VLOOKUP($B9,'[1]TK KHOILUONG'!$B:$AH,14,0) -> 16 | P9: =VLOOKUP($B9,'[1]TK KHOILUONG'!$B:$AH,15,0) -> 118 | Q9: =VLOOKUP($B9,'[1]TK KHOILUONG'!$B:$AH,16,0) -> 45 | R9: =VLOOKUP($B9,'[1]TK KHOILUONG'!$B:$AH,17,0) -> 4.45 | S9: =VLOOKUP($B9,'[1]TK KHOILUONG'!$B:$AH,18,0) -> 0 | T9: =VLOOKUP($B9,'[1]TK KHOILUONG'!$B:$AH,19,0) -> 0 | U9: =VLOOKUP($B9,'[1]TK KHOILUONG'!$B:$AH,20,0) -> 0 | V9: =VLOOKUP($B9,'[1]TK KHOILUONG'!$B:$AH,21,0) -> 0 | W9: =VLOOKUP($B9,'[1]TK KHOILUONG'!$B:$AH,22,0) -> 0 | X9: =VLOOKUP($B9,'[1]TK KHOILUONG'!$B:$AH,23,0) -> 0 | Y9: =VLOOKUP($B9,'[1]TK KHOILUONG'!$B:$AH,24,0) -> 0 | Z9: =VLOOKUP($B9,'[1]TK KHOILUONG'!$B:$AH,25,0) -> 0 | AA9: =VLOOKUP($B9,'[1]TK KHOILUONG'!$B:$AH,26,0) -> 0 | AB9: =VLOOKUP($B9,'[1]TK KHOILUONG'!$B:$AH,27,0) -> 0 | AC9: =VLOOKUP($B9,'[1]TK KHOILUONG'!$B:$AH,28,0) -> 0 | AD9: =VLOOKUP($B9,'[1]TK KHOILUONG'!$B:$AH,29,0) -> 0 | AE9: =VLOOKUP($B9,'[1]TK KHOILUONG'!$B:$AH,30,0) -> 0 | AF9: =VLOOKUP($B9,'[1]TK KHOILUONG'!$B:$AH,31,0) -> 0 | AG9: =VLOOKUP($B9,'[1]TK KHOILUONG'!$B:$AH,32,0) -> 26.4 | AH9: =IF(D9="","",ROUND(I9+N9+R9+V9+Y9+AB9+AE9+SUM(AF9:AG9),2)) -> 32.85
A10: =IF(D10="","",SUBTOTAL(3,$D$4:$D10)) -> 3 | B10: 01012005 | C10: Khoa CN Cơ khí | D10: Đỗ Thị Phương Khanh | E10: =VLOOKUP($B10,'[1]TK KHOILUONG'!$B:$AH,4,0) -> 0 | F10: =VLOOKUP($B10,'[1]TK KHOILUONG'!$B:$AH,5,0) -> 4 | G10: =VLOOKUP($B10,'[1]TK KHOILUONG'!$B:$AH,6,0) -> 0 | H10: =VLOOKUP($B10,'[1]TK KHOILUONG'!$B:$AH,7,0) -> 0 | I10: =VLOOKUP($B10,'[1]TK KHOILUONG'!$B:$AH,8,0) -> 8 | J10: =VLOOKUP($B10,'[1]TK KHOILUONG'!$B:$AH,9,0) -> 12.8 | K10: =VLOOKUP($B10,'[1]TK KHOILUONG'!$B:$AH,10,0) -> 3.6 | L10: =VLOOKUP($B10,'[1]TK KHOILUONG'!$B:$AH,11,0) -> 0 | M10: =VLOOKUP($B10,'[1]TK KHOILUONG'!$B:$AH,12,0) -> 0 | N10: =VLOOKUP($B10,'[1]TK KHOILUONG'!$B:$AH,13,0) -> 16.4 | O10: =VLOOKUP($B10,'[1]TK KHOILUONG'!$B:$AH,14,0) -> 80 | P10: =VLOOKUP($B10,'[1]TK KHOILUONG'!$B:$AH,15,0) -> 71 | Q10: =VLOOKUP($B10,'[1]TK KHOILUONG'!$B:$AH,16,0) -> 22 | R10: =VLOOKUP($B10,'[1]TK KHOILUONG'!$B:$AH,17,0) -> 6.45 | S10: =VLOOKUP($B10,'[1]TK KHOILUONG'!$B:$AH,18,0) -> 0 | T10: =VLOOKUP($B10,'[1]TK KHOILUONG'!$B:$AH,19,0) -> 0 | U10: =VLOOKUP($B10,'[1]TK KHOILUONG'!$B:$AH,20,0) -> 0 | V10: =VLOOKUP($B10,'[1]TK KHOILUONG'!$B:$AH,21,0) -> 0 | W10: =VLOOKUP($B10,'[1]TK KHOILUONG'!$B:$AH,22,0) -> 0 | X10: =VLOOKUP($B10,'[1]TK KHOILUONG'!$B:$AH,23,0) -> 0 | Y10: =VLOOKUP($B10,'[1]TK KHOILUONG'!$B:$AH,24,0) -> 0 | Z10: =VLOOKUP($B10,'[1]TK KHOILUONG'!$B:$AH,25,0) -> 0 | AA10: =VLOOKUP($B10,'[1]TK KHOILUONG'!$B:$AH,26,0) -> 0 | AB10: =VLOOKUP($B10,'[1]TK KHOILUONG'!$B:$AH,27,0) -> 0 | AC10: =VLOOKUP($B10,'[1]TK KHOILUONG'!$B:$AH,28,0) -> 0 | AD10: =VLOOKUP($B10,'[1]TK KHOILUONG'!$B:$AH,29,0) -> 0 | AE10: =VLOOKUP($B10,'[1]TK KHOILUONG'!$B:$AH,30,0) -> 0 | AF10: =VLOOKUP($B10,'[1]TK KHOILUONG'!$B:$AH,31,0) -> 0 | AG10: =VLOOKUP($B10,'[1]TK KHOILUONG'!$B:$AH,32,0) -> 2.4 | AH10: =IF(D10="","",ROUND(I10+N10+R10+V10+Y10+AB10+AE10+SUM(AF10:AG10),2)) -> 33.25
A11: =IF(D11="","",SUBTOTAL(3,$D$4:$D11)) -> 4 | B11: 01012014 | C11: Khoa CN Cơ khí | D11: Dương Minh Chung | E11: =VLOOKUP($B11,'[1]TK KHOILUONG'!$B:$AH,4,0) -> 4 | F11: =VLOOKUP($B11,'[1]TK KHOILUONG'!$B:$AH,5,0) -> 0 | G11: =VLOOKUP($B11,'[1]TK KHOILUONG'!$B:$AH,6,0) -> 0 | H11: =VLOOKUP($B11,'[1]TK KHOILUONG'!$B:$AH,7,0) -> 0 | I11: =VLOOKUP($B11,'[1]TK KHOILUONG'!$B:$AH,8,0) -> 4 | J11: =VLOOKUP($B11,'[1]TK KHOILUONG'!$B:$AH,9,0) -> 10.8 | K11: =VLOOKUP($B11,'[1]TK KHOILUONG'!$B:$AH,10,0) -> 0 | L11: =VLOOKUP($B11,'[1]TK KHOILUONG'!$B:$AH,11,0) -> 0 | M11: =VLOOKUP($B11,'[1]TK KHOILUONG'!$B:$AH,12,0) -> 0 | N11: =VLOOKUP($B11,'[1]TK KHOILUONG'!$B:$AH,13,0) -> 10.8 | O11: =VLOOKUP($B11,'[1]TK KHOILUONG'!$B:$AH,14,0) -> 93 | P11: =VLOOKUP($B11,'[1]TK KHOILUONG'!$B:$AH,15,0) -> 65 | Q11: =VLOOKUP($B11,'[1]TK KHOILUONG'!$B:$AH,16,0) -> 40 | R11: =VLOOKUP($B11,'[1]TK KHOILUONG'!$B:$AH,17,0) -> 5.9 | S11: =VLOOKUP($B11,'[1]TK KHOILUONG'!$B:$AH,18,0) -> 0 | T11: =VLOOKUP($B11,'[1]TK KHOILUONG'!$B:$AH,19,0) -> 0 | U11: =VLOOKUP($B11,'[1]TK KHOILUONG'!$B:$AH,20,0) -> 0 | V11: =VLOOKUP($B11,'[1]TK KHOILUONG'!$B:$AH,21,0) -> 0 | W11: =VLOOKUP($B11,'[1]TK KHOILUONG'!$B:$AH,22,0) -> 0 | X11: =VLOOKUP($B11,'[1]TK KHOILUONG'!$B:$AH,23,0) -> 0 | Y11: =VLOOKUP($B11,'[1]TK KHOILUONG'!$B:$AH,24,0) -> 0 | Z11: =VLOOKUP($B11,'[1]TK KHOILUONG'!$B:$AH,25,0) -> 0 | AA11: =VLOOKUP($B11,'[1]TK KHOILUONG'!$B:$AH,26,0) -> 0 | AB11: =VLOOKUP($B11,'[1]TK KHOILUONG'!$B:$AH,27,0) -> 0 | AC11: =VLOOKUP($B11,'[1]TK KHOILUONG'!$B:$AH,28,0) -> 0 | AD11: =VLOOKUP($B11,'[1]TK KHOILUONG'!$B:$AH,29,0) -> 0 | AE11: =VLOOKUP($B11,'[1]TK KHOILUONG'!$B:$AH,30,0) -> 0 | AF11: =VLOOKUP($B11,'[1]TK KHOILUONG'!$B:$AH,31,0) -> 0 | AG11: =VLOOKUP($B11,'[1]TK KHOILUONG'!$B:$AH,32,0) -> 0 | AH11: =IF(D11="","",ROUND(I11+N11+R11+V11+Y11+AB11+AE11+SUM(AF11:AG11),2)) -> 20.7
A12: =IF(D12="","",SUBTOTAL(3,$D$4:$D12)) -> 5 | B12: 01012028 | C12: Khoa CN Cơ khí | D12: Dương Thị Hồng | E12: =VLOOKUP($B12,'[1]TK KHOILUONG'!$B:$AH,4,0) -> 10 | F12: =VLOOKUP($B12,'[1]TK KHOILUONG'!$B:$AH,5,0) -> 0 | G12: =VLOOKUP($B12,'[1]TK KHOILUONG'!$B:$AH,6,0) -> 0 | H12: =VLOOKUP($B12,'[1]TK KHOILUONG'!$B:$AH,7,0) -> 0 | I12: =VLOOKUP($B12,'[1]TK KHOILUONG'!$B:$AH,8,0) -> 10 | J12: =VLOOKUP($B12,'[1]TK KHOILUONG'!$B:$AH,9,0) -> 3.6 | K12: =VLOOKUP($B12,'[1]TK KHOILUONG'!$B:$AH,10,0) -> 0 | L12: =VLOOKUP($B12,'[1]TK KHOILUONG'!$B:$AH,11,0) -> 0 | M12: =VLOOKUP($B12,'[1]TK KHOILUONG'!$B:$AH,12,0) -> 0 | N12: =VLOOKUP($B12,'[1]TK KHOILUONG'!$B:$AH,13,0) -> 3.6 | O12: =VLOOKUP($B12,'[1]TK KHOILUONG'!$B:$AH,14,0) -> 489 | P12: =VLOOKUP($B12,'[1]TK KHOILUONG'!$B:$AH,15,0) -> 529 | Q12: =VLOOKUP($B12,'[1]TK KHOILUONG'!$B:$AH,16,0) -> 515 | R12: =VLOOKUP($B12,'[1]TK KHOILUONG'!$B:$AH,17,0) -> 25.15 | S12: =VLOOKUP($B12,'[1]TK KHOILUONG'!$B:$AH,18,0) -> 0 | T12: =VLOOKUP($B12,'[1]TK KHOILUONG'!$B:$AH,19,0) -> 0 | U12: =VLOOKUP($B12,'[1]TK KHOILUONG'!$B:$AH,20,0) -> 0 | V12: =VLOOKUP($B12,'[1]TK KHOILUONG'!$B:$AH,21,0) -> 0 | W12: =VLOOKUP($B12,'[1]TK KHOILUONG'!$B:$AH,22,0) -> 0 | X12: =VLOOKUP($B12,'[1]TK KHOILUONG'!$B:$AH,23,0) -> 0 | Y12: =VLOOKUP($B12,'[1]TK KHOILUONG'!$B:$AH,24,0) -> 0 | Z12: =VLOOKUP($B12,'[1]TK KHOILUONG'!$B:$AH,25,0) -> 0 | AA12: =VLOOKUP($B12,'[1]TK KHOILUONG'!$B:$AH,26,0) -> 0 | AB12: =VLOOKUP($B12,'[1]TK KHOILUONG'!$B:$AH,27,0) -> 0 | AC12: =VLOOKUP($B12,'[1]TK KHOILUONG'!$B:$AH,28,0) -> 0 | AD12: =VLOOKUP($B12,'[1]TK KHOILUONG'!$B:$AH,29,0) -> 0 | AE12: =VLOOKUP($B12,'[1]TK KHOILUONG'!$B:$AH,30,0) -> 0 | AF12: =VLOOKUP($B12,'[1]TK KHOILUONG'!$B:$AH,31,0) -> 0 | AG12: =VLOOKUP($B12,'[1]TK KHOILUONG'!$B:$AH,32,0) -> 0 | AH12: =IF(D12="","",ROUND(I12+N12+R12+V12+Y12+AB12+AE12+SUM(AF12:AG12),2)) -> 38.75
A13: =IF(D13="","",SUBTOTAL(3,$D$4:$D13)) -> 6 | B13: 01012027 | C13: Khoa CN Cơ khí | D13: Giáp Đức Nhận | E13: =VLOOKUP($B13,'[1]TK KHOILUONG'!$B:$AH,4,0) -> 0 | F13: =VLOOKUP($B13,'[1]TK KHOILUONG'!$B:$AH,5,0) -> 0 | G13: =VLOOKUP($B13,'[1]TK KHOILUONG'!$B:$AH,6,0) -> 0 | H13: =VLOOKUP($B13,'[1]TK KHOILUONG'!$B:$AH,7,0) -> 0 | I13: =VLOOKUP($B13,'[1]TK KHOILUONG'!$B:$AH,8,0) -> 0 | J13: =VLOOKUP($B13,'[1]TK KHOILUONG'!$B:$AH,9,0) -> 0 | K13: =VLOOKUP($B13,'[1]TK KHOILUONG'!$B:$AH,10,0) -> 0 | L13: =VLOOKUP($B13,'[1]TK KHOILUONG'!$B:$AH,11,0) -> 0 | M13: =VLOOKUP($B13,'[1]TK KHOILUONG'!$B:$AH,12,0) -> 0 | N13: =VLOOKUP($B13,'[1]TK KHOILUONG'!$B:$AH,13,0) -> 0 | O13: =VLOOKUP($B13,'[1]TK KHOILUONG'!$B:$AH,14,0) -> 0 | P13: =VLOOKUP($B13,'[1]TK KHOILUONG'!$B:$AH,15,0) -> 0 | Q13: =VLOOKUP($B13,'[1]TK KHOILUONG'!$B:$AH,16,0) -> 0 | R13: =VLOOKUP($B13,'[1]TK KHOILUONG'!$B:$AH,17,0) -> 0 | S13: =VLOOKUP($B13,'[1]TK KHOILUONG'!$B:$AH,18,0) -> 0 | T13: =VLOOKUP($B13,'[1]TK KHOILUONG'!$B:$AH,19,0) -> 0 | U13: =VLOOKUP($B13,'[1]TK KHOILUONG'!$B:$AH,20,0) -> 0 | V13: =VLOOKUP($B13,'[1]TK KHOILUONG'!$B:$AH,21,0) -> 0 | W13: =VLOOKUP($B13,'[1]TK KHOILUONG'!$B:$AH,22,0) -> 0 | X13: =VLOOKUP($B13,'[1]TK KHOILUONG'!$B:$AH,23,0) -> 0 | Y13: =VLOOKUP($B13,'[1]TK KHOILUONG'!$B:$AH,24,0) -> 0 | Z13: =VLOOKUP($B13,'[1]TK KHOILUONG'!$B:$AH,25,0) -> 0 | AA13: =VLOOKUP($B13,'[1]TK KHOILUONG'!$B:$AH,26,0) -> 0 | AB13: =VLOOKUP($B13,'[1]TK KHOILUONG'!$B:$AH,27,0) -> 0 | AC13: =VLOOKUP($B13,'[1]TK KHOILUONG'!$B:$AH,28,0) -> 0 | AD13: =VLOOKUP($B13,'[1]TK KHOILUONG'!$B:$AH,29,0) -> 0 | AE13: =VLOOKUP($B13,'[1]TK KHOILUONG'!$B:$AH,30,0) -> 0 | AF13: =VLOOKUP($B13,'[1]TK KHOILUONG'!$B:$AH,31,0) -> 0 | AG13: =VLOOKUP($B13,'[1]TK KHOILUONG'!$B:$AH,32,0) -> 0 | AH13: =IF(D13="","",ROUND(I13+N13+R13+V13+Y13+AB13+AE13+SUM(AF13:AG13),2)) -> 0
A14: =IF(D14="","",SUBTOTAL(3,$D$4:$D14)) -> 7 | B14: 01012030 | C14: Khoa CN Cơ khí | D14: Hồ Nhật Linh | E14: =VLOOKUP($B14,'[1]TK KHOILUONG'!$B:$AH,4,0) -> 0 | F14: =VLOOKUP($B14,'[1]TK KHOILUONG'!$B:$AH,5,0) -> 0 | G14: =VLOOKUP($B14,'[1]TK KHOILUONG'!$B:$AH,6,0) -> 0 | H14: =VLOOKUP($B14,'[1]TK KHOILUONG'!$B:$AH,7,0) -> 0 | I14: =VLOOKUP($B14,'[1]TK KHOILUONG'!$B:$AH,8,0) -> 0 | J14: =VLOOKUP($B14,'[1]TK KHOILUONG'!$B:$AH,9,0) -> 0 | K14: =VLOOKUP($B14,'[1]TK KHOILUONG'!$B:$AH,10,0) -> 0 | L14: =VLOOKUP($B14,'[1]TK KHOILUONG'!$B:$AH,11,0) -> 0 | M14: =VLOOKUP($B14,'[1]TK KHOILUONG'!$B:$AH,12,0) -> 0 | N14: =VLOOKUP($B14,'[1]TK KHOILUONG'!$B:$AH,13,0) -> 0 | O14: =VLOOKUP($B14,'[1]TK KHOILUONG'!$B:$AH,14,0) -> 0 | P14: =VLOOKUP($B14,'[1]TK KHOILUONG'!$B:$AH,15,0) -> 0 | Q14: =VLOOKUP($B14,'[1]TK KHOILUONG'!$B:$AH,16,0) -> 0 | R14: =VLOOKUP($B14,'[1]TK KHOILUONG'!$B:$AH,17,0) -> 0 | S14: =VLOOKUP($B14,'[1]TK KHOILUONG'!$B:$AH,18,0) -> 0 | T14: =VLOOKUP($B14,'[1]TK KHOILUONG'!$B:$AH,19,0) -> 0 | U14: =VLOOKUP($B14,'[1]TK KHOILUONG'!$B:$AH,20,0) -> 0 | V14: =VLOOKUP($B14,'[1]TK KHOILUONG'!$B:$AH,21,0) -> 0 | W14: =VLOOKUP($B14,'[1]TK KHOILUONG'!$B:$AH,22,0) -> 0 | X14: =VLOOKUP($B14,'[1]TK KHOILUONG'!$B:$AH,23,0) -> 0 | Y14: =VLOOKUP($B14,'[1]TK KHOILUONG'!$B:$AH,24,0) -> 0 | Z14: =VLOOKUP($B14,'[1]TK KHOILUONG'!$B:$AH,25,0) -> 0 | AA14: =VLOOKUP($B14,'[1]TK KHOILUONG'!$B:$AH,26,0) -> 0 | AB14: =VLOOKUP($B14,'[1]TK KHOILUONG'!$B:$AH,27,0) -> 0 | AC14: =VLOOKUP($B14,'[1]TK KHOILUONG'!$B:$AH,28,0) -> 0 | AD14: =VLOOKUP($B14,'[1]TK KHOILUONG'!$B:$AH,29,0) -> 0 | AE14: =VLOOKUP($B14,'[1]TK KHOILUONG'!$B:$AH,30,0) -> 0 | AF14: =VLOOKUP($B14,'[1]TK KHOILUONG'!$B:$AH,31,0) -> 0 | AG14: =VLOOKUP($B14,'[1]TK KHOILUONG'!$B:$AH,32,0) -> 0 | AH14: =IF(D14="","",ROUND(I14+N14+R14+V14+Y14+AB14+AE14+SUM(AF14:AG14),2)) -> 0
A15: =IF(D15="","",SUBTOTAL(3,$D$4:$D15)) -> 8 | B15: 01012016 | C15: Khoa CN Cơ khí | D15: Lư Thị Yến Vũ | E15: =VLOOKUP($B15,'[1]TK KHOILUONG'!$B:$AH,4,0) -> 4 | F15: =VLOOKUP($B15,'[1]TK KHOILUONG'!$B:$AH,5,0) -> 3 | G15: =VLOOKUP($B15,'[1]TK KHOILUONG'!$B:$AH,6,0) -> 0 | H15: =VLOOKUP($B15,'[1]TK KHOILUONG'!$B:$AH,7,0) -> 0 | I15: =VLOOKUP($B15,'[1]TK KHOILUONG'!$B:$AH,8,0) -> 10 | J15: =VLOOKUP($B15,'[1]TK KHOILUONG'!$B:$AH,9,0) -> 0 | K15: =VLOOKUP($B15,'[1]TK KHOILUONG'!$B:$AH,10,0) -> 14.8 | L15: =VLOOKUP($B15,'[1]TK KHOILUONG'!$B:$AH,11,0) -> 0 | M15: =VLOOKUP($B15,'[1]TK KHOILUONG'!$B:$AH,12,0) -> 0 | N15: =VLOOKUP($B15,'[1]TK KHOILUONG'!$B:$AH,13,0) -> 14.8 | O15: =VLOOKUP($B15,'[1]TK KHOILUONG'!$B:$AH,14,0) -> 114 | P15: =VLOOKUP($B15,'[1]TK KHOILUONG'!$B:$AH,15,0) -> 187 | Q15: =VLOOKUP($B15,'[1]TK KHOILUONG'!$B:$AH,16,0) -> 152 | R15: =VLOOKUP($B15,'[1]TK KHOILUONG'!$B:$AH,17,0) -> 7.45 | S15: =VLOOKUP($B15,'[1]TK KHOILUONG'!$B:$AH,18,0) -> 181 | T15: =VLOOKUP($B15,'[1]TK KHOILUONG'!$B:$AH,19,0) -> 201 | U15: =VLOOKUP($B15,'[1]TK KHOILUONG'!$B:$AH,20,0) -> 181 | V15: =VLOOKUP($B15,'[1]TK KHOILUONG'!$B:$AH,21,0) -> 20.1 | W15: =VLOOKUP($B15,'[1]TK KHOILUONG'!$B:$AH,22,0) -> 0 | X15: =VLOOKUP($B15,'[1]TK KHOILUONG'!$B:$AH,23,0) -> 0 | Y15: =VLOOKUP($B15,'[1]TK KHOILUONG'!$B:$AH,24,0) -> 0 | Z15: =VLOOKUP($B15,'[1]TK KHOILUONG'!$B:$AH,25,0) -> 0 | AA15: =VLOOKUP($B15,'[1]TK KHOILUONG'!$B:$AH,26,0) -> 0 | AB15: =VLOOKUP($B15,'[1]TK KHOILUONG'!$B:$AH,27,0) -> 0 | AC15: =VLOOKUP($B15,'[1]TK KHOILUONG'!$B:$AH,28,0) -> 0 | AD15: =VLOOKUP($B15,'[1]TK KHOILUONG'!$B:$AH,29,0) -> 0 | AE15: =VLOOKUP($B15,'[1]TK KHOILUONG'!$B:$AH,30,0) -> 0 | AF15: =VLOOKUP($B15,'[1]TK KHOILUONG'!$B:$AH,31,0) -> 0 | AG15: =VLOOKUP($B15,'[1]TK KHOILUONG'!$B:$AH,32,0) -> 1.6 | AH15: =IF(D15="","",ROUND(I15+N15+R15+V15+Y15+AB15+AE15+SUM(AF15:AG15),2)) -> 53.95
... A257: =IF(D257="","",SUBTOTAL(3,$D$4:$D257)) -> 29 | B257: 01017003 | C257: TT Truyền thông - Thư viện | D257: Nguyễn Hữu Thiện | E257: =VLOOKUP($B257,'[1]TK KHOILUONG'!$B:$AH,4,0) -> 0 | F257: =VLOOKUP($B257,'[1]TK KHOILUONG'!$B:$AH,5,0) -> 0 | G257: =VLOOKUP($B257,'[1]TK KHOILUONG'!$B:$AH,6,0) -> 0 | H257: =VLOOKUP($B257,'[1]TK KHOILUONG'!$B:$AH,7,0) -> 0 | I257: =VLOOKUP($B257,'[1]TK KHOILUONG'!$B:$AH,8,0) -> 0 | J257: =VLOOKUP($B257,'[1]TK KHOILUONG'!$B:$AH,9,0) -> 0 | K257: =VLOOKUP($B257,'[1]TK KHOILUONG'!$B:$AH,10,0) -> 0 | L257: =VLOOKUP($B257,'[1]TK KHOILUONG'!$B:$AH,11,0) -> 0 | M257: =VLOOKUP($B257,'[1]TK KHOILUONG'!$B:$AH,12,0) -> 0 | N257: =VLOOKUP($B257,'[1]TK KHOILUONG'!$B:$AH,13,0) -> 0 | O257: =VLOOKUP($B257,'[1]TK KHOILUONG'!$B:$AH,14,0) -> 37 | P257: =VLOOKUP($B257,'[1]TK KHOILUONG'!$B:$AH,15,0) -> 32 | Q257: =VLOOKUP($B257,'[1]TK KHOILUONG'!$B:$AH,16,0) -> 33 | R257: =VLOOKUP($B257,'[1]TK KHOILUONG'!$B:$AH,17,0) -> 1.8 | S257: =VLOOKUP($B257,'[1]TK KHOILUONG'!$B:$AH,18,0) -> 0 | T257: =VLOOKUP($B257,'[1]TK KHOILUONG'!$B:$AH,19,0) -> 0 | U257: =VLOOKUP($B257,'[1]TK KHOILUONG'!$B:$AH,20,0) -> 0 | V257: =VLOOKUP($B257,'[1]TK KHOILUONG'!$B:$AH,21,0) -> 0 | W257: =VLOOKUP($B257,'[1]TK KHOILUONG'!$B:$AH,22,0) -> 0 | X257: =VLOOKUP($B257,'[1]TK KHOILUONG'!$B:$AH,23,0) -> 0 | Y257: =VLOOKUP($B257,'[1]TK KHOILUONG'!$B:$AH,24,0) -> 0 | Z257: =VLOOKUP($B257,'[1]TK KHOILUONG'!$B:$AH,25,0) -> 0 | AA257: =VLOOKUP($B257,'[1]TK KHOILUONG'!$B:$AH,26,0) -> 0 | AB257: =VLOOKUP($B257,'[1]TK KHOILUONG'!$B:$AH,27,0) -> 0 | AC257: =VLOOKUP($B257,'[1]TK KHOILUONG'!$B:$AH,28,0) -> 0 | AD257: =VLOOKUP($B257,'[1]TK KHOILUONG'!$B:$AH,29,0) -> 0 | AE257: =VLOOKUP($B257,'[1]TK KHOILUONG'!$B:$AH,30,0) -> 0 | AF257: =VLOOKUP($B257,'[1]TK KHOILUONG'!$B:$AH,31,0) -> 0 | AG257: =VLOOKUP($B257,'[1]TK KHOILUONG'!$B:$AH,32,0) -> 0 | AH257: =IF(D257="","",ROUND(I257+N257+R257+V257+Y257+AB257+AE257+SUM(AF257:AG257),2)) -> 1.8
A258: =IF(D258="","",SUBTOTAL(3,$D$4:$D258))
A259: =IF(D259="","",SUBTOTAL(3,$D$4:$D259))
E260: =SUBTOTAL(9,E2:E259) -> 84 | F260: =SUBTOTAL(9,F2:F259) -> 15 | G260: =SUBTOTAL(9,G2:G259) -> 0 | H260: =SUBTOTAL(9,H2:H259) -> 0 | I260: =SUBTOTAL(9,I2:I259) -> 114 | J260: =SUBTOTAL(9,J2:J259) -> 174.4 | K260: =SUBTOTAL(9,K2:K259) -> 108.4 | L260: =SUBTOTAL(9,L2:L259) -> 0 | ... AH260: =SUBTOTAL(9,AH2:AH259) -> 767.85

Sheet HK2
A1: STT | B1: Mã nhân sự | C1: Đơn vị | D1: HỌ VÀ TÊN GIẢNG VIÊN | E1: ĐỀ THI | J1: COI THI | O1: CHẤM THI KTHP | W1: CHẤM THI TỐT NGHIỆP | AF1: DỰ PHÒNG KỲ THI | AG1: GIÁM SÁT | AH1: TỔNG KHỐI LƯỢNG | AI1: =SUBTOTAL(9,AH:AH) -> 440.75
O2: LÝ THUYẾT | S2: TIỂU LUẬN | W2: LÝ THUYẾT | Z2: T.HÀNH CHUNG | AC2: T.HÀNH RIÊNG
E3: SL ĐỀ LT KTHP | F3: SL ĐỀ TN KTHP | G3: SL ĐỀ LT TN | H3: SL ĐỀ TH TN | I3: KL SOẠN ĐỀ (tiết) | J3: KTHPLT COITHI 1 | K3: KTHPLT COITHI 2 | L3: ThiTN COITHI 1 | M3: ThiTN COITHI 2 | N3: KL COITHI (tiết) | O3: SL BÀI LT CHẤM 1 | P3: SL BÀI LT CHẤM 2 | Q3: SL CHẤM LT NGHĨA VỤ | R3: KL CHẤM LT (tiết) | S3: SL BÀI TL CHẤM 1 | T3: SL BÀI TL CHẤM 2 | U3: SL CHẤM TL NGHĨA VỤ | V3: KL CHẤM TL (tiết) | W3: SL BÀI LT CHẤM 1 | X3: SL BÀI LT CHẤM 2 | Y3: KL CHẤM LT (tiết) | Z3: SL BÀI TL CHẤM 1 | AA3: SL BÀI TL CHẤM 2 | AB3: KL CHẤM TL (tiết) | AC3: SL BÀI TL CHẤM 1 | AD3: SL BÀI TL CHẤM 2 | AE3: KL CHẤM TL (tiết)
A4: =IF(D4="","",SUBTOTAL(3,$D$4:$D4)) -> 0 | B4: 01002001 | C4: Ban Giám hiệu | D4: Đinh Hồng Minh | E4: =VLOOKUP($B4,'[2]TK KHOILUONG'!$B:$AH,4,0) -> 0 | F4: =VLOOKUP($B4,'[2]TK KHOILUONG'!$B:$AH,5,0) -> 0 | G4: =VLOOKUP($B4,'[2]TK KHOILUONG'!$B:$AH,6,0) -> 0 | H4: =VLOOKUP($B4,'[2]TK KHOILUONG'!$B:$AH,7,0) -> 0 | I4: =VLOOKUP($B4,'[2]TK KHOILUONG'!$B:$AH,8,0) -> 0 | J4: =VLOOKUP($B4,'[2]TK KHOILUONG'!$B:$AH,9,0) -> 0 | K4: =VLOOKUP($B4,'[2]TK KHOILUONG'!$B:$AH,10,0) -> 0 | L4: =VLOOKUP($B4,'[2]TK KHOILUONG'!$B:$AH,11,0) -> 0 | M4: =VLOOKUP($B4,'[2]TK KHOILUONG'!$B:$AH,12,0) -> 0 | N4: =VLOOKUP($B4,'[2]TK KHOILUONG'!$B:$AH,13,0) -> 0 | O4: =VLOOKUP($B4,'[2]TK KHOILUONG'!$B:$AH,14,0) -> 0 | P4: =VLOOKUP($B4,'[2]TK KHOILUONG'!$B:$AH,15,0) -> 0 | Q4: =VLOOKUP($B4,'[2]TK KHOILUONG'!$B:$AH,16,0) -> 0 | R4: =VLOOKUP($B4,'[2]TK KHOILUONG'!$B:$AH,17,0) -> 0 | S4: =VLOOKUP($B4,'[2]TK KHOILUONG'!$B:$AH,18,0) -> 0 | T4: =VLOOKUP($B4,'[2]TK KHOILUONG'!$B:$AH,19,0) -> 0 | U4: =VLOOKUP($B4,'[2]TK KHOILUONG'!$B:$AH,20,0) -> 0 | V4: =VLOOKUP($B4,'[2]TK KHOILUONG'!$B:$AH,21,0) -> 0 | W4: =VLOOKUP($B4,'[2]TK KHOILUONG'!$B:$AH,22,0) -> 0 | X4: =VLOOKUP($B4,'[2]TK KHOILUONG'!$B:$AH,23,0) -> 0 | Y4: =VLOOKUP($B4,'[2]TK KHOILUONG'!$B:$AH,24,0) -> 0 | Z4: =VLOOKUP($B4,'[2]TK KHOILUONG'!$B:$AH,25,0) -> 0 | AA4: =VLOOKUP($B4,'[2]TK KHOILUONG'!$B:$AH,26,0) -> 0 | AB4: =VLOOKUP($B4,'[2]TK KHOILUONG'!$B:$AH,27,0) -> 0 | AC4: =VLOOKUP($B4,'[2]TK KHOILUONG'!$B:$AH,28,0) -> 0 | AD4: =VLOOKUP($B4,'[2]TK KHOILUONG'!$B:$AH,29,0) -> 0 | AE4: =VLOOKUP($B4,'[2]TK KHOILUONG'!$B:$AH,30,0) -> 0 | AF4: =VLOOKUP($B4,'[2]TK KHOILUONG'!$B:$AH,31,0) -> 0 | AG4: =VLOOKUP($B4,'[2]TK KHOILUONG'!$B:$AH,32,0) -> 0 | AH4: =IF(D4="","",ROUND(I4+N4+R4+V4+Y4+AB4+AE4+SUM(AF4:AG4),2)) -> 0
A5: =IF(D5="","",SUBTOTAL(3,$D$4:$D5)) -> 0 | B5: 01001006 | C5: Ban Giám hiệu | D5: Đinh Văn Đệ | E5: =VLOOKUP($B5,'[2]TK KHOILUONG'!$B:$AH,4,0) -> 0 | F5: =VLOOKUP($B5,'[2]TK KHOILUONG'!$B:$AH,5,0) -> 0 | G5: =VLOOKUP($B5,'[2]TK KHOILUONG'!$B:$AH,6,0) -> 0 | H5: =VLOOKUP($B5,'[2]TK KHOILUONG'!$B:$AH,7,0) -> 0 | I5: =VLOOKUP($B5,'[2]TK KHOILUONG'!$B:$AH,8,0) -> 0 | J5: =VLOOKUP($B5,'[2]TK KHOILUONG'!$B:$AH,9,0) -> 0 | K5: =VLOOKUP($B5,'[2]TK KHOILUONG'!$B:$AH,10,0) -> 0 | L5: =VLOOKUP($B5,'[2]TK KHOILUONG'!$B:$AH,11,0) -> 0 | M5: =VLOOKUP($B5,'[2]TK KHOILUONG'!$B:$AH,12,0) -> 0 | N5: =VLOOKUP($B5,'[2]TK KHOILUONG'!$B:$AH,13,0) -> 0 | O5: =VLOOKUP($B5,'[2]TK KHOILUONG'!$B:$AH,14,0) -> 54 | P5: =VLOOKUP($B5,'[2]TK KHOILUONG'!$B:$AH,15,0) -> 0 | Q5: =VLOOKUP($B5,'[2]TK KHOILUONG'!$B:$AH,16,0) -> 107 | R5: =VLOOKUP($B5,'[2]TK KHOILUONG'!$B:$AH,17,0) -> -2.65 | S5: =VLOOKUP($B5,'[2]TK KHOILUONG'!$B:$AH,18,0) -> 0 | T5: =VLOOKUP($B5,'[2]TK KHOILUONG'!$B:$AH,19,0) -> 0 | U5: =VLOOKUP($B5,'[2]TK KHOILUONG'!$B:$AH,20,0) -> 0 | V5: =VLOOKUP($B5,'[2]TK KHOILUONG'!$B:$AH,21,0) -> 0 | W5: =VLOOKUP($B5,'[2]TK KHOILUONG'!$B:$AH,22,0) -> 0 | X5: =VLOOKUP($B5,'[2]TK KHOILUONG'!$B:$AH,23,0) -> 0 | Y5: =VLOOKUP($B5,'[2]TK KHOILUONG'!$B:$AH,24,0) -> 0 | Z5: =VLOOKUP($B5,'[2]TK KHOILUONG'!$B:$AH,25,0) -> 0 | AA5: =VLOOKUP($B5,'[2]TK KHOILUONG'!$B:$AH,26,0) -> 0 | AB5: =VLOOKUP($B5,'[2]TK KHOILUONG'!$B:$AH,27,0) -> 0 | AC5: =VLOOKUP($B5,'[2]TK KHOILUONG'!$B:$AH,28,0) -> 0 | AD5: =VLOOKUP($B5,'[2]TK KHOILUONG'!$B:$AH,29,0) -> 0 | AE5: =VLOOKUP($B5,'[2]TK KHOILUONG'!$B:$AH,30,0) -> 0 | AF5: =VLOOKUP($B5,'[2]TK KHOILUONG'!$B:$AH,31,0) -> 0 | AG5: =VLOOKUP($B5,'[2]TK KHOILUONG'!$B:$AH,32,0) -> 0 | AH5: =IF(D5="","",ROUND(I5+N5+R5+V5+Y5+AB5+AE5+SUM(AF5:AG5),2)) -> -2.65
A6: =IF(D6="","",SUBTOTAL(3,$D$4:$D6)) -> 0 | B6: 01001003 | C6: Ban Giám hiệu | D6: Nguyễn Văn Dũng | E6: =VLOOKUP($B6,'[2]TK KHOILUONG'!$B:$AH,4,0) -> 0 | F6: =VLOOKUP($B6,'[2]TK KHOILUONG'!$B:$AH,5,0) -> 0 | G6: =VLOOKUP($B6,'[2]TK KHOILUONG'!$B:$AH,6,0) -> 0 | H6: =VLOOKUP($B6,'[2]TK KHOILUONG'!$B:$AH,7,0) -> 0 | I6: =VLOOKUP($B6,'[2]TK KHOILUONG'!$B:$AH,8,0) -> 0 | J6: =VLOOKUP($B6,'[2]TK KHOILUONG'!$B:$AH,9,0) -> 0 | K6: =VLOOKUP($B6,'[2]TK KHOILUONG'!$B:$AH,10,0) -> 0 | L6: =VLOOKUP($B6,'[2]TK KHOILUONG'!$B:$AH,11,0) -> 0 | M6: =VLOOKUP($B6,'[2]TK KHOILUONG'!$B:$AH,12,0) -> 0 | N6: =VLOOKUP($B6,'[2]TK KHOILUONG'!$B:$AH,13,0) -> 0 | O6: =VLOOKUP($B6,'[2]TK KHOILUONG'!$B:$AH,14,0) -> 0 | P6: =VLOOKUP($B6,'[2]TK KHOILUONG'!$B:$AH,15,0) -> 0 | Q6: =VLOOKUP($B6,'[2]TK KHOILUONG'!$B:$AH,16,0) -> 0 | R6: =VLOOKUP($B6,'[2]TK KHOILUONG'!$B:$AH,17,0) -> 0 | S6: =VLOOKUP($B6,'[2]TK KHOILUONG'!$B:$AH,18,0) -> 0 | T6: =VLOOKUP($B6,'[2]TK KHOILUONG'!$B:$AH,19,0) -> 0 | U6: =VLOOKUP($B6,'[2]TK KHOILUONG'!$B:$AH,20,0) -> 0 | V6: =VLOOKUP($B6,'[2]TK KHOILUONG'!$B:$AH,21,0) -> 0 | W6: =VLOOKUP($B6,'[2]TK KHOILUONG'!$B:$AH,22,0) -> 0 | X6: =VLOOKUP($B6,'[2]TK KHOILUONG'!$B:$AH,23,0) -> 0 | Y6: =VLOOKUP($B6,'[2]TK KHOILUONG'!$B:$AH,24,0) -> 0 | Z6: =VLOOKUP($B6,'[2]TK KHOILUONG'!$B:$AH,25,0) -> 0 | AA6: =VLOOKUP($B6,'[2]TK KHOILUONG'!$B:$AH,26,0) -> 0 | AB6: =VLOOKUP($B6,'[2]TK KHOILUONG'!$B:$AH,27,0) -> 0 | AC6: =VLOOKUP($B6,'[2]TK KHOILUONG'!$B:$AH,28,0) -> 0 | AD6: =VLOOKUP($B6,'[2]TK KHOILUONG'!$B:$AH,29,0) -> 0 | AE6: =VLOOKUP($B6,'[2]TK KHOILUONG'!$B:$AH,30,0) -> 0 | AF6: =VLOOKUP($B6,'[2]TK KHOILUONG'!$B:$AH,31,0) -> 0 | AG6: =VLOOKUP($B6,'[2]TK KHOILUONG'!$B:$AH,32,0) -> 0 | AH6: =IF(D6="","",ROUND(I6+N6+R6+V6+Y6+AB6+AE6+SUM(AF6:AG6),2)) -> 0
A7: =IF(D7="","",SUBTOTAL(3,$D$4:$D7)) -> 0 | B7: 01001001 | C7: Ban Giám hiệu | D7: Phạm Hữu Lộc | E7: =VLOOKUP($B7,'[2]TK KHOILUONG'!$B:$AH,4,0) -> 0 | F7: =VLOOKUP($B7,'[2]TK KHOILUONG'!$B:$AH,5,0) -> 0 | G7: =VLOOKUP($B7,'[2]TK KHOILUONG'!$B:$AH,6,0) -> 0 | H7: =VLOOKUP($B7,'[2]TK KHOILUONG'!$B:$AH,7,0) -> 0 | I7: =VLOOKUP($B7,'[2]TK KHOILUONG'!$B:$AH,8,0) -> 0 | J7: =VLOOKUP($B7,'[2]TK KHOILUONG'!$B:$AH,9,0) -> 0 | K7: =VLOOKUP($B7,'[2]TK KHOILUONG'!$B:$AH,10,0) -> 0 | L7: =VLOOKUP($B7,'[2]TK KHOILUONG'!$B:$AH,11,0) -> 0 | M7: =VLOOKUP($B7,'[2]TK KHOILUONG'!$B:$AH,12,0) -> 0 | N7: =VLOOKUP($B7,'[2]TK KHOILUONG'!$B:$AH,13,0) -> 0 | O7: =VLOOKUP($B7,'[2]TK KHOILUONG'!$B:$AH,14,0) -> 0 | P7: =VLOOKUP($B7,'[2]TK KHOILUONG'!$B:$AH,15,0) -> 0 | Q7: =VLOOKUP($B7,'[2]TK KHOILUONG'!$B:$AH,16,0) -> 0 | R7: =VLOOKUP($B7,'[2]TK KHOILUONG'!$B:$AH,17,0) -> 0 | S7: =VLOOKUP($B7,'[2]TK KHOILUONG'!$B:$AH,18,0) -> 0 | T7: =VLOOKUP($B7,'[2]TK KHOILUONG'!$B:$AH,19,0) -> 0 | U7: =VLOOKUP($B7,'[2]TK KHOILUONG'!$B:$AH,20,0) -> 0 | V7: =VLOOKUP($B7,'[2]TK KHOILUONG'!$B:$AH,21,0) -> 0 | W7: =VLOOKUP($B7,'[2]TK KHOILUONG'!$B:$AH,22,0) -> 0 | X7: =VLOOKUP($B7,'[2]TK KHOILUONG'!$B:$AH,23,0) -> 0 | Y7: =VLOOKUP($B7,'[2]TK KHOILUONG'!$B:$AH,24,0) -> 0 | Z7: =VLOOKUP($B7,'[2]TK KHOILUONG'!$B:$AH,25,0) -> 0 | AA7: =VLOOKUP($B7,'[2]TK KHOILUONG'!$B:$AH,26,0) -> 0 | AB7: =VLOOKUP($B7,'[2]TK KHOILUONG'!$B:$AH,27,0) -> 0 | AC7: =VLOOKUP($B7,'[2]TK KHOILUONG'!$B:$AH,28,0) -> 0 | AD7: =VLOOKUP($B7,'[2]TK KHOILUONG'!$B:$AH,29,0) -> 0 | AE7: =VLOOKUP($B7,'[2]TK KHOILUONG'!$B:$AH,30,0) -> 0 | AF7: =VLOOKUP($B7,'[2]TK KHOILUONG'!$B:$AH,31,0) -> 0 | AG7: =VLOOKUP($B7,'[2]TK KHOILUONG'!$B:$AH,32,0) -> 0 | AH7: =IF(D7="","",ROUND(I7+N7+R7+V7+Y7+AB7+AE7+SUM(AF7:AG7),2)) -> 0
A8: =IF(D8="","",SUBTOTAL(3,$D$4:$D8)) -> 1 | B8: 01012023 | C8: Khoa CN Cơ khí | D8: Bùi Anh Tuấn | E8: =VLOOKUP($B8,'[2]TK KHOILUONG'!$B:$AH,4,0) -> 7 | F8: =VLOOKUP($B8,'[2]TK KHOILUONG'!$B:$AH,5,0) -> 0 | G8: =VLOOKUP($B8,'[2]TK KHOILUONG'!$B:$AH,6,0) -> 0 | H8: =VLOOKUP($B8,'[2]TK KHOILUONG'!$B:$AH,7,0) -> 0 | I8: =VLOOKUP($B8,'[2]TK KHOILUONG'!$B:$AH,8,0) -> 7 | J8: =VLOOKUP($B8,'[2]TK KHOILUONG'!$B:$AH,9,0) -> 3.2 | K8: =VLOOKUP($B8,'[2]TK KHOILUONG'!$B:$AH,10,0) -> 9.6 | L8: =VLOOKUP($B8,'[2]TK KHOILUONG'!$B:$AH,11,0) -> 0 | M8: =VLOOKUP($B8,'[2]TK KHOILUONG'!$B:$AH,12,0) -> 0 | N8: =VLOOKUP($B8,'[2]TK KHOILUONG'!$B:$AH,13,0) -> 12.8 | O8: =VLOOKUP($B8,'[2]TK KHOILUONG'!$B:$AH,14,0) -> 134 | P8: =VLOOKUP($B8,'[2]TK KHOILUONG'!$B:$AH,15,0) -> 116 | Q8: =VLOOKUP($B8,'[2]TK KHOILUONG'!$B:$AH,16,0) -> 122 | R8: =VLOOKUP($B8,'[2]TK KHOILUONG'!$B:$AH,17,0) -> 6.4 | S8: =VLOOKUP($B8,'[2]TK KHOILUONG'!$B:$AH,18,0) -> 7 | T8: =VLOOKUP($B8,'[2]TK KHOILUONG'!$B:$AH,19,0) -> 52 | U8: =VLOOKUP($B8,'[2]TK KHOILUONG'!$B:$AH,20,0) -> 7 | V8: =VLOOKUP($B8,'[2]TK KHOILUONG'!$B:$AH,21,0) -> 5.2 | W8: =VLOOKUP($B8,'[2]TK KHOILUONG'!$B:$AH,22,0) -> 0 | X8: =VLOOKUP($B8,'[2]TK KHOILUONG'!$B:$AH,23,0) -> 0 | Y8: =VLOOKUP($B8,'[2]TK KHOILUONG'!$B:$AH,24,0) -> 0 | Z8: =VLOOKUP($B8,'[2]TK KHOILUONG'!$B:$AH,25,0) -> 0 | AA8: =VLOOKUP($B8,'[2]TK KHOILUONG'!$B:$AH,26,0) -> 0 | AB8: =VLOOKUP($B8,'[2]TK KHOILUONG'!$B:$AH,27,0) -> 0 | AC8: =VLOOKUP($B8,'[2]TK KHOILUONG'!$B:$AH,28,0) -> 0 | AD8: =VLOOKUP($B8,'[2]TK KHOILUONG'!$B:$AH,29,0) -> 0 | AE8: =VLOOKUP($B8,'[2]TK KHOILUONG'!$B:$AH,30,0) -> 0 | AF8: =VLOOKUP($B8,'[2]TK KHOILUONG'!$B:$AH,31,0) -> 0 | AG8: =VLOOKUP($B8,'[2]TK KHOILUONG'!$B:$AH,32,0) -> 0 | AH8: =IF(D8="","",ROUND(I8+N8+R8+V8+Y8+AB8+AE8+SUM(AF8:AG8),2)) -> 31.4
A9: =IF(D9="","",SUBTOTAL(3,$D$4:$D9)) -> 2 | B9: 01012003 | C9: Khoa CN Cơ khí | D9: Chung Trần Thế Vinh | E9: =VLOOKUP($B9,'[2]TK KHOILUONG'!$B:$AH,4,0) -> 4 | F9: =VLOOKUP($B9,'[2]TK KHOILUONG'!$B:$AH,5,0) -> 0 | G9: =VLOOKUP($B9,'[2]TK KHOILUONG'!$B:$AH,6,0) -> 0 | H9: =VLOOKUP($B9,'[2]TK KHOILUONG'!$B:$AH,7,0) -> 0 | I9: =VLOOKUP($B9,'[2]TK KHOILUONG'!$B:$AH,8,0) -> 4 | J9: =VLOOKUP($B9,'[2]TK KHOILUONG'!$B:$AH,9,0) -> 2.8 | K9: =VLOOKUP($B9,'[2]TK KHOILUONG'!$B:$AH,10,0) -> 0 | L9: =VLOOKUP($B9,'[2]TK KHOILUONG'!$B:$AH,11,0) -> 0 | M9: =VLOOKUP($B9,'[2]TK KHOILUONG'!$B:$AH,12,0) -> 0 | N9: =VLOOKUP($B9,'[2]TK KHOILUONG'!$B:$AH,13,0) -> 2.8 | O9: =VLOOKUP($B9,'[2]TK KHOILUONG'!$B:$AH,14,0) -> 15 | P9: =VLOOKUP($B9,'[2]TK KHOILUONG'!$B:$AH,15,0) -> 169 | Q9: =VLOOKUP($B9,'[2]TK KHOILUONG'!$B:$AH,16,0) -> 15 | R9: =VLOOKUP($B9,'[2]TK KHOILUONG'!$B:$AH,17,0) -> 8.45 | S9: =VLOOKUP($B9,'[2]TK KHOILUONG'!$B:$AH,18,0) -> 0 | T9: =VLOOKUP($B9,'[2]TK KHOILUONG'!$B:$AH,19,0) -> 14 | U9: =VLOOKUP($B9,'[2]TK KHOILUONG'!$B:$AH,20,0) -> 0 | V9: =VLOOKUP($B9,'[2]TK KHOILUONG'!$B:$AH,21,0) -> 1.4 | W9: =VLOOKUP($B9,'[2]TK KHOILUONG'!$B:$AH,22,0) -> 0 | X9: =VLOOKUP($B9,'[2]TK KHOILUONG'!$B:$AH,23,0) -> 0 | Y9: =VLOOKUP($B9,'[2]TK KHOILUONG'!$B:$AH,24,0) -> 0 | Z9: =VLOOKUP($B9,'[2]TK KHOILUONG'!$B:$AH,25,0) -> 0 | AA9: =VLOOKUP($B9,'[2]TK KHOILUONG'!$B:$AH,26,0) -> 0 | AB9: =VLOOKUP($B9,'[2]TK KHOILUONG'!$B:$AH,27,0) -> 0 | AC9: =VLOOKUP($B9,'[2]TK KHOILUONG'!$B:$AH,28,0) -> 0 | AD9: =VLOOKUP($B9,'[2]TK KHOILUONG'!$B:$AH,29,0) -> 0 | AE9: =VLOOKUP($B9,'[2]TK KHOILUONG'!$B:$AH,30,0) -> 0 | AF9: =VLOOKUP($B9,'[2]TK KHOILUONG'!$B:$AH,31,0) -> 0 | AG9: =VLOOKUP($B9,'[2]TK KHOILUONG'!$B:$AH,32,0) -> 14.4 | AH9: =IF(D9="","",ROUND(I9+N9+R9+V9+Y9+AB9+AE9+SUM(AF9:AG9),2)) -> 31.05
A10: =IF(D10="","",SUBTOTAL(3,$D$4:$D10)) -> 3 | B10: 01012005 | C10: Khoa CN Cơ khí | D10: Đỗ Thị Phương Khanh | E10: =VLOOKUP($B10,'[2]TK KHOILUONG'!$B:$AH,4,0) -> 3 | F10: =VLOOKUP($B10,'[2]TK KHOILUONG'!$B:$AH,5,0) -> 0 | G10: =VLOOKUP($B10,'[2]TK KHOILUONG'!$B:$AH,6,0) -> 0 | H10: =VLOOKUP($B10,'[2]TK KHOILUONG'!$B:$AH,7,0) -> 0 | I10: =VLOOKUP($B10,'[2]TK KHOILUONG'!$B:$AH,8,0) -> 3 | J10: =VLOOKUP($B10,'[2]TK KHOILUONG'!$B:$AH,9,0) -> 6.4 | K10: =VLOOKUP($B10,'[2]TK KHOILUONG'!$B:$AH,10,0) -> 4.4 | L10: =VLOOKUP($B10,'[2]TK KHOILUONG'!$B:$AH,11,0) -> 0 | M10: =VLOOKUP($B10,'[2]TK KHOILUONG'!$B:$AH,12,0) -> 0 | N10: =VLOOKUP($B10,'[2]TK KHOILUONG'!$B:$AH,13,0) -> 10.8 | O10: =VLOOKUP($B10,'[2]TK KHOILUONG'!$B:$AH,14,0) -> 130 | P10: =VLOOKUP($B10,'[2]TK KHOILUONG'!$B:$AH,15,0) -> 324 | Q10: =VLOOKUP($B10,'[2]TK KHOILUONG'!$B:$AH,16,0) -> 240 | R10: =VLOOKUP($B10,'[2]TK KHOILUONG'!$B:$AH,17,0) -> 10.7 | S10: =VLOOKUP($B10,'[2]TK KHOILUONG'!$B:$AH,18,0) -> 0 | T10: =VLOOKUP($B10,'[2]TK KHOILUONG'!$B:$AH,19,0) -> 126 | U10: =VLOOKUP($B10,'[2]TK KHOILUONG'!$B:$AH,20,0) -> 0 | V10: =VLOOKUP($B10,'[2]TK KHOILUONG'!$B:$AH,21,0) -> 12.6 | W10: =VLOOKUP($B10,'[2]TK KHOILUONG'!$B:$AH,22,0) -> 0 | X10: =VLOOKUP($B10,'[2]TK KHOILUONG'!$B:$AH,23,0) -> 0 | Y10: =VLOOKUP($B10,'[2]TK KHOILUONG'!$B:$AH,24,0) -> 0 | Z10: =VLOOKUP($B10,'[2]TK KHOILUONG'!$B:$AH,25,0) -> 0 | AA10: =VLOOKUP($B10,'[2]TK KHOILUONG'!$B:$AH,26,0) -> 0 | AB10: =VLOOKUP($B10,'[2]TK KHOILUONG'!$B:$AH,27,0) -> 0 | AC10: =VLOOKUP($B10,'[2]TK KHOILUONG'!$B:$AH,28,0) -> 0 | AD10: =VLOOKUP($B10,'[2]TK KHOILUONG'!$B:$AH,29,0) -> 0 | AE10: =VLOOKUP($B10,'[2]TK KHOILUONG'!$B:$AH,30,0) -> 0 | AF10: =VLOOKUP($B10,'[2]TK KHOILUONG'!$B:$AH,31,0) -> 0 | AG10: =VLOOKUP($B10,'[2]TK KHOILUONG'!$B:$AH,32,0) -> 0 | AH10: =IF(D10="","",ROUND(I10+N10+R10+V10+Y10+AB10+AE10+SUM(AF10:AG10),2)) -> 37.1
A11: =IF(D11="","",SUBTOTAL(3,$D$4:$D11)) -> 4 | B11: 01012014 | C11: Khoa CN Cơ khí | D11: Dương Minh Chung | E11: =VLOOKUP($B11,'[2]TK KHOILUONG'!$B:$AH,4,0) -> 0 | F11: =VLOOKUP($B11,'[2]TK KHOILUONG'!$B:$AH,5,0) -> 0 | G11: =VLOOKUP($B11,'[2]TK KHOILUONG'!$B:$AH,6,0) -> 0 | H11: =VLOOKUP($B11,'[2]TK KHOILUONG'!$B:$AH,7,0) -> 0 | I11: =VLOOKUP($B11,'[2]TK KHOILUONG'!$B:$AH,8,0) -> 0 | J11: =VLOOKUP($B11,'[2]TK KHOILUONG'!$B:$AH,9,0) -> 4.8 | K11: =VLOOKUP($B11,'[2]TK KHOILUONG'!$B:$AH,10,0) -> 2.8 | L11: =VLOOKUP($B11,'[2]TK KHOILUONG'!$B:$AH,11,0) -> 0 | M11: =VLOOKUP($B11,'[2]TK KHOILUONG'!$B:$AH,12,0) -> 0 | N11: =VLOOKUP($B11,'[2]TK KHOILUONG'!$B:$AH,13,0) -> 7.6 | O11: =VLOOKUP($B11,'[2]TK KHOILUONG'!$B:$AH,14,0) -> 153 | P11: =VLOOKUP($B11,'[2]TK KHOILUONG'!$B:$AH,15,0) -> 0 | Q11: =VLOOKUP($B11,'[2]TK KHOILUONG'!$B:$AH,16,0) -> 136 | R11: =VLOOKUP($B11,'[2]TK KHOILUONG'!$B:$AH,17,0) -> 0.85 | S11: =VLOOKUP($B11,'[2]TK KHOILUONG'!$B:$AH,18,0) -> 0 | T11: =VLOOKUP($B11,'[2]TK KHOILUONG'!$B:$AH,19,0) -> 0 | U11: =VLOOKUP($B11,'[2]TK KHOILUONG'!$B:$AH,20,0) -> 0 | V11: =VLOOKUP($B11,'[2]TK KHOILUONG'!$B:$AH,21,0) -> 0 | W11: =VLOOKUP($B11,'[2]TK KHOILUONG'!$B:$AH,22,0) -> 0 | X11: =VLOOKUP($B11,'[2]TK KHOILUONG'!$B:$AH,23,0) -> 0 | Y11: =VLOOKUP($B11,'[2]TK KHOILUONG'!$B:$AH,24,0) -> 0 | Z11: =VLOOKUP($B11,'[2]TK KHOILUONG'!$B:$AH,25,0) -> 0 | AA11: =VLOOKUP($B11,'[2]TK KHOILUONG'!$B:$AH,26,0) -> 0 | AB11: =VLOOKUP($B11,'[2]TK KHOILUONG'!$B:$AH,27,0) -> 0 | AC11: =VLOOKUP($B11,'[2]TK KHOILUONG'!$B:$AH,28,0) -> 0 | AD11: =VLOOKUP($B11,'[2]TK KHOILUONG'!$B:$AH,29,0) -> 0 | AE11: =VLOOKUP($B11,'[2]TK KHOILUONG'!$B:$AH,30,0) -> 0 | AF11: =VLOOKUP($B11,'[2]TK KHOILUONG'!$B:$AH,31,0) -> 0 | AG11: =VLOOKUP($B11,'[2]TK KHOILUONG'!$B:$AH,32,0) -> 0 | AH11: =IF(D11="","",ROUND(I11+N11+R11+V11+Y11+AB11+AE11+SUM(AF11:AG11),2)) -> 8.45
A12: =IF(D12="","",SUBTOTAL(3,$D$4:$D12)) -> 5 | B12: 01012028 | C12: Khoa CN Cơ khí | D12: Dương Thị Hồng | E12: =VLOOKUP($B12,'[2]TK KHOILUONG'!$B:$AH,4,0) -> 0 | F12: =VLOOKUP($B12,'[2]TK KHOILUONG'!$B:$AH,5,0) -> 0 | G12: =VLOOKUP($B12,'[2]TK KHOILUONG'!$B:$AH,6,0) -> 0 | H12: =VLOOKUP($B12,'[2]TK KHOILUONG'!$B:$AH,7,0) -> 0 | I12: =VLOOKUP($B12,'[2]TK KHOILUONG'!$B:$AH,8,0) -> 0 | J12: =VLOOKUP($B12,'[2]TK KHOILUONG'!$B:$AH,9,0) -> 0 | K12: =VLOOKUP($B12,'[2]TK KHOILUONG'!$B:$AH,10,0) -> 0 | L12: =VLOOKUP($B12,'[2]TK KHOILUONG'!$B:$AH,11,0) -> 0 | M12: =VLOOKUP($B12,'[2]TK KHOILUONG'!$B:$AH,12,0) -> 0 | N12: =VLOOKUP($B12,'[2]TK KHOILUONG'!$B:$AH,13,0) -> 0 | O12: =VLOOKUP($B12,'[2]TK KHOILUONG'!$B:$AH,14,0) -> 0 | P12: =VLOOKUP($B12,'[2]TK KHOILUONG'!$B:$AH,15,0) -> 0 | Q12: =VLOOKUP($B12,'[2]TK KHOILUONG'!$B:$AH,16,0) -> 0 | R12: =VLOOKUP($B12,'[2]TK KHOILUONG'!$B:$AH,17,0) -> 0 | S12: =VLOOKUP($B12,'[2]TK KHOILUONG'!$B:$AH,18,0) -> 0 | T12: =VLOOKUP($B12,'[2]TK KHOILUONG'!$B:$AH,19,0) -> 0 | U12: =VLOOKUP($B12,'[2]TK KHOILUONG'!$B:$AH,20,0) -> 0 | V12: =VLOOKUP($B12,'[2]TK KHOILUONG'!$B:$AH,21,0) -> 0 | W12: =VLOOKUP($B12,'[2]TK KHOILUONG'!$B:$AH,22,0) -> 0 | X12: =VLOOKUP($B12,'[2]TK KHOILUONG'!$B:$AH,23,0) -> 0 | Y12: =VLOOKUP($B12,'[2]TK KHOILUONG'!$B:$AH,24,0) -> 0 | Z12: =VLOOKUP($B12,'[2]TK KHOILUONG'!$B:$AH,25,0) -> 0 | AA12: =VLOOKUP($B12,'[2]TK KHOILUONG'!$B:$AH,26,0) -> 0 | AB12: =VLOOKUP($B12,'[2]TK KHOILUONG'!$B:$AH,27,0) -> 0 | AC12: =VLOOKUP($B12,'[2]TK KHOILUONG'!$B:$AH,28,0) -> 0 | AD12: =VLOOKUP($B12,'[2]TK KHOILUONG'!$B:$AH,29,0) -> 0 | AE12: =VLOOKUP($B12,'[2]TK KHOILUONG'!$B:$AH,30,0) -> 0 | AF12: =VLOOKUP($B12,'[2]TK KHOILUONG'!$B:$AH,31,0) -> 0 | AG12: =VLOOKUP($B12,'[2]TK KHOILUONG'!$B:$AH,32,0) -> 0 | AH12: =IF(D12="","",ROUND(I12+N12+R12+V12+Y12+AB12+AE12+SUM(AF12:AG12),2)) -> 0
A13: =IF(D13="","",SUBTOTAL(3,$D$4:$D13)) -> 6 | B13: 01012027 | C13: Khoa CN Cơ khí | D13: Giáp Đức Nhận | E13: =VLOOKUP($B13,'[2]TK KHOILUONG'!$B:$AH,4,0) -> 0 | F13: =VLOOKUP($B13,'[2]TK KHOILUONG'!$B:$AH,5,0) -> 0 | G13: =VLOOKUP($B13,'[2]TK KHOILUONG'!$B:$AH,6,0) -> 0 | H13: =VLOOKUP($B13,'[2]TK KHOILUONG'!$B:$AH,7,0) -> 0 | I13: =VLOOKUP($B13,'[2]TK KHOILUONG'!$B:$AH,8,0) -> 0 | J13: =VLOOKUP($B13,'[2]TK KHOILUONG'!$B:$AH,9,0) -> 0 | K13: =VLOOKUP($B13,'[2]TK KHOILUONG'!$B:$AH,10,0) -> 0 | L13: =VLOOKUP($B13,'[2]TK KHOILUONG'!$B:$AH,11,0) -> 0 | M13: =VLOOKUP($B13,'[2]TK KHOILUONG'!$B:$AH,12,0) -> 0 | N13: =VLOOKUP($B13,'[2]TK KHOILUONG'!$B:$AH,13,0) -> 0 | O13: =VLOOKUP($B13,'[2]TK KHOILUONG'!$B:$AH,14,0) -> 0 | P13: =VLOOKUP($B13,'[2]TK KHOILUONG'!$B:$AH,15,0) -> 0 | Q13: =VLOOKUP($B13,'[2]TK KHOILUONG'!$B:$AH,16,0) -> 0 | R13: =VLOOKUP($B13,'[2]TK KHOILUONG'!$B:$AH,17,0) -> 0 | S13: =VLOOKUP($B13,'[2]TK KHOILUONG'!$B:$AH,18,0) -> 0 | T13: =VLOOKUP($B13,'[2]TK KHOILUONG'!$B:$AH,19,0) -> 0 | U13: =VLOOKUP($B13,'[2]TK KHOILUONG'!$B:$AH,20,0) -> 0 | V13: =VLOOKUP($B13,'[2]TK KHOILUONG'!$B:$AH,21,0) -> 0 | W13: =VLOOKUP($B13,'[2]TK KHOILUONG'!$B:$AH,22,0) -> 0 | X13: =VLOOKUP($B13,'[2]TK KHOILUONG'!$B:$AH,23,0) -> 0 | Y13: =VLOOKUP($B13,'[2]TK KHOILUONG'!$B:$AH,24,0) -> 0 | Z13: =VLOOKUP($B13,'[2]TK KHOILUONG'!$B:$AH,25,0) -> 0 | AA13: =VLOOKUP($B13,'[2]TK KHOILUONG'!$B:$AH,26,0) -> 0 | AB13: =VLOOKUP($B13,'[2]TK KHOILUONG'!$B:$AH,27,0) -> 0 | AC13: =VLOOKUP($B13,'[2]TK KHOILUONG'!$B:$AH,28,0) -> 0 | AD13: =VLOOKUP($B13,'[2]TK KHOILUONG'!$B:$AH,29,0) -> 0 | AE13: =VLOOKUP($B13,'[2]TK KHOILUONG'!$B:$AH,30,0) -> 0 | AF13: =VLOOKUP($B13,'[2]TK KHOILUONG'!$B:$AH,31,0) -> 0 | AG13: =VLOOKUP($B13,'[2]TK KHOILUONG'!$B:$AH,32,0) -> 0 | AH13: =IF(D13="","",ROUND(I13+N13+R13+V13+Y13+AB13+AE13+SUM(AF13:AG13),2)) -> 0
A14: =IF(D14="","",SUBTOTAL(3,$D$4:$D14)) -> 7 | B14: 01012030 | C14: Khoa CN Cơ khí | D14: Hồ Nhật Linh | E14: =VLOOKUP($B14,'[2]TK KHOILUONG'!$B:$AH,4,0) -> 0 | F14: =VLOOKUP($B14,'[2]TK KHOILUONG'!$B:$AH,5,0) -> 4 | G14: =VLOOKUP($B14,'[2]TK KHOILUONG'!$B:$AH,6,0) -> 0 | H14: =VLOOKUP($B14,'[2]TK KHOILUONG'!$B:$AH,7,0) -> 0 | I14: =VLOOKUP($B14,'[2]TK KHOILUONG'!$B:$AH,8,0) -> 8 | J14: =VLOOKUP($B14,'[2]TK KHOILUONG'!$B:$AH,9,0) -> 0 | K14: =VLOOKUP($B14,'[2]TK KHOILUONG'!$B:$AH,10,0) -> 0 | L14: =VLOOKUP($B14,'[2]TK KHOILUONG'!$B:$AH,11,0) -> 0 | M14: =VLOOKUP($B14,'[2]TK KHOILUONG'!$B:$AH,12,0) -> 0 | N14: =VLOOKUP($B14,'[2]TK KHOILUONG'!$B:$AH,13,0) -> 0 | O14: =VLOOKUP($B14,'[2]TK KHOILUONG'!$B:$AH,14,0) -> 24 | P14: =VLOOKUP($B14,'[2]TK KHOILUONG'!$B:$AH,15,0) -> 24 | Q14: =VLOOKUP($B14,'[2]TK KHOILUONG'!$B:$AH,16,0) -> 26 | R14: =VLOOKUP($B14,'[2]TK KHOILUONG'!$B:$AH,17,0) -> 1.1 | S14: =VLOOKUP($B14,'[2]TK KHOILUONG'!$B:$AH,18,0) -> 0 | T14: =VLOOKUP($B14,'[2]TK KHOILUONG'!$B:$AH,19,0) -> 0 | U14: =VLOOKUP($B14,'[2]TK KHOILUONG'!$B:$AH,20,0) -> 0 | V14: =VLOOKUP($B14,'[2]TK KHOILUONG'!$B:$AH,21,0) -> 0 | W14: =VLOOKUP($B14,'[2]TK KHOILUONG'!$B:$AH,22,0) -> 0 | X14: =VLOOKUP($B14,'[2]TK KHOILUONG'!$B:$AH,23,0) -> 0 | Y14: =VLOOKUP($B14,'[2]TK KHOILUONG'!$B:$AH,24,0) -> 0 | Z14: =VLOOKUP($B14,'[2]TK KHOILUONG'!$B:$AH,25,0) -> 0 | AA14: =VLOOKUP($B14,'[2]TK KHOILUONG'!$B:$AH,26,0) -> 0 | AB14: =VLOOKUP($B14,'[2]TK KHOILUONG'!$B:$AH,27,0) -> 0 | AC14: =VLOOKUP($B14,'[2]TK KHOILUONG'!$B:$AH,28,0) -> 0 | AD14: =VLOOKUP($B14,'[2]TK KHOILUONG'!$B:$AH,29,0) -> 0 | AE14: =VLOOKUP($B14,'[2]TK KHOILUONG'!$B:$AH,30,0) -> 0 | AF14: =VLOOKUP($B14,'[2]TK KHOILUONG'!$B:$AH,31,0) -> 0 | AG14: =VLOOKUP($B14,'[2]TK KHOILUONG'!$B:$AH,32,0) -> 0 | AH14: =IF(D14="","",ROUND(I14+N14+R14+V14+Y14+AB14+AE14+SUM(AF14:AG14),2)) -> 9.1
A15: =IF(D15="","",SUBTOTAL(3,$D$4:$D15)) -> 8 | B15: 01012016 | C15: Khoa CN Cơ khí | D15: Lư Thị Yến Vũ | E15: =VLOOKUP($B15,'[2]TK KHOILUONG'!$B:$AH,4,0) -> 4 | F15: =VLOOKUP($B15,'[2]TK KHOILUONG'!$B:$AH,5,0) -> 2 | G15: =VLOOKUP($B15,'[2]TK KHOILUONG'!$B:$AH,6,0) -> 0 | H15: =VLOOKUP($B15,'[2]TK KHOILUONG'!$B:$AH,7,0) -> 0 | I15: =VLOOKUP($B15,'[2]TK KHOILUONG'!$B:$AH,8,0) -> 8 | J15: =VLOOKUP($B15,'[2]TK KHOILUONG'!$B:$AH,9,0) -> 3.2 | K15: =VLOOKUP($B15,'[2]TK KHOILUONG'!$B:$AH,10,0) -> 3.2 | L15: =VLOOKUP($B15,'[2]TK KHOILUONG'!$B:$AH,11,0) -> 0 | M15: =VLOOKUP($B15,'[2]TK KHOILUONG'!$B:$AH,12,0) -> 0 | N15: =VLOOKUP($B15,'[2]TK KHOILUONG'!$B:$AH,13,0) -> 6.4 | O15: =VLOOKUP($B15,'[2]TK KHOILUONG'!$B:$AH,14,0) -> 95 | P15: =VLOOKUP($B15,'[2]TK KHOILUONG'!$B:$AH,15,0) -> 0 | Q15: =VLOOKUP($B15,'[2]TK KHOILUONG'!$B:$AH,16,0) -> 95 | R15: =VLOOKUP($B15,'[2]TK KHOILUONG'!$B:$AH,17,0) -> 0 | S15: =VLOOKUP($B15,'[2]TK KHOILUONG'!$B:$AH,18,0) -> 18 | T15: =VLOOKUP($B15,'[2]TK KHOILUONG'!$B:$AH,19,0) -> 84 | U15: =VLOOKUP($B15,'[2]TK KHOILUONG'!$B:$AH,20,0) -> 18 | V15: =VLOOKUP($B15,'[2]TK KHOILUONG'!$B:$AH,21,0) -> 8.4 | W15: =VLOOKUP($B15,'[2]TK KHOILUONG'!$B:$AH,22,0) -> 0 | X15: =VLOOKUP($B15,'[2]TK KHOILUONG'!$B:$AH,23,0) -> 0 | Y15: =VLOOKUP($B15,'[2]TK KHOILUONG'!$B:$AH,24,0) -> 0 | Z15: =VLOOKUP($B15,'[2]TK KHOILUONG'!$B:$AH,25,0) -> 0 | AA15: =VLOOKUP($B15,'[2]TK KHOILUONG'!$B:$AH,26,0) -> 0 | AB15: =VLOOKUP($B15,'[2]TK KHOILUONG'!$B:$AH,27,0) -> 0 | AC15: =VLOOKUP($B15,'[2]TK KHOILUONG'!$B:$AH,28,0) -> 0 | AD15: =VLOOKUP($B15,'[2]TK KHOILUONG'!$B:$AH,29,0) -> 0 | AE15: =VLOOKUP($B15,'[2]TK KHOILUONG'!$B:$AH,30,0) -> 0 | AF15: =VLOOKUP($B15,'[2]TK KHOILUONG'!$B:$AH,31,0) -> 0 | AG15: =VLOOKUP($B15,'[2]TK KHOILUONG'!$B:$AH,32,0) -> 0 | AH15: =IF(D15="","",ROUND(I15+N15+R15+V15+Y15+AB15+AE15+SUM(AF15:AG15),2)) -> 22.8
... A257: =IF(D257="","",SUBTOTAL(3,$D$4:$D257)) -> 29 | B257: 01017003 | C257: TT Truyền thông - Thư viện | D257: Nguyễn Hữu Thiện | E257: =VLOOKUP($B257,'[2]TK KHOILUONG'!$B:$AH,4,0) -> 0 | F257: =VLOOKUP($B257,'[2]TK KHOILUONG'!$B:$AH,5,0) -> 0 | G257: =VLOOKUP($B257,'[2]TK KHOILUONG'!$B:$AH,6,0) -> 0 | H257: =VLOOKUP($B257,'[2]TK KHOILUONG'!$B:$AH,7,0) -> 0 | I257: =VLOOKUP($B257,'[2]TK KHOILUONG'!$B:$AH,8,0) -> 0 | J257: =VLOOKUP($B257,'[2]TK KHOILUONG'!$B:$AH,9,0) -> 0 | K257: =VLOOKUP($B257,'[2]TK KHOILUONG'!$B:$AH,10,0) -> 0 | L257: =VLOOKUP($B257,'[2]TK KHOILUONG'!$B:$AH,11,0) -> 0 | M257: =VLOOKUP($B257,'[2]TK KHOILUONG'!$B:$AH,12,0) -> 0 | N257: =VLOOKUP($B257,'[2]TK KHOILUONG'!$B:$AH,13,0) -> 0 | O257: =VLOOKUP($B257,'[2]TK KHOILUONG'!$B:$AH,14,0) -> 0 | P257: =VLOOKUP($B257,'[2]TK KHOILUONG'!$B:$AH,15,0) -> 0 | Q257: =VLOOKUP($B257,'[2]TK KHOILUONG'!$B:$AH,16,0) -> 0 | R257: =VLOOKUP($B257,'[2]TK KHOILUONG'!$B:$AH,17,0) -> 0 | S257: =VLOOKUP($B257,'[2]TK KHOILUONG'!$B:$AH,18,0) -> 0 | T257: =VLOOKUP($B257,'[2]TK KHOILUONG'!$B:$AH,19,0) -> 0 | U257: =VLOOKUP($B257,'[2]TK KHOILUONG'!$B:$AH,20,0) -> 0 | V257: =VLOOKUP($B257,'[2]TK KHOILUONG'!$B:$AH,21,0) -> 0 | W257: =VLOOKUP($B257,'[2]TK KHOILUONG'!$B:$AH,22,0) -> 0 | X257: =VLOOKUP($B257,'[2]TK KHOILUONG'!$B:$AH,23,0) -> 0 | Y257: =VLOOKUP($B257,'[2]TK KHOILUONG'!$B:$AH,24,0) -> 0 | Z257: =VLOOKUP($B257,'[2]TK KHOILUONG'!$B:$AH,25,0) -> 0 | AA257: =VLOOKUP($B257,'[2]TK KHOILUONG'!$B:$AH,26,0) -> 0 | AB257: =VLOOKUP($B257,'[2]TK KHOILUONG'!$B:$AH,27,0) -> 0 | AC257: =VLOOKUP($B257,'[2]TK KHOILUONG'!$B:$AH,28,0) -> 0 | AD257: =VLOOKUP($B257,'[2]TK KHOILUONG'!$B:$AH,29,0) -> 0 | AE257: =VLOOKUP($B257,'[2]TK KHOILUONG'!$B:$AH,30,0) -> 0 | AF257: =VLOOKUP($B257,'[2]TK KHOILUONG'!$B:$AH,31,0) -> 0 | AG257: =VLOOKUP($B257,'[2]TK KHOILUONG'!$B:$AH,32,0) -> 0 | AH257: =IF(D257="","",ROUND(I257+N257+R257+V257+Y257+AB257+AE257+SUM(AF257:AG257),2)) -> 0
A258: =IF(D258="","",SUBTOTAL(3,$D$4:$D258))
E259: =SUBTOTAL(9,E4:E258) -> 61 | F259: =SUBTOTAL(9,F4:F258) -> 10 | G259: =SUBTOTAL(9,G4:G258) -> 0 | H259: =SUBTOTAL(9,H4:H258) -> 0 | I259: =SUBTOTAL(9,I4:I258) -> 81 | J259: =SUBTOTAL(9,J4:J258) -> 98.4 | K259: =SUBTOTAL(9,K4:K258) -> 61.2 | L259: =SUBTOTAL(9,L4:L258) -> 0 | ... AH259: =SUBTOTAL(9,AH4:AH258) -> 440.75

Sheet CA NĂM
A1: STT | B1: Mã nhân sự | C1: Đơn vị | D1: HỌ VÀ TÊN GIẢNG VIÊN | E1: ĐỀ THI | J1: COI THI | O1: CHẤM THI KTHP | W1: CHẤM THI TỐT NGHIỆP | AF1: DỰ PHÒNG KỲ THI | AG1: GIÁM SÁT | AH1: TỔNG KHỐI LƯỢNG | AI1: =SUBTOTAL(9,AH:AH) -> 8671.5
O2: LÝ THUYẾT | S2: TIỂU LUẬN | W2: LÝ THUYẾT | Z2: T.HÀNH CHUNG | AC2: T.HÀNH RIÊNG
E3: SL ĐỀ LT KTHP | F3: SL ĐỀ TN KTHP | G3: SL ĐỀ LT TN | H3: SL ĐỀ TH TN | I3: KL SOẠN ĐỀ (tiết) | J3: KTHPLT COITHI 1 | K3: KTHPLT COITHI 2 | L3: ThiTN COITHI 1 | M3: ThiTN COITHI 2 | N3: KL COITHI (tiết) | O3: SL BÀI LT CHẤM 1 | P3: SL BÀI LT CHẤM 2 | Q3: SL CHẤM LT NGHĨA VỤ | R3: KL CHẤM LT (tiết) | S3: SL BÀI TL CHẤM 1 | T3: SL BÀI TL CHẤM 2 | U3: SL CHẤM TL NGHĨA VỤ | V3: KL CHẤM TL (tiết) | W3: SL BÀI LT CHẤM 1 | X3: SL BÀI LT CHẤM 2 | Y3: KL CHẤM LT (tiết) | Z3: SL BÀI TL CHẤM 1 | AA3: SL BÀI TL CHẤM 2 | AB3: KL CHẤM TL (tiết) | AC3: SL BÀI TL CHẤM 1 | AD3: SL BÀI TL CHẤM 2 | AE3: KL CHẤM TL (tiết)
A4: =IF(D4="","",SUBTOTAL(3,$D$4:$D4)) -> 1 | B4: 01002001 | C4: Ban Giám hiệu | D4: Đinh Hồng Minh | E4: =IF($D4="","",'HK1'!E4+'HK2'!E4) -> 0 | F4: =IF($D4="","",'HK1'!F4+'HK2'!F4) -> 0 | G4: =IF($D4="","",'HK1'!G4+'HK2'!G4) -> 0 | H4: =IF($D4="","",'HK1'!H4+'HK2'!H4) -> 0 | I4: =IF(D4="","",(E4+F4*2+G4*3+H4*2)) -> 0 | J4: =IF($D4="","",'HK1'!J4+'HK2'!J4) -> 0 | K4: =IF($D4="","",'HK1'!K4+'HK2'!K4) -> 0 | L4: =IF($D4="","",'HK1'!L4+'HK2'!L4) -> 0 | M4: =IF($D4="","",'HK1'!M4+'HK2'!M4) -> 0 | N4: =IF(D4="","",SUM(J4:M4)) -> 0 | O4: =IF($D4="","",'HK1'!O4+'HK2'!O4) -> 0 | P4: =IF($D4="","",'HK1'!P4+'HK2'!P4) -> 0 | Q4: =IF($D4="","",'HK1'!Q4+'HK2'!Q4) -> 0 | R4: =IF(D4="","",(SUM(O4:P4)-Q4)/20) -> 0 | S4: =IF($D4="","",'HK1'!S4+'HK2'!S4) -> 0 | T4: =IF($D4="","",'HK1'!T4+'HK2'!T4) -> 0 | U4: =IF($D4="","",'HK1'!U4+'HK2'!U4) -> 0 | V4: =IF(D4="","",(SUM(S4:T4)-U4)/10) -> 0 | W4: =IF($D4="","",'HK1'!W4+'HK2'!W4) -> 0 | X4: =IF($D4="","",'HK1'!X4+'HK2'!X4) -> 0 | Y4: =IF(D4="","",SUM(W4:X4)/14) -> 0 | Z4: =IF($D4="","",'HK1'!Z4+'HK2'!Z4) -> 0 | AA4: =IF($D4="","",'HK1'!AA4+'HK2'!AA4) -> 0 | AB4: =IF(D4="","",SUM(Z4:AA4)/10) -> 0 | AC4: =IF($D4="","",'HK1'!AC4+'HK2'!AC4) -> 0 | AD4: =IF($D4="","",'HK1'!AD4+'HK2'!AD4) -> 0 | AE4: =IF(D4="","",SUM(AC4:AD4)/20) -> 0 | AF4: =IF($D4="","",'HK1'!AF4+'HK2'!AF4) -> 0 | AG4: =IF($D4="","",'HK1'!AG4+'HK2'!AG4) -> 0 | AH4: =IF(D4="","",ROUND(I4+N4+R4+V4+Y4+AB4+AE4+SUM(AF4:AG4),1)) -> 0 | AI4: =IF(AH4="","",ROUND(AH4*10/3,1)) -> 0
A5: =IF(D5="","",SUBTOTAL(3,$D$4:$D5)) -> 2 | B5: 01001006 | C5: Ban Giám hiệu | D5: Đinh Văn Đệ | E5: =IF($D5="","",'HK1'!E5+'HK2'!E5) -> 0 | F5: =IF($D5="","",'HK1'!F5+'HK2'!F5) -> 0 | G5: =IF($D5="","",'HK1'!G5+'HK2'!G5) -> 0 | H5: =IF($D5="","",'HK1'!H5+'HK2'!H5) -> 0 | I5: =IF(D5="","",(E5+F5*2+G5*3+H5*2)) -> 0 | J5: =IF($D5="","",'HK1'!J5+'HK2'!J5) -> 0 | K5: =IF($D5="","",'HK1'!K5+'HK2'!K5) -> 0 | L5: =IF($D5="","",'HK1'!L5+'HK2'!L5) -> 0 | M5: =IF($D5="","",'HK1'!M5+'HK2'!M5) -> 0 | N5: =IF(D5="","",SUM(J5:M5)) -> 0 | O5: =IF($D5="","",'HK1'!O5+'HK2'!O5) -> 54 | P5: =IF($D5="","",'HK1'!P5+'HK2'!P5) -> 0 | Q5: =IF($D5="","",'HK1'!Q5+'HK2'!Q5) -> 294 | R5: =IF(D5="","",(SUM(O5:P5)-Q5)/20) -> -12 | S5: =IF($D5="","",'HK1'!S5+'HK2'!S5) -> 0 | T5: =IF($D5="","",'HK1'!T5+'HK2'!T5) -> 0 | U5: =IF($D5="","",'HK1'!U5+'HK2'!U5) -> 0 | V5: =IF(D5="","",(SUM(S5:T5)-U5)/10) -> 0 | W5: =IF($D5="","",'HK1'!W5+'HK2'!W5) -> 0 | X5: =IF($D5="","",'HK1'!X5+'HK2'!X5) -> 0 | Y5: =IF(D5="","",SUM(W5:X5)/14) -> 0 | Z5: =IF($D5="","",'HK1'!Z5+'HK2'!Z5) -> 0 | AA5: =IF($D5="","",'HK1'!AA5+'HK2'!AA5) -> 0 | AB5: =IF(D5="","",SUM(Z5:AA5)/10) -> 0 | AC5: =IF($D5="","",'HK1'!AC5+'HK2'!AC5) -> 0 | AD5: =IF($D5="","",'HK1'!AD5+'HK2'!AD5) -> 0 | AE5: =IF(D5="","",SUM(AC5:AD5)/20) -> 0 | AF5: =IF($D5="","",'HK1'!AF5+'HK2'!AF5) -> 0 | AG5: =IF($D5="","",'HK1'!AG5+'HK2'!AG5) -> 0 | AH5: =IF(D5="","",ROUND(I5+N5+R5+V5+Y5+AB5+AE5+SUM(AF5:AG5),1)) -> -12 | AI5: =IF(AH5="","",ROUND(AH5*10/3,1)) -> -40
A6: =IF(D6="","",SUBTOTAL(3,$D$4:$D6)) -> 3 | B6: 01001003 | C6: Ban Giám hiệu | D6: Nguyễn Văn Dũng | E6: =IF($D6="","",'HK1'!E6+'HK2'!E6) -> 0 | F6: =IF($D6="","",'HK1'!F6+'HK2'!F6) -> 0 | G6: =IF($D6="","",'HK1'!G6+'HK2'!G6) -> 0 | H6: =IF($D6="","",'HK1'!H6+'HK2'!H6) -> 0 | I6: =IF(D6="","",(E6+F6*2+G6*3+H6*2)) -> 0 | J6: =IF($D6="","",'HK1'!J6+'HK2'!J6) -> 0 | K6: =IF($D6="","",'HK1'!K6+'HK2'!K6) -> 0 | L6: =IF($D6="","",'HK1'!L6+'HK2'!L6) -> 0 | M6: =IF($D6="","",'HK1'!M6+'HK2'!M6) -> 0 | N6: =IF(D6="","",SUM(J6:M6)) -> 0 | O6: =IF($D6="","",'HK1'!O6+'HK2'!O6) -> 0 | P6: =IF($D6="","",'HK1'!P6+'HK2'!P6) -> 0 | Q6: =IF($D6="","",'HK1'!Q6+'HK2'!Q6) -> 0 | R6: =IF(D6="","",(SUM(O6:P6)-Q6)/20) -> 0 | S6: =IF($D6="","",'HK1'!S6+'HK2'!S6) -> 0 | T6: =IF($D6="","",'HK1'!T6+'HK2'!T6) -> 0 | U6: =IF($D6="","",'HK1'!U6+'HK2'!U6) -> 0 | V6: =IF(D6="","",(SUM(S6:T6)-U6)/10) -> 0 | W6: =IF($D6="","",'HK1'!W6+'HK2'!W6) -> 0 | X6: =IF($D6="","",'HK1'!X6+'HK2'!X6) -> 0 | Y6: =IF(D6="","",SUM(W6:X6)/14) -> 0 | Z6: =IF($D6="","",'HK1'!Z6+'HK2'!Z6) -> 0 | AA6: =IF($D6="","",'HK1'!AA6+'HK2'!AA6) -> 0 | AB6: =IF(D6="","",SUM(Z6:AA6)/10) -> 0 | AC6: =IF($D6="","",'HK1'!AC6+'HK2'!AC6) -> 0 | AD6: =IF($D6="","",'HK1'!AD6+'HK2'!AD6) -> 0 | AE6: =IF(D6="","",SUM(AC6:AD6)/20) -> 0 | AF6: =IF($D6="","",'HK1'!AF6+'HK2'!AF6) -> 0 | AG6: =IF($D6="","",'HK1'!AG6+'HK2'!AG6) -> 0 | AH6: =IF(D6="","",ROUND(I6+N6+R6+V6+Y6+AB6+AE6+SUM(AF6:AG6),1)) -> 0 | AI6: =IF(AH6="","",ROUND(AH6*10/3,1)) -> 0
A7: =IF(D7="","",SUBTOTAL(3,$D$4:$D7)) -> 4 | B7: 01001001 | C7: Ban Giám hiệu | D7: Phạm Hữu Lộc | E7: =IF($D7="","",'HK1'!E7+'HK2'!E7) -> 0 | F7: =IF($D7="","",'HK1'!F7+'HK2'!F7) -> 0 | G7: =IF($D7="","",'HK1'!G7+'HK2'!G7) -> 0 | H7: =IF($D7="","",'HK1'!H7+'HK2'!H7) -> 0 | I7: =IF(D7="","",(E7+F7*2+G7*3+H7*2)) -> 0 | J7: =IF($D7="","",'HK1'!J7+'HK2'!J7) -> 0 | K7: =IF($D7="","",'HK1'!K7+'HK2'!K7) -> 0 | L7: =IF($D7="","",'HK1'!L7+'HK2'!L7) -> 0 | M7: =IF($D7="","",'HK1'!M7+'HK2'!M7) -> 0 | N7: =IF(D7="","",SUM(J7:M7)) -> 0 | O7: =IF($D7="","",'HK1'!O7+'HK2'!O7) -> 0 | P7: =IF($D7="","",'HK1'!P7+'HK2'!P7) -> 0 | Q7: =IF($D7="","",'HK1'!Q7+'HK2'!Q7) -> 0 | R7: =IF(D7="","",(SUM(O7:P7)-Q7)/20) -> 0 | S7: =IF($D7="","",'HK1'!S7+'HK2'!S7) -> 0 | T7: =IF($D7="","",'HK1'!T7+'HK2'!T7) -> 0 | U7: =IF($D7="","",'HK1'!U7+'HK2'!U7) -> 0 | V7: =IF(D7="","",(SUM(S7:T7)-U7)/10) -> 0 | W7: =IF($D7="","",'HK1'!W7+'HK2'!W7) -> 0 | X7: =IF($D7="","",'HK1'!X7+'HK2'!X7) -> 0 | Y7: =IF(D7="","",SUM(W7:X7)/14) -> 0 | Z7: =IF($D7="","",'HK1'!Z7+'HK2'!Z7) -> 0 | AA7: =IF($D7="","",'HK1'!AA7+'HK2'!AA7) -> 0 | AB7: =IF(D7="","",SUM(Z7:AA7)/10) -> 0 | AC7: =IF($D7="","",'HK1'!AC7+'HK2'!AC7) -> 0 | AD7: =IF($D7="","",'HK1'!AD7+'HK2'!AD7) -> 0 | AE7: =IF(D7="","",SUM(AC7:AD7)/20) -> 0 | AF7: =IF($D7="","",'HK1'!AF7+'HK2'!AF7) -> 0 | AG7: =IF($D7="","",'HK1'!AG7+'HK2'!AG7) -> 0 | AH7: =IF(D7="","",ROUND(I7+N7+R7+V7+Y7+AB7+AE7+SUM(AF7:AG7),1)) -> 0 | AI7: =IF(AH7="","",ROUND(AH7*10/3,1)) -> 0
A8: =IF(D8="","",SUBTOTAL(3,$D$4:$D8)) -> 5 | B8: 01012023 | C8: Khoa CN Cơ khí | D8: Bùi Anh Tuấn | E8: =IF($D8="","",'HK1'!E8+'HK2'!E8) -> 18 | F8: =IF($D8="","",'HK1'!F8+'HK2'!F8) -> 0 | G8: =IF($D8="","",'HK1'!G8+'HK2'!G8) -> 0 | H8: =IF($D8="","",'HK1'!H8+'HK2'!H8) -> 0 | I8: =IF(D8="","",(E8+F8*2+G8*3+H8*2)) -> 18 | J8: =IF($D8="","",'HK1'!J8+'HK2'!J8) -> 12.8 | K8: =IF($D8="","",'HK1'!K8+'HK2'!K8) -> 16.8 | L8: =IF($D8="","",'HK1'!L8+'HK2'!L8) -> 0 | M8: =IF($D8="","",'HK1'!M8+'HK2'!M8) -> 0 | N8: =IF(D8="","",SUM(J8:M8)) -> 29.6 | O8: =IF($D8="","",'HK1'!O8+'HK2'!O8) -> 292 | P8: =IF($D8="","",'HK1'!P8+'HK2'!P8) -> 147 | Q8: =IF($D8="","",'HK1'!Q8+'HK2'!Q8) -> 300 | R8: =IF(D8="","",(SUM(O8:P8)-Q8)/20) -> 6.95 | S8: =IF($D8="","",'HK1'!S8+'HK2'!S8) -> 7 | T8: =IF($D8="","",'HK1'!T8+'HK2'!T8) -> 52 | U8: =IF($D8="","",'HK1'!U8+'HK2'!U8) -> 7 | V8: =IF(D8="","",(SUM(S8:T8)-U8)/10) -> 5.2 | W8: =IF($D8="","",'HK1'!W8+'HK2'!W8) -> 0 | X8: =IF($D8="","",'HK1'!X8+'HK2'!X8) -> 0 | Y8: =IF(D8="","",SUM(W8:X8)/14) -> 0 | Z8: =IF($D8="","",'HK1'!Z8+'HK2'!Z8) -> 0 | AA8: =IF($D8="","",'HK1'!AA8+'HK2'!AA8) -> 0 | AB8: =IF(D8="","",SUM(Z8:AA8)/10) -> 0 | AC8: =IF($D8="","",'HK1'!AC8+'HK2'!AC8) -> 0 | AD8: =IF($D8="","",'HK1'!AD8+'HK2'!AD8) -> 0 | AE8: =IF(D8="","",SUM(AC8:AD8)/20) -> 0 | AF8: =IF($D8="","",'HK1'!AF8+'HK2'!AF8) -> 0 | AG8: =IF($D8="","",'HK1'!AG8+'HK2'!AG8) -> 2.4 | AH8: =IF(D8="","",ROUND(I8+N8+R8+V8+Y8+AB8+AE8+SUM(AF8:AG8),1)) -> 62.2 | AI8: =IF(AH8="","",ROUND(AH8*10/3,1)) -> 207.3
