Workbook

Sheet HK1
A1: STT | B1: Mã nhân sự | C1: Đơn vị | D1: HỌ VÀ TÊN GIẢNG VIÊN | E1: ĐỀ THI | J1: COI THI | O1: CHẤM THI KTHP | W1: CHẤM THI TỐT NGHIỆP | AF1: DỰ PHÒNG KỲ THI | AG1: GIÁM SÁT | AH1: TỔNG KHỐI LƯỢNG | AI1: =SUBTOTAL(9,AH:AH) -> 767.85
O2: LÝ THUYẾT | S2: TIỂU LUẬN | W2: LÝ THUYẾT | Z2: T.HÀNH CHUNG | AC2: T.HÀNH RIÊNG
E3: SL ĐỀ LT KTHP | F3: SL ĐỀ TN KTHP | G3: SL ĐỀ LT TN | H3: SL ĐỀ TH TN | I3: KL SOẠN ĐỀ (tiết) | J3: KTHPLT COITHI 1 | K3: KTHPLT COITHI 2 | L3: ThiTN COITHI 1 | M3: ThiTN COITHI 2 | N3: KL COITHI (tiết) | O3: SL BÀI LT CHẤM 1 | P3: SL BÀI LT CHẤM 2 | Q3: SL CHẤM LT NGHĨA VỤ | R3: KL CHẤM LT (tiết) | S3: SL BÀI TL CHẤM 1 | T3: SL BÀI TL CHẤM 2 | U3: SL CHẤM TL NGHĨA VỤ | V3: KL CHẤM TL (tiết) | W3: SL BÀI LT CHẤM 1 | X3: SL BÀI LT CHẤM 2 | Y3: KL CHẤM LT (tiết) | Z3: SL BÀI TL CHẤM 1 | AA3: SL BÀI TL CHẤM 2 | AB3: KL CHẤM TL (tiết) | AC3: SL BÀI TL CHẤM 1 | AD3: SL BÀI TL CHẤM 2 | AE3: KL CHẤM TL (tiết)
A4: =IF(D4="","",SUBTOTAL(3,$D$4:$D4)) -> 0 | B4: 01002001 | C4: Ban Giám hiệu | D4: Đinh Hồng Minh | E4: =VLOOKUP($B4,'[1]TK KHOILUONG'!$B:$AH,4,0) -> 0 | F4: =VLOOKUP($B4,'[1]TK KHOILUONG'!$B:$AH,5,0) -> 0 | G4: =VLOOKUP($B4,'[1]TK KHOILUONG'!$B:$AH,6,0) -> 0 | H4: =VLOOKUP($B4,'[1]TK KHOILUONG'!$B:$AH,7,0) -> 0 | I4: =VLOOKUP($B4,'[1]TK KHOILUONG'!$B:$AH,8,0) -> 0 | J4: =VLOOKUP($B4,'[1]TK KHOILUONG'!$B:$AH,9,0) -> 0 | K4: =VLOOKUP($B4,'[1]TK KHOILUONG'!$B:$AH,10,0) -> 0 | L4: =VLOOKUP($B4,'[1]TK KHOILUONG'!$B:$AH,11,0) -> 0 | M4: =VLOOKUP($B4,'[1]TK KHOILUONG'!$B:$AH,12,0) -> 0 | N4: =VLOOKUP($B4,'[1]TK KHOILUONG'!$B:$AH,13,0) -> 0 | O4: =VLOOKUP($B4,'[1]TK KHOILUONG'!$B:$AH,14,0) -> 0 | P4: =VLOOKUP($B4,'[1]TK KHOILUONG'!$B:$AH,15,0) -> 0 | Q4: =VLOOKUP($B4,'[1]TK KHOILUONG'!$B:$AH,16,0) -> 0 | R4: =VLOOKUP($B4,'[1]TK KHOILUONG'!$B:$AH,17,0) -> 0 | S4: =VLOOKUP($B4,'[1]TK KHOILUONG'!$B:$AH,18,0) -> 0 | T4: =VLOOKUP($B4,'[1]TK KHOILUONG'!$B:$AH,19,0) -> 0 | U4: =VLOOKUP($B4,'[1]TK KHOILUONG'!$B:$AH,20,0) -> 0 | V4: =VLOOKUP($B4,'[1]TK KHOILUONG'!$B:$AH,21,0) -> 0 | W4: =VLOOKUP($B4,'[1]TK KHOILUONG'!$B:$AH,22,0) -> 0 | X4: =VLOOKUP($B4,'[1]TK KHOILUONG'!$B:$AH,23,0) -> 0 | Y4: =VLOOKUP($B4,'[1]TK KHOILUONG'!$B:$AH,24,0) -> 0 | Z4: =VLOOKUP($B4,'[1]TK KHOILUONG'!$B:$AH,25,0) -> 0 | AA4: =VLOOKUP($B4,'[1]TK KHOILUONG'!$B:$AH,26,0) -> 0 | AB4: =VLOOKUP($B4,'[1]TK KHOILUONG'!$B:$AH,27,0) -> 0 | AC4: =VLOOKUP($B4,'[1]TK KHOILUONG'!$B:$AH,28,0) -> 0 | AD4: =VLOOKUP($B4,'[1]TK KHOILUONG'!$B:$AH,29,0) -> 0 | AE4: =VLOOKUP($B4,'[1]TK KHOILUONG'!$B:$AH,30,0) -> 0 | AF4: =VLOOKUP($B4,'[1]TK KHOILUONG'!$B:$AH,31,0) -> 0 | AG4: =VLOOKUP($B4,'[1]TK KHOILUONG'!$B:$AH,32,0) -> 0 | AH4: =IF(D4="","",ROUND(I4+N4+R4+V4+Y4+AB4+AE4+SUM(AF4:AG4),2)) -> 0
A5: =IF(D5="","",SUBTOTAL(3,$D$4:$D5)) -> 0 | B5: 01001006 | C5: Ban Giám hiệu | D5: Đinh Văn Đệ | E5: =VLOOKUP($B5,'[1]TK KHOILUONG'!$B:$AH,4,0) -> 0 | F5: =VLOOKUP($B5,'[1]TK KHOILUONG'!$B:$AH,5,0) -> 0 | G5: =VLOOKUP($B5,'[1]TK KHOILUONG'!$B:$AH,6,0) -> 0 | H5: =VLOOKUP($B5,'[1]TK KHOILUONG'!$B:$AH,7,0) -> 0 | I5: =VLOOKUP($B5,'[1]TK KHOILUONG'!$B:$AH,8,0) -> 0 | J5: =VLOOKUP($B5,'[1]TK KHOILUONG'!$B:$AH,9,0) -> 0 | K5: =VLOOKUP($B5,'[1]TK KHOILUONG'!$B:$AH,10,0) -> 0 | L5: =VLOOKUP($B5,'[1]TK KHOILUONG'!$B:$AH,11,0) -> 0 | M5: =VLOOKUP($B5,'[1]TK KHOILUONG'!$B:$AH,12,0) -> 0 | N5: =VLOOKUP($B5,'[1]TK KHOILUONG'!$B:$AH,13,0) -> 0 | O5: =VLOOKUP($B5,'[1]TK KHOILUONG'!$B:$AH,14,0) -> 0 | P5: =VLOOKUP($B5,'[1]TK KHOILUONG'!$B:$AH,15,0) -> 0 | Q5: =VLOOKUP($B5,'[1]TK KHOILUONG'!$B:$AH,16,0) -> 187 | R5: =VLOOKUP($B5,'[1]TK KHOILUONG'!$B:$AH,17,0) -> -9.35 | S5: =VLOOKUP($B5,'[1]TK KHOILUONG'!$B:$AH,18,0) -> 0 | T5: =VLOOKUP($B5,'[1]TK KHOILUONG'!$B:$AH,19,0) -> 0 | U5: =VLOOKUP($B5,'[1]TK KHOILUONG'!$B:$AH,20,0) -> 0 | V5: =VLOOKUP($B5,'[1]TK KHOILUONG'!$B:$AH,21,0) -> 0 | W5: =VLOOKUP($B5,'[1]TK KHOILUONG'!$B:$AH,22,0) -> 0 | X5: =VLOOKUP($B5,'[1]TK KHOILUONG'!$B:$AH,23,0) -> 0 | Y5: =VLOOKUP($B5,'[1]TK KHOILUONG'!$B:$AH,24,0) -> 0 | Z5: =VLOOKUP($B5,'[1]TK KHOILUONG'!$B:$AH,25,0) -> 0 | AA5: =VLOOKUP($B5,'[1]TK KHOILUONG'!$B:$AH,26,0) -> 0 | AB5: =VLOOKUP($B5,'[1]TK KHOILUONG'!$B:$AH,27,0) -> 0 | AC5: =VLOOKUP($B5,'[1]TK KHOILUONG'!$B:$AH,28,0) -> 0 | AD5: =VLOOKUP($B5,'[1]TK KHOILUONG'!$B:$AH,29,0) -> 0 | AE5: =VLOOKUP($B5,'[1]TK KHOILUONG'!$B:$AH,30,0) -> 0 | AF5: =VLOOKUP($B5,'[1]TK KHOILUONG'!$B:$AH,31,0) -> 0 | AG5: =VLOOKUP($B5,'[1]TK KHOILUONG'!$B:$AH,32,0) -> 0 | AH5: =IF(D5="","",ROUND(I5+N5+R5+V5+Y5+AB5+AE5+SUM(AF5:AG5),2)) -> -9.35
A6: =IF(D6="","",SUBTOTAL(3,$D$4:$D6)) -> 0 | B6: 01001003 | C6: Ban Giám hiệu | D6: Nguyễn Văn Dũng | E6: =VLOOKUP($B6,'[1]TK KHOILUONG'!$B:$AH,4,0) -> 0 | F6: =VLOOKUP($B6,'[1]TK KHOILUONG'!$B:$AH,5,0) -> 0 | G6: =VLOOKUP($B6,'[1]TK KHOILUONG'!$B:$AH,6,0) -> 0 | H6: =VLOOKUP($B6,'[1]TK KHOILUONG'!$B:$AH,7,0) -> 0 | I6: =VLOOKUP($B6,'[1]TK KHOILUONG'!$B:$AH,8,0) -> 0 | J6: =VLOOKUP($B6,'[1]TK KHOILUONG'!$B:$AH,9,0) -> 0 | K6: =VLOOKUP($B6,'[1]TK KHOILUONG'!$B:$AH,10,0) -> 0 | L6: =VLOOKUP($B6,'[1]TK KHOILUONG'!$B:$AH,11,0) -> 0 | M6: =VLOOKUP($B6,'[1]TK KHOILUONG'!$B:$AH,12,0) -> 0 | N6: =VLOOKUP($B6,'[1]TK KHOILUONG'!$B:$AH,13,0) -> 0 | O6: =VLOOKUP($B6,'[1]TK KHOILUONG'!$B:$AH,14,0) -> 0 | P6: =VLOOKUP($B6,'[1]TK KHOILUONG'!$B:$AH,15,0) -> 0 | Q6: =VLOOKUP($B6,'[1]TK KHOILUONG'!$B:$AH,16,0) -> 0 | R6: =VLOOKUP($B6,'[1]TK KHOILUONG'!$B:$AH,17,0) -> 0 | S6: =VLOOKUP($B6,'[1]TK KHOILUONG'!$B:$AH,18,0) -> 0 | T6: =VLOOKUP($B6,'[1]TK KHOILUONG'!$B:$AH,19,0) -> 0 | U6: =VLOOKUP($B6,'[1]TK KHOILUONG'!$B:$AH,20,0) -> 0 | V6: =VLOOKUP($B6,'[1]TK KHOILUONG'!$B:$AH,21,0) -> 0 | W6: =VLOOKUP($B6,'[1]TK KHOILUONG'!$B:$AH,22,0) -> 0 | X6: =VLOOKUP($B6,'[1]TK KHOILUONG'!$B:$AH,23,0) -> 0 | Y6: =VLOOKUP($B6,'[1]TK KHOILUONG'!$B:$AH,24,0) -> 0 | Z6: =VLOOKUP($B6,'[1]TK KHOILUONG'!$B:$AH,25,0) -> 0 | AA6: =VLOOKUP($B6,'[1]TK KHOILUONG'!$B:$AH,26,0) -> 0 | AB6: =VLOOKUP($B6,'[1]TK KHOILUONG'!$B:$AH,27,0) -> 0 | AC6: =VLOOKUP($B6,'[1]TK KHOILUONG'!$B:$AH,28,0) -> 0 | AD6: =VLOOKUP($B6,'[1]TK KHOILUONG'!$B:$AH,29,0) -> 0 | AE6: =VLOOKUP($B6,'[1]TK KHOILUONG'!$B:$AH,30,0) -> 0 | AF6: =VLOOKUP($B6,'[1]TK KHOILUONG'!$B:$AH,31,0) -> 0 | AG6: =VLOOKUP($B6,'[1]TK KHOILUONG'!$B:$AH,32,0) -> 0 | AH6: =IF(D6="","",ROUND(I6+N6+R6+V6+Y6+AB6+AE6+SUM(AF6:AG6),2)) -> 0
A7: =IF(D7="","",SUBTOTAL(3,$D$4:$D7)) -> 0 | B7: 01001001 | C7: Ban Giám hiệu | D7: Phạm Hữu Lộc | E7: =VLOOKUP($B7,'[1]TK KHOILUONG'!$B:$AH,4,0) -> 0 | F7: =VLOOKUP($B7,'[1]TK KHOILUONG'!$B:$AH,5,0) -> 0 | G7: =VLOOKUP($B7,'[1]TK KHOILUONG'!$B:$AH,6,0) -> 0 | H7: =VLOOKUP($B7,'[1]TK KHOILUONG'!$B:$AH,7,0) -> 0 | I7: =VLOOKUP($B7,'[1]TK KHOILUONG'!$B:$AH,8,0) -> 0 | J7: =VLOOKUP($B7,'[1]TK KHOILUONG'!$B:$AH,9,0) -> 0 | K7: =VLOOKUP($B7,'[1]TK KHOILUONG'!$B:$AH,10,0) -> 0 | L7: =VLOOKUP($B7,'[1]TK KHOILUONG'!$B:$AH,11,0) -> 0 | M7: =VLOOKUP($B7,'[1]TK KHOILUONG'!$B:$AH,12,0) -> 0 | N7: =VLOOKUP($B7,'[1]TK KHOILUONG'!$B:$AH,13,0) -> 0 | O7: =VLOOKUP($B7,'[1]TK KHOILUONG'!$B:$AH,14,0) -> 0 | P7: =VLOOKUP($B7,'[1]TK KHOILUONG'!$B:$AH,15,0) -> 0 | Q7: =VLOOKUP($B7,'[1]TK KHOILUONG'!$B:$AH,16,0) -> 0 | R7: =VLOOKUP($B7,'[1]TK KHOILUONG'!$B:$AH,17,0) -> 0 | S7: =VLOOKUP($B7,'[1]TK KHOILUONG'!$B:$AH,18,0) -> 0 | T7: =VLOOKUP($B7,'[1]TK KHOILUONG'!$B:$AH,19,0) -> 0 | U7: =VLOOKUP($B7,'[1]TK KHOILUONG'!$B:$AH,20,0) -> 0 | V7: =VLOOKUP($B7,'[1]TK KHOILUONG'!$B:$AH,21,0) -> 0 | W7: =VLOOKUP($B7,'[1]TK KHOILUONG'!$B:$AH,22,0) -> 0 | X7: =VLOOKUP($B7,'[1]TK KHOILUONG'!$B:$AH,23,0) -> 0 | Y7: =VLOOKUP($B7,'[1]TK KHOILUONG'!$B:$AH,24,0) -> 0 | Z7: =VLOOKUP($B7,'[1]TK KHOILUONG'!$B:$AH,25,0) -> 0 | AA7: =VLOOKUP($B7,'[1]TK KHOILUONG'!$B:$AH,26,0) -> 0 | AB7: =VLOOKUP($B7,'[1]TK KHOILUONG'!$B:$AH,27,0) -> 0 | AC7: =VLOOKUP($B7,'[1]TK KHOILUONG'!$B:$AH,28,0) -> 0 | AD7: =VLOOKUP($B7,'[1]TK KHOILUONG'!$B:$AH,29,0) -> 0 | AE7: =VLOOKUP($B7,'[1]TK KHOILUONG'!$B:$AH,30,0) -> 0 | AF7: =VLOOKUP($B7,'[1]TK KHOILUONG'!$B:$AH,31,0) -> 0 | AG7: =VLOOKUP($B7,'[1]TK KHOILUONG'!$B:$AH,32,0) -> 0 | AH7: =IF(D7="","",ROUND(I7+N7+R7+V7+Y7+AB7+AE7+SUM(AF7:AG7),2)) -> 0
A8: =IF(D8="","",SUBTOTAL(3,$D$4:$D8)) -> 1 | B8: 01012023 | C8: Khoa CN Cơ khí | D8: Bùi Anh Tuấn | E8: =VLOOKUP($B8,'[1]TK KHOILUONG'!$B:$AH,4,0) -> 11 | F8: =VLOOKUP($B8,'[1]TK KHOILUONG'!$B:$AH,5,0) -> 0 | G8: =VLOOKUP($B8,'[1]TK KHOILUONG'!$B:$AH,6,0) -> 0 | H8: =VLOOKUP($B8,'[1]TK KHOILUONG'!$B:$AH,7,0) -> 0 | I8: =VLOOKUP($B8,'[1]TK KHOILUONG'!$B:$AH,8,0) -> 11 | J8: =VLOOKUP($B8,'[1]TK KHOILUONG'!$B:$AH,9,0) -> 9.6 | K8: =VLOOKUP($B8,'[1]TK KHOILUONG'!$B:$AH,10,0) -> 7.2 | L8: =VLOOKUP($B8,'[1]TK KHOILUONG'!$B:$AH,11,0) -> 0 | M8: =VLOOKUP($B8,'[1]TK KHOILUONG'!$B:$AH,12,0) -> 0 | N8: =VLOOKUP($B8,'[1]TK KHOILUONG'!$B:$AH,13,0) -> 16.8 | O8: =VLOOKUP($B8,'[1]TK KHOILUONG'!$B:$AH,14,0) -> 158 | P8: =VLOOKUP($B8,'[1]TK KHOILUONG'!$B:$AH,15,0) -> 31 | Q8: =VLOOKUP($B8,'[1]TK KHOILUONG'!$B:$AH,16,0) -> 178 | R8: =VLOOKUP($B8,'[1]TK KHOILUONG'!$B:$AH,17,0) -> 0.55 | S8: =VLOOKUP($B8,'[1]TK KHOILUONG'!$B:$AH,18,0) -> 0 | T8: =VLOOKUP($B8,'[1]TK KHOILUONG'!$B:$AH,19,0) -> 0 | U8: =VLOOKUP($B8,'[1]TK KHOILUONG'!$B:$AH,20,0) -> 0 | V8: =VLOOKUP($B8,'[1]TK KHOILUONG'!$B:$AH,21,0) -> 0 | W8: =VLOOKUP($B8,'[1]TK KHOILUONG'!$B:$AH,22,0) -> 0 | X8: =VLOOKUP($B8,'[1]TK KHOILUONG'!$B:$AH,23,0) -> 0 | Y8: =VLOOKUP($B8,'[1]TK KHOILUONG'!$B:$AH,24,0) -> 0 | Z8: =VLOOKUP($B8,'[1]TK KHOILUONG'!$B:$AH,25,0) -> 0 | AA8: =VLOOKUP($B8,'[1]TK KHOILUONG'!$B:$AH,26,0) -> 0 | AB8: =VLOOKUP($B8,'[1]TK KHOILUONG'!$B:$AH,27,0) -> 0 | AC8: =VLOOKUP($B8,'[1]TK KHOILUONG'!$B:$AH,28,0) -> 0 | AD8: =VLOOKUP($B8,'[1]TK KHOILUONG'!$B:$AH,29,0) -> 0 | AE8: =VLOOKUP($B8,'[1]TK KHOILUONG'!$B:$AH,30,0) -> 0 | AF8: =VLOOKUP($B8,'[1]TK KHOILUONG'!$B:$AH,31,0) -> 0 | AG8: =VLOOKUP($B8,'[1]TK KHOILUONG'!$B:$AH,32,0) -> 2.4 | AH8: =IF(D8="","",ROUND(I8+N8+R8+V8+Y8+AB8+AE8+SUM(AF8:AG8),2)) -> 30.75
A9: =IF(D9="","",SUBTOTAL(3,$D$4:$D9)) -> 2 | B9: 01012003 | C9: Khoa CN Cơ khí | D9: Chung Trần Thế Vinh | E9: =VLOOKUP($B9,'[1]TK KHOILUONG'!$B:$AH,4,0) -> 2 | F9: =VLOOKUP($B9,'[1]TK KHOILUONG'!$B:$AH,5,0) -> 0 | G9: =VLOOKUP($B9,'[1]TK KHOILUONG'!$B:$AH,6,0) -> 0 | H9: =VLOOKUP($B9,'[1]TK KHOILUONG'!$B:$AH,7,0) -> 0 | I9: =VLOOKUP($B9,'[1]TK KHOILUONG'!$B:$AH,8,0) -> 2 | J9: =VLOOKUP($B9,'[1]TK KHOILUONG'!$B:$AH,9,0) -> 0 | K9: =VLOOKUP($B9,'[1]TK KHOILUONG'!$B:$AH,10,0) -> 0 | L9: =VLOOKUP($B9,'[1]TK KHOILUONG'!$B:$AH,11,0) -> 0 | M9: =VLOOKUP($B9,'[1]TK KHOILUONG'!$B:$AH,12,0) -> 0 | N9: =VLOOKUP($B9,'[1]TK KHOILUONG'!$B:$AH,13,0) -> 0 | O9: =VLOOKUP($B9,'[1]TK KHOILUONG'!$B:$AH,14,0) -> 16 | P9: =VLOOKUP($B9,'[1]TK KHOILUONG'!$B:$AH,15,0) -> 118 | Q9: =VLOOKUP($B9,'[1]TK KHOILUONG'!$B:$AH,16,0) -> 45 | R9: =VLOOKUP($B9,'[1]TK KHOILUONG'!$B:$AH,17,0) -> 4.45 | S9: =VLOOKUP($B9,'[1]TK KHOILUONG'!$B:$AH,18,0) -> 0 | T9: =VLOOKUP($B9,'[1]TK KHOILUONG'!$B:$AH,19,0) -> 0 | U9: =VLOOKUP($B9,'[1]TK KHOILUONG'!$B:$AH,20,0) -> 0 | V9: =VLOOKUP($B9,'[1]TK KHOILUONG'!$B:$AH,21,0) -> 0 | W9: =VLOOKUP($B9,'[1]TK KHOILUONG'!$B:$AH,22,0) -> 0 | X9: =VLOOKUP($B9,'[1]TK KHOILUONG'!$B:$AH,23,0) -> 0 | Y9: =VLOOKUP($B9,'[1]TK KHOILUONG'!$B:$AH,24,0) -> 0 | Z9: =VLOOKUP($B9,'[1]TK KHOILUONG'!$B:$AH,25,0) -> 0 | AA9: =VLOOKUP($B9,'[1]TK KHOILUONG'!$B:$AH,26,0) -> 0 | AB9: =VLOOKUP($B9,'[1]TK KHOILUONG'!$B:$AH,27,0) -> 0 | AC9: =VLOOKUP($B9,'[1]TK KHOILUONG'!$B:$AH,28,0) -> 0 | AD9: =VLOOKUP($B9,'[1]TK KHOILUONG'!$B:$AH,29,0) -> 0 | AE9: =VLOOKUP($B9,'[1]TK KHOILUONG'!$B:$AH,30,0) -> 0 | AF9: =VLOOKUP($B9,'[1]TK KHOILUONG'!$B:$AH,31,0) -> 0 | AG9: =VLOOKUP($B9,'[1]TK KHOILUONG'!$B:$AH,32,0) -> 26.4 | AH9: =IF(D9="","",ROUND(I9+N9+R9+V9+Y9+AB9+AE9+SUM(AF9:AG9),2)) -> 32.85
A10: =IF(D10="","",SUBTOTAL(3,$D$4:$D10)) -> 3 | B10: 01012005 | C10: Khoa CN Cơ khí | D10: Đỗ Thị Phương Khanh | E10: =VLOOKUP($B10,'[1]TK KHOILUONG'!$B:$AH,4,0) -> 0 | F10: =VLOOKUP($B10,'[1]TK KHOILUONG'!$B:$AH,5,0) -> 4 | G10: =VLOOKUP($B10,'[1]TK KHOILUONG'!$B:$AH,6,0) -> 0 | H10: =VLOOKUP($B10,'[1]TK KHOILUONG'!$B:$AH,7,0) -> 0 | I10: =VLOOKUP($B10,'[1]TK KHOILUONG'!$B:$AH,8,0) -> 8 | J10: =VLOOKUP($B10,'[1]TK KHOILUONG'!$B:$AH,9,0) -> 12.8 | K10: =VLOOKUP($B10,'[1]TK KHOILUONG'!$B:$AH,10,0) -> 3.6 | L10: =VLOOKUP($B10,'[1]TK KHOILUONG'!$B:$AH,11,0) -> 0 | M10: =VLOOKUP($B10,'[1]TK KHOILUONG'!$B:$AH,12,0) -> 0 | N10: =VLOOKUP($B10,'[1]TK KHOILUONG'!$B:$AH,13,0) -> 16.4 | O10: =VLOOKUP($B10,'[1]TK KHOILUONG'!$B:$AH,14,0) -> 80 | P10: =VLOOKUP($B10,'[1]TK KHOILUONG'!$B:$AH,15,0) -> 71 | Q10: =VLOOKUP($B10,'[1]TK KHOILUONG'!$B:$AH,16,0) -> 22 | R10: =VLOOKUP($B10,'[1]TK KHOILUONG'!$B:$AH,17,0) -> 6.45 | S10: =VLOOKUP($B10,'[1]TK KHOILUONG'!$B:$AH,18,0) -> 0 | T10: =VLOOKUP($B10,'[1]TK KHOILUONG'!$B:$AH,19,0) -> 0 | U10: =VLOOKUP($B10,'[1]TK KHOILUONG'!$B:$AH,20,0) -> 0 | V10: =VLOOKUP($B10,'[1]TK KHOILUONG'!$B:$AH,21,0) -> 0 | W10: =VLOOKUP($B10,'[1]TK KHOILUONG'!$B:$AH,22,0) -> 0 | X10: =VLOOKUP($B10,'[1]TK KHOILUONG'!$B:$AH,23,0) -> 0 | Y10: =VLOOKUP($B10,'[1]TK KHOILUONG'!$B:$AH,24,0) -> 0 | Z10: =VLOOKUP($B10,'[1]TK KHOILUONG'!$B:$AH,25,0) -> 0 | AA10: =VLOOKUP($B10,'[1]TK KHOILUONG'!$B:$AH,26,0) -> 0 | AB10: =VLOOKUP($B10,'[1]TK KHOILUONG'!$B:$AH,27,0) -> 0 | AC10: =VLOOKUP($B10,'[1]TK KHOILUONG'!$B:$AH,28,0) -> 0 | AD10: =VLOOKUP($B10,'[1]TK KHOILUONG'!$B:$AH,29,0) -> 0 | AE10: =VLOOKUP($B10,'[1]TK KHOILUONG'!$B:$AH,30,0) -> 0 | AF10: =VLOOKUP($B10,'[1]TK KHOILUONG'!$B:$AH,31,0) -> 0 | AG10: =VLOOKUP($B10,'[1]TK KHOILUONG'!$B:$AH,32,0) -> 2.4 | AH10: =IF(D10="","",ROUND(I10+N10+R10+V10+Y10+AB10+AE10+SUM(AF10:AG10),2)) -> 33.25
A11: =IF(D11="","",SUBTOTAL(3,$D$4:$D11)) -> 4 | B11: 01012014 | C11: Khoa CN Cơ khí | D11: Dương Minh Chung | E11: =VLOOKUP($B11,'[1]TK KHOILUONG'!$B:$AH,4,0) -> 4 | F11: =VLOOKUP($B11,'[1]TK KHOILUONG'!$B:$AH,5,0) -> 0 | G11: =VLOOKUP($B11,'[1]TK KHOILUONG'!$B:$AH,6,0) -> 0 | H11: =VLOOKUP($B11,'[1]TK KHOILUONG'!$B:$AH,7,0) -> 0 | I11: =VLOOKUP($B11,'[1]TK KHOILUONG'!$B:$AH,8,0) -> 4 | J11: =VLOOKUP($B11,'[1]TK KHOILUONG'!$B:$AH,9,0) -> 10.8 | K11: =VLOOKUP($B11,'[1]TK KHOILUONG'!$B:$AH,10,0) -> 0 | L11: =VLOOKUP($B11,'[1]TK KHOILUONG'!$B:$AH,11,0) -> 0 | M11: =VLOOKUP($B11,'[1]TK KHOILUONG'!$B:$AH,12,0) -> 0 | N11: =VLOOKUP($B11,'[1]TK KHOILUONG'!$B:$AH,13,0) -> 10.8 | O11: =VLOOKUP($B11,'[1]TK KHOILUONG'!$B:$AH,14,0) -> 93 | P11: =VLOOKUP($B11,'[1]TK KHOILUONG'!$B:$AH,15,0) -> 65 | Q11: =VLOOKUP($B11,'[1]TK KHOILUONG'!$B:$AH,16,0) -> 40 | R11: =VLOOKUP($B11,'[1]TK KHOILUONG'!$B:$AH,17,0) -> 5.9 | S11: =VLOOKUP($B11,'[1]TK KHOILUONG'!$B:$AH,18,0) -> 0 | T11: =VLOOKUP($B11,'[1]TK KHOILUONG'!$B:$AH,19,0) -> 0 | U11: =VLOOKUP($B11,'[1]TK KHOILUONG'!$B:$AH,20,0) -> 0 | V11: =VLOOKUP($B11,'[1]TK KHOILUONG'!$B:$AH,21,0) -> 0 | W11: =VLOOKUP($B11,'[1]TK KHOILUONG'!$B:$AH,22,0) -> 0 | X11: =VLOOKUP($B11,'[1]TK KHOILUONG'!$B:$AH,23,0) -> 0 | Y11: =VLOOKUP($B11,'[1]TK KHOILUONG'!$B:$AH,24,0) -> 0 | Z11: =VLOOKUP($B11,'[1]TK KHOILUONG'!$B:$AH,25,0) -> 0 | AA11: =VLOOKUP($B11,'[1]TK KHOILUONG'!$B:$AH,26,0) -> 0 | AB11: =VLOOKUP($B11,'[1]TK KHOILUONG'!$B:$AH,27,0) -> 0 | AC11: =VLOOKUP($B11,'[1]TK KHOILUONG'!$B:$AH,28,0) -> 0 | AD11: =VLOOKUP($B11,'[1]TK KHOILUONG'!$B:$AH,29,0) -> 0 | AE11: =VLOOKUP($B11,'[1]TK KHOILUONG'!$B:$AH,30,0) -> 0 | AF11: =VLOOKUP($B11,'[1]TK KHOILUONG'!$B:$AH,31,0) -> 0 | AG11: =VLOOKUP($B11,'[1]TK KHOILUONG'!$B:$AH,32,0) -> 0 | AH11: =IF(D11="","",ROUND(I11+N11+R11+V11+Y11+AB11+AE11+SUM(AF11:AG11),2)) -> 20.7
A12: =IF(D12="","",SUBTOTAL(3,$D$4:$D12)) -> 5 | B12: 01012028 | C12: Khoa CN Cơ khí | D12: Dương Thị Hồng | E12: =VLOOKUP($B12,'[1]TK KHOILUONG'!$B:$AH,4,0) -> 10 | F12: =VLOOKUP($B12,'[1]TK KHOILUONG'!$B:$AH,5,0) -> 0 | G12: =VLOOKUP($B12,'[1]TK KHOILUONG'!$B:$AH,6,0) -> 0 | H12: =VLOOKUP($B12,'[1]TK KHOILUONG'!$B:$AH,7,0) -> 0 | I12: =VLOOKUP($B12,'[1]TK KHOILUONG'!$B:$AH,8,0) -> 10 | J12: =VLOOKUP($B12,'[1]TK KHOILUONG'!$B:$AH,9,0) -> 3.6 | K12: =VLOOKUP($B12,'[1]TK KHOILUONG'!$B:$AH,10,0) -> 0 | L12: =VLOOKUP($B12,'[1]TK KHOILUONG'!$B:$AH,11,0) -> 0 | M12: =VLOOKUP($B12,'[1]TK KHOILUONG'!$B:$AH,12,0) -> 0 | N12: =VLOOKUP($B12,'[1]TK KHOILUONG'!$B:$AH,13,0) -> 3.6 | O12: =VLOOKUP($B12,'[1]TK KHOILUONG'!$B:$AH,14,0) -> 489 | P12: =VLOOKUP($B12,'[1]TK KHOILUONG'!$B:$AH,15,0) -> 529 | Q12: =VLOOKUP($B12,'[1]TK KHOILUONG'!$B:$AH,16,0) -> 515 | R12: =VLOOKUP($B12,'[1]TK KHOILUONG'!$B:$AH,17,0) -> 25.15 | S12: =VLOOKUP($B12,'[1]TK KHOILUONG'!$B:$AH,18,0) -> 0 | T12: =VLOOKUP($B12,'[1]TK KHOILUONG'!$B:$AH,19,0) -> 0 | U12: =VLOOKUP($B12,'[1]TK KHOILUONG'!$B:$AH,20,0) -> 0 | V12: =VLOOKUP($B12,'[1]TK KHOILUONG'!$B:$AH,21,0) -> 0 | W12: =VLOOKUP($B12,'[1]TK KHOILUONG'!$B:$AH,22,0) -> 0 | X12: =VLOOKUP($B12,'[1]TK KHOILUONG'!$B:$AH,23,0) -> 0 | Y12: =VLOOKUP($B12,'[1]TK KHOILUONG'!$B:$AH,24,0) -> 0 | Z12: =VLOOKUP($B12,'[1]TK KHOILUONG'!$B:$AH,25,0) -> 0 | AA12: =VLOOKUP($B12,'[1]TK KHOILUONG'!$B:$AH,26,0) -> 0 | AB12: =VLOOKUP($B12,'[1]TK KHOILUONG'!$B:$AH,27,0) -> 0 | AC12: =VLOOKUP($B12,'[1]TK KHOILUONG'!$B:$AH,28,0) -> 0 | AD12: =VLOOKUP($B12,'[1]TK KHOILUONG'!$B:$AH,29,0) -> 0 | AE12: =VLOOKUP($B12,'[1]TK KHOILUONG'!$B:$AH,30,0) -> 0 | AF12: =VLOOKUP($B12,'[1]TK KHOILUONG'!$B:$AH,31,0) -> 0 | AG12: =VLOOKUP($B12,'[1]TK KHOILUONG'!$B:$AH,32,0) -> 0 | AH12: =IF(D12="","",ROUND(I12+N12+R12+V12+Y12+AB12+AE12+SUM(AF12:AG12),2)) -> 38.75
A13: =IF(D13="","",SUBTOTAL(3,$D$4:$D13)) -> 6 | B13: 01012027 | C13: Khoa CN Cơ khí | D13: Giáp Đức Nhận | E13: =VLOOKUP($B13,'[1]TK KHOILUONG'!$B:$AH,4,0) -> 0 | F13: =VLOOKUP($B13,'[1]TK KHOILUONG'!$B:$AH,5,0) -> 0 | G13: =VLOOKUP($B13,'[1]TK KHOILUONG'!$B:$AH,6,0) -> 0 | H13: =VLOOKUP($B13,'[1]TK KHOILUONG'!$B:$AH,7,0) -> 0 | I13: =VLOOKUP($B13,'[1]TK KHOILUONG'!$B:$AH,8,0) -> 0 | J13: =VLOOKUP($B13,'[1]TK KHOILUONG'!$B:$AH,9,0) -> 0 | K13: =VLOOKUP($B13,'[1]TK KHOILUONG'!$B:$AH,10,0) -> 0 | L13: =VLOOKUP($B13,'[1]TK KHOILUONG'!$B:$AH,11,0) -> 0 | M13: =VLOOKUP($B13,'[1]TK KHOILUONG'!$B:$AH,12,0) -> 0 | N13: =VLOOKUP($B13,'[1]TK KHOILUONG'!$B:$AH,13,0) -> 0 | O13: =VLOOKUP($B13,'[1]TK KHOILUONG'!$B:$AH,14,0) -> 0 | P13: =VLOOKUP($B13,'[1]TK KHOILUONG'!$B:$AH,15,0) -> 0 | Q13: =VLOOKUP($B13,'[1]TK KHOILUONG'!$B:$AH,16,0) -> 0 | R13: =VLOOKUP($B13,'[1]TK KHOILUONG'!$B:$AH,17,0) -> 0 | S13: =VLOOKUP($B13,'[1]TK KHOILUONG'!$B:$AH,18,0) -> 0 | T13: =VLOOKUP($B13,'[1]TK KHOILUONG'!$B:$AH,19,0) -> 0 | U13: =VLOOKUP($B13,'[1]TK KHOILUONG'!$B:$AH,20,0) -> 0 | V13: =VLOOKUP($B13,'[1]TK KHOILUONG'!$B:$AH,21,0) -> 0 | W13: =VLOOKUP($B13,'[1]TK KHOILUONG'!$B:$AH,22,0) -> 0 | X13: =VLOOKUP($B13,'[1]TK KHOILUONG'!$B:$AH,23,0) -> 0 | Y13: =VLOOKUP($B13,'[1]TK KHOILUONG'!$B:$AH,24,0) -> 0 | Z13: =VLOOKUP($B13,'[1]TK KHOILUONG'!$B:$AH,25,0) -> 0 | AA13: =VLOOKUP($B13,'[1]TK KHOILUONG'!$B:$AH,26,0) -> 0 | AB13: =VLOOKUP($B13,'[1]TK KHOILUONG'!$B:$AH,27,0) -> 0 | AC13: =VLOOKUP($B13,'[1]TK KHOILUONG'!$B:$AH,28,0) -> 0 | AD13: =VLOOKUP($B13,'[1]TK KHOILUONG'!$B:$AH,29,0) -> 0 | AE13: =VLOOKUP($B13,'[1]TK KHOILUONG'!$B:$AH,30,0) -> 0 | AF13: =VLOOKUP($B13,'[1]TK KHOILUONG'!$B:$AH,31,0) -> 0 | AG13: =VLOOKUP($B13,'[1]TK KHOILUONG'!$B:$AH,32,0) -> 0 | AH13: =IF(D13="","",ROUND(I13+N13+R13+V13+Y13+AB13+AE13+SUM(AF13:AG13),2)) -> 0
A14: =IF(D14="","",SUBTOTAL(3,$D$4:$D14)) -> 7 | B14: 01012030 | C14: Khoa CN Cơ khí | D14: Hồ Nhật Linh | E14: =VLOOKUP($B14,'[1]TK KHOILUONG'!$B:$AH,4,0) -> 0 | F14: =VLOOKUP($B14,'[1]TK KHOILUONG'!$B:$AH,5,0) -> 0 | G14: =VLOOKUP($B14,'[1]TK KHOILUONG'!$B:$AH,6,0) -> 0 | H14: =VLOOKUP($B14,'[1]TK KHOILUONG'!$B:$AH,7,0) -> 0 | I14: =VLOOKUP($B14,'[1]TK KHOILUONG'!$B:$AH,8,0) -> 0 | J14: =VLOOKUP($B14,'[1]TK KHOILUONG'!$B:$AH,9,0) -> 0 | K14: =VLOOKUP($B14,'[1]TK KHOILUONG'!$B:$AH,10,0) -> 0 | L14: =VLOOKUP($B14,'[1]TK KHOILUONG'!$B:$AH,11,0) -> 0 | M14: =VLOOKUP($B14,'[1]TK KHOILUONG'!$B:$AH,12,0) -> 0 | N14: =VLOOKUP($B14,'[1]TK KHOILUONG'!$B:$AH,13,0) -> 0 | O14: =VLOOKUP($B14,'[1]TK KHOILUONG'!$B:$AH,14,0) -> 0 | P14: =VLOOKUP($B14,'[1]TK KHOILUONG'!$B:$AH,15,0) -> 0 | Q14: =VLOOKUP($B14,'[1]TK KHOILUONG'!$B:$AH,16,0) -> 0 | R14: =VLOOKUP($B14,'[1]TK KHOILUONG'!$B:$AH,17,0) -> 0 | S14: =VLOOKUP($B14,'[1]TK KHOILUONG'!$B:$AH,18,0) -> 0 | T14: =VLOOKUP($B14,'[1]TK KHOILUONG'!$B:$AH,19,0) -> 0 | U14: =VLOOKUP($B14,'[1]TK KHOILUONG'!$B:$AH,20,0) -> 0 | V14: =VLOOKUP($B14,'[1]TK KHOILUONG'!$B:$AH,21,0) -> 0 | W14: =VLOOKUP($B14,'[1]TK KHOILUONG'!$B:$AH,22,0) -> 0 | X14: =VLOOKUP($B14,'[1]TK KHOILUONG'!$B:$AH,23,0) -> 0 | Y14: =VLOOKUP($B14,'[1]TK KHOILUONG'!$B:$AH,24,0) -> 0 | Z14: =VLOOKUP($B14,'[1]TK KHOILUONG'!$B:$AH,25,0) -> 0 | AA14: =VLOOKUP($B14,'[1]TK KHOILUONG'!$B:$AH,26,0) -> 0 | AB14: =VLOOKUP($B14,'[1]TK KHOILUONG'!$B:$AH,27,0) -> 0 | AC14: =VLOOKUP($B14,'[1]TK KHOILUONG'!$B:$AH,28,0) -> 0 | AD14: =VLOOKUP($B14,'[1]TK KHOILUONG'!$B:$AH,29,0) -> 0 | AE14: =VLOOKUP($B14,'[1]TK KHOILUONG'!$B:$AH,30,0) -> 0 | AF14: =VLOOKUP($B14,'[1]TK KHOILUONG'!$B:$AH,31,0) -> 0 | AG14: =VLOOKUP($B14,'[1]TK KHOILUONG'!$B:$AH,32,0) -> 0 | AH14: =IF(D14="","",ROUND(I14+N14+R14+V14+Y14+AB14+AE14+SUM(AF14:AG14),2)) -> 0
A15: =IF(D15="","",SUBTOTAL(3,$D$4:$D15)) -> 8 | B15: 01012016 | C15: Khoa CN Cơ khí | D15: Lư Thị Yến Vũ | E15: =VLOOKUP($B15,'[1]TK KHOILUONG'!$B:$AH,4,0) -> 4 | F15: =VLOOKUP($B15,'[1]TK KHOILUONG'!$B:$AH,5,0) -> 3 | G15: =VLOOKUP($B15,'[1]TK KHOILUONG'!$B:$AH,6,0) -> 0 | H15: =VLOOKUP($B15,'[1]TK KHOILUONG'!$B:$AH,7,0) -> 0 | I15: =VLOOKUP($B15,'[1]TK KHOILUONG'!$B:$AH,8,0) -> 10 | J15: =VLOOKUP($B15,'[1]TK KHOILUONG'!$B:$AH,9,0) -> 0 | K15: =VLOOKUP($B15,'[1]TK KHOILUONG'!$B:$AH,10,0) -> 14.8 | L15: =VLOOKUP($B15,'[1]TK KHOILUONG'!$B:$AH,11,0) -> 0 | M15: =VLOOKUP($B15,'[1]TK KHOILUONG'!$B:$AH,12,0) -> 0 | N15: =VLOOKUP($B15,'[1]TK KHOILUONG'!$B:$AH,13,0) -> 14.8 | O15: =VLOOKUP($B15,'[1]TK KHOILUONG'!$B:$AH,14,0) -> 114 | P15: =VLOOKUP($B15,'[1]TK KHOILUONG'!$B:$AH,15,0) -> 187 | Q15: =VLOOKUP($B15,'[1]TK KHOILUONG'!$B:$AH,16,0) -> 152 | R15: =VLOOKUP($B15,'[1]TK KHOILUONG'!$B:$AH,17,0) -> 7.45 | S15: =VLOOKUP($B15,'[1]TK KHOILUONG'!$B:$AH,18,0) -> 181 | T15: =VLOOKUP($B15,'[1]TK KHOILUONG'!$B:$AH,19,0) -> 201 | U15: =VLOOKUP($B15,'[1]TK KHOILUONG'!$B:$AH,20,0) -> 181 | V15: =VLOOKUP($B15,'[1]TK KHOILUONG'!$B:$AH,21,0) -> 20.1 | W15: =VLOOKUP($B15,'[1]TK KHOILUONG'!$B:$AH,22,0) -> 0 | X15: =VLOOKUP($B15,'[1]TK KHOILUONG'!$B:$AH,23,0) -> 0 | Y15: =VLOOKUP($B15,'[1]TK KHOILUONG'!$B:$AH,24,0) -> 0 | Z15: =VLOOKUP($B15,'[1]TK KHOILUONG'!$B:$AH,25,0) -> 0 | AA15: =VLOOKUP($B15,'[1]TK KHOILUONG'!$B:$AH,26,0) -> 0 | AB15: =VLOOKUP($B15,'[1]TK KHOILUONG'!$B:$AH,27,0) -> 0 | AC15: =VLOOKUP($B15,'[1]TK KHOILUONG'!$B:$AH,28,0) -> 0 | AD15: =VLOOKUP($B15,'[1]TK KHOILUONG'!$B:$AH,29,0) -> 0 | AE15: =VLOOKUP($B15,'[1]TK KHOILUONG'!$B:$AH,30,0) -> 0 | AF15: =VLOOKUP($B15,'[1]TK KHOILUONG'!$B:$AH,31,0) -> 0 | AG15: =VLOOKUP($B15,'[1]TK KHOILUONG'!$B:$AH,32,0) -> 1.6 | AH15: =IF(D15="","",ROUND(I15+N15+R15+V15+Y15+AB15+AE15+SUM(AF15:AG15),2)) -> 53.95
... A257: =IF(D257="","",SUBTOTAL(3,$D$4:$D257)) -> 29 | B257: 01017003 | C257: TT Truyền thông - Thư viện | D257: Nguyễn Hữu Thiện | E257: =VLOOKUP($B257,'[1]TK KHOILUONG'!$B:$AH,4,0) -> 0 | F257: =VLOOKUP($B257,'[1]TK KHOILUONG'!$B:$AH,5,0) -> 0 | G257: =VLOOKUP($B257,'[1]TK KHOILUONG'!$B:$AH,6,0) -> 0 | H257: =VLOOKUP($B257,'[1]TK KHOILUONG'!$B:$AH,7,0) -> 0 | I257: =VLOOKUP($B257,'[1]TK KHOILUONG'!$B:$AH,8,0) -> 0 | J257: =VLOOKUP($B257,'[1]TK KHOILUONG'!$B:$AH,9,0) -> 0 | K257: =VLOOKUP($B257,'[1]TK KHOILUONG'!$B:$AH,10,0) -> 0 | L257: =VLOOKUP($B257,'[1]TK KHOILUONG'!$B:$AH,11,0) -> 0 | M257: =VLOOKUP($B257,'[1]TK KHOILUONG'!$B:$AH,12,0) -> 0 | N257: =VLOOKUP($B257,'[1]TK KHOILUONG'!$B:$AH,13,0) -> 0 | O257: =VLOOKUP($B257,'[1]TK KHOILUONG'!$B:$AH,14,0) -> 37 | P257: =VLOOKUP($B257,'[1]TK KHOILUONG'!$B:$AH,15,0) -> 32 | Q257: =VLOOKUP($B257,'[1]TK KHOILUONG'!$B:$AH,16,0) -> 33 | R257: =VLOOKUP($B257,'[1]TK KHOILUONG'!$B:$AH,17,0) -> 1.8 | S257: =VLOOKUP($B257,'[1]TK KHOILUONG'!$B:$AH,18,0) -> 0 | T257: =VLOOKUP($B257,'[1]TK KHOILUONG'!$B:$AH,19,0) -> 0 | U257: =VLOOKUP($B257,'[1]TK KHOILUONG'!$B:$AH,20,0) -> 0 | V257: =VLOOKUP($B257,'[1]TK KHOILUONG'!$B:$AH,21,0) -> 0 | W257: =VLOOKUP($B257,'[1]TK KHOILUONG'!$B:$AH,22,0) -> 0 | X257: =VLOOKUP($B257,'[1]TK KHOILUONG'!$B:$AH,23,0) -> 0 | Y257: =VLOOKUP($B257,'[1]TK KHOILUONG'!$B:$AH,24,0) -> 0 | Z257: =VLOOKUP($B257,'[1]TK KHOILUONG'!$B:$AH,25,0) -> 0 | AA257: =VLOOKUP($B257,'[1]TK KHOILUONG'!$B:$AH,26,0) -> 0 | AB257: =VLOOKUP($B257,'[1]TK KHOILUONG'!$B:$AH,27,0) -> 0 | AC257: =VLOOKUP($B257,'[1]TK KHOILUONG'!$B:$AH,28,0) -> 0 | AD257: =VLOOKUP($B257,'[1]TK KHOILUONG'!$B:$AH,29,0) -> 0 | AE257: =VLOOKUP($B257,'[1]TK KHOILUONG'!$B:$AH,30,0) -> 0 | AF257: =VLOOKUP($B257,'[1]TK KHOILUONG'!$B:$AH,31,0) -> 0 | AG257: =VLOOKUP($B257,'[1]TK KHOILUONG'!$B:$AH,32,0) -> 0 | AH257: =IF(D257="","",ROUND(I257+N257+R257+V257+Y257+AB257+AE257+SUM(AF257:AG257),2)) -> 1.8
A258: =IF(D258="","",SUBTOTAL(3,$D$4:$D258))
A259: =IF(D259="","",SUBTOTAL(3,$D$4:$D259))
E260: =SUBTOTAL(9,E2:E259) -> 84 | F260: =SUBTOTAL(9,F2:F259) -> 15 | G260: =SUBTOTAL(9,G2:G259) -> 0 | H260: =SUBTOTAL(9,H2:H259) -> 0 | I260: =SUBTOTAL(9,I2:I259) -> 114 | J260: =SUBTOTAL(9,J2:J259) -> 174.4 | K260: =SUBTOTAL(9,K2:K259) -> 108.4 | L260: =SUBTOTAL(9,L2:L259) -> 0 | ... AH260: =SUBTOTAL(9,AH2:AH259) -> 767.85

Sheet HK2
A1: STT | B1: Mã nhân sự | C1: Đơn vị | D1: HỌ VÀ TÊN GIẢNG VIÊN | E1: ĐỀ THI | J1: COI THI | O1: CHẤM THI KTHP | W1: CHẤM THI TỐT NGHIỆP | AF1: DỰ PHÒNG KỲ THI | AG1: GIÁM SÁT | AH1: TỔNG KHỐI LƯỢNG | AI1: =SUBTOTAL(9,AH:AH) -> 440.75
O2: LÝ THUYẾT | S2: TIỂU LUẬN | W2: LÝ THUYẾT | Z2: T.HÀNH CHUNG | AC2: T.HÀNH RIÊNG
E3: SL ĐỀ LT KTHP | F3: SL ĐỀ TN KTHP | G3: SL ĐỀ LT TN | H3: SL ĐỀ TH TN | I3: KL SOẠN ĐỀ (tiết) | J3: KTHPLT COITHI 1 | K3: KTHPLT COITHI 2 | L3: ThiTN COITHI 1 | M3: ThiTN COITHI 2 | N3: KL COITHI (tiết) | O3: SL BÀI LT CHẤM 1 | P3: SL BÀI LT CHẤM 2 | Q3: SL CHẤM LT NGHĨA VỤ | R3: KL CHẤM LT (tiết) | S3: SL BÀI TL CHẤM 1 | T3: SL BÀI TL CHẤM 2 | U3: SL CHẤM TL NGHĨA VỤ | V3: KL CHẤM TL (tiết) | W3: SL BÀI LT CHẤM 1 | X3: SL BÀI LT CHẤM 2 | Y3: KL CHẤM LT (tiết) | Z3: SL BÀI TL CHẤM 1 | AA3: SL BÀI TL CHẤM 2 | AB3: KL CHẤM TL (tiết) | AC3: SL BÀI TL CHẤM 1 | AD3: SL BÀI TL CHẤM 2 | AE3: KL CHẤM TL (tiết)
A4: =IF(D4="","",SUBTOTAL(3,$D$4:$D4)) -> 0 | B4: 01002001 | C4: Ban Giám hiệu | D4: Đinh Hồng Minh | E4: =VLOOKUP($B4,'[2]TK KHOILUONG'!$B:$AH,4,0) -> 0 | F4: =VLOOKUP($B4,'[2]TK KHOILUONG'!$B:$AH,5,0) -> 0 | G4: =VLOOKUP($B4,'[2]TK KHOILUONG'!$B:$AH,6,0) -> 0 | H4: =VLOOKUP($B4,'[2]TK KHOILUONG'!$B:$AH,7,0) -> 0 | I4: =VLOOKUP($B4,'[2]TK KHOILUONG'!$B:$AH,8,0) -> 0 | J4: =VLOOKUP($B4,'[2]TK KHOILUONG'!$B:$AH,9,0) -> 0 | K4: =VLOOKUP($B4,'[2]TK KHOILUONG'!$B:$AH,10,0) -> 0 | L4: =VLOOKUP($B4,'[2]TK KHOILUONG'!$B:$AH,11,0) -> 0 | M4: =VLOOKUP($B4,'[2]TK KHOILUONG'!$B:$AH,12,0) -> 0 | N4: =VLOOKUP($B4,'[2]TK KHOILUONG'!$B:$AH,13,0) -> 0 | O4: =VLOOKUP($B4,'[2]TK KHOILUONG'!$B:$AH,14,0) -> 0 | P4: =VLOOKUP($B4,'[2]TK KHOILUONG'!$B:$AH,15,0) -> 0 | Q4: =VLOOKUP($B4,'[2]TK KHOILUONG'!$B:$AH,16,0) -> 0 | R4: =VLOOKUP($B4,'[2]TK KHOILUONG'!$B:$AH,17,0) -> 0 | S4: =VLOOKUP($B4,'[2]TK KHOILUONG'!$B:$AH,18,0) -> 0 | T4: =VLOOKUP($B4,'[2]TK KHOILUONG'!$B:$AH,19,0) -> 0 | U4: =VLOOKUP($B4,'[2]TK KHOILUONG'!$B:$AH,20,0) -> 0 | V4: =VLOOKUP($B4,'[2]TK KHOILUONG'!$B:$AH,21,0) -> 0 | W4: =VLOOKUP($B4,'[2]TK KHOILUONG'!$B:$AH,22,0) -> 0 | X4: =VLOOKUP($B4,'[2]TK KHOILUONG'!$B:$AH,23,0) -> 0 | Y4: =VLOOKUP($B4,'[2]TK KHOILUONG'!$B:$AH,24,0) -> 0 | Z4: =VLOOKUP($B4,'[2]TK KHOILUONG'!$B:$AH,25,0) -> 0 | AA4: =VLOOKUP($B4,'[2]TK KHOILUONG'!$B:$AH,26,0) -> 0 | AB4: =VLOOKUP($B4,'[2]TK KHOILUONG'!$B:$AH,27,0) -> 0 | AC4: =VLOOKUP($B4,'[2]TK KHOILUONG'!$B:$AH,28,0) -> 0 | AD4: =VLOOKUP($B4,'[2]TK KHOILUONG'!$B:$AH,29,0) -> 0 | AE4: =VLOOKUP($B4,'[2]TK KHOILUONG'!$B:$AH,30,0) -> 0 | AF4: =VLOOKUP($B4,'[2]TK KHOILUONG'!$B:$AH,31,0) -> 0 | AG4: =VLOOKUP($B4,'[2]TK KHOILUONG'!$B:$AH,32,0) -> 0 | AH4: =IF(D4="","",ROUND(I4+N4+R4+V4+Y4+AB4+AE4+SUM(AF4:AG4),2)) -> 0
A5: =IF(D5="","",SUBTOTAL(3,$D$4:$D5)) -> 0 | B5: 01001006 | C5: Ban Giám hiệu | D5: Đinh Văn Đệ | E5: =VLOOKUP($B5,'[2]TK KHOILUONG'!$B:$AH,4,0) -> 0 | F5: =VLOOKUP($B5,'[2]TK KHOILUONG'!$B:$AH,5,0) -> 0 | G5: =VLOOKUP($B5,'[2]TK KHOILUONG'!$B:$AH,6,0) -> 0 | H5: =VLOOKUP($B5,'[2]TK KHOILUONG'!$B:$AH,7,0) -> 0 | I5: =VLOOKUP($B5,'[2]TK KHOILUONG'!$B:$AH,8,0) -> 0 | J5: =VLOOKUP($B5,'[2]TK KHOILUONG'!$B:$AH,9,0) -> 0 | K5: =VLOOKUP($B5,'[2]TK KHOILUONG'!$B:$AH,10,0) -> 0 | L5: =VLOOKUP($B5,'[2]TK KHOILUONG'!$B:$AH,11,0) -> 0 | M5: =VLOOKUP($B5,'[2]TK KHOILUONG'!$B:$AH,12,0) -> 0 | N5: =VLOOKUP($B5,'[2]TK KHOILUONG'!$B:$AH,13,0) -> 0 | O5: =VLOOKUP($B5,'[2]TK KHOILUONG'!$B:$AH,14,0) -> 54 | P5: =VLOOKUP($B5,'[2]TK KHOILUONG'!$B:$AH,15,0) -> 0 | Q5: =VLOOKUP($B5,'[2]TK KHOILUONG'!$B:$AH,16,0) -> 107 | R5: =VLOOKUP($B5,'[2]TK KHOILUONG'!$B:$AH,17,0) -> -2.65 | S5: =VLOOKUP($B5,'[2]TK KHOILUONG'!$B:$AH,18,0) -> 0 | T5: =VLOOKUP($B5,'[2]TK KHOILUONG'!$B:$AH,19,0) -> 0 | U5: =VLOOKUP($B5,'[2]TK KHOILUONG'!$B:$AH,20,0) -> 0 | V5: =VLOOKUP($B5,'[2]TK KHOILUONG'!$B:$AH,21,0) -> 0 | W5: =VLOOKUP($B5,'[2]TK KHOILUONG'!$B:$AH,22,0) -> 0 | X5: =VLOOKUP($B5,'[2]TK KHOILUONG'!$B:$AH,23,0) -> 0 | Y5: =VLOOKUP($B5,'[2]TK KHOILUONG'!$B:$AH,24,0) -> 0 | Z5: =VLOOKUP($B5,'[2]TK KHOILUONG'!$B:$AH,25,0) -> 0 | AA5: =VLOOKUP($B5,'[2]TK KHOILUONG'!$B:$AH,26,0) -> 0 | AB5: =VLOOKUP($B5,'[2]TK KHOILUONG'!$B:$AH,27,0) -> 0 | AC5: =VLOOKUP($B5,'[2]TK KHOILUONG'!$B:$AH,28,0) -> 0 | AD5: =VLOOKUP($B5,'[2]TK KHOILUONG'!$B:$AH,29,0) -> 0 | AE5: =VLOOKUP($B5,'[2]TK KHOILUONG'!$B:$AH,30,0) -> 0 | AF5: =VLOOKUP($B5,'[2]TK KHOILUONG'!$B:$AH,31,0) -> 0 | AG5: =VLOOKUP($B5,'[2]TK KHOILUONG'!$B:$AH,32,0) -> 0 | AH5: =IF(D5="","",ROUND(I5+N5+R5+V5+Y5+AB5+AE5+SUM(AF5:AG5),2)) -> -2.65
A6: =IF(D6="","",SUBTOTAL(3,$D$4:$D6)) -> 0 | B6: 01001003 | C6: Ban Giám hiệu | D6: Nguyễn Văn Dũng | E6: =VLOOKUP($B6,'[2]TK KHOILUONG'!$B:$AH,4,0) -> 0 | F6: =VLOOKUP($B6,'[2]TK KHOILUONG'!$B:$AH,5,0) -> 0 | G6: =VLOOKUP($B6,'[2]TK KHOILUONG'!$B:$AH,6,0) -> 0 | H6: =VLOOKUP($B6,'[2]TK KHOILUONG'!$B:$AH,7,0) -> 0 | I6: =VLOOKUP($B6,'[2]TK KHOILUONG'!$B:$AH,8,0) -> 0 | J6: =VLOOKUP($B6,'[2]TK KHOILUONG'!$B:$AH,9,0) -> 0 | K6: =VLOOKUP($B6,'[2]TK KHOILUONG'!$B:$AH,10,0) -> 0 | L6: =VLOOKUP($B6,'[2]TK KHOILUONG'!$B:$AH,11,0) -> 0 | M6: =VLOOKUP($B6,'[2]TK KHOILUONG'!$B:$AH,12,0) -> 0 | N6: =VLOOKUP($B6,'[2]TK KHOILUONG'!$B:$AH,13,0) -> 0 | O6: =VLOOKUP($B6,'[2]TK KHOILUONG'!$B:$AH,14,0) -> 0 | P6: =VLOOKUP($B6,'[2]TK KHOILUONG'!$B:$AH,15,0) -> 0 | Q6: =VLOOKUP($B6,'[2]TK KHOILUONG'!$B:$AH,16,0) -> 0 | R6: =VLOOKUP($B6,'[2]TK KHOILUONG'!$B:$AH,17,0) -> 0 | S6: =VLOOKUP($B6,'[2]TK KHOILUONG'!$B:$AH,18,0) -> 0 | T6: =VLOOKUP($B6,'[2]TK KHOILUONG'!$B:$AH,19,0) -> 0 | U6: =VLOOKUP($B6,'[2]TK KHOILUONG'!$B:$AH,20,0) -> 0 | V6: =VLOOKUP($B6,'[2]TK KHOILUONG'!$B:$AH,21,0) -> 0 | W6: =VLOOKUP($B6,'[2]TK KHOILUONG'!$B:$AH,22,0) -> 0 | X6: =VLOOKUP($B6,'[2]TK KHOILUONG'!$B:$AH,23,0) -> 0 | Y6: =VLOOKUP($B6,'[2]TK KHOILUONG'!$B:$AH,24,0) -> 0 | Z6: =VLOOKUP($B6,'[2]TK KHOILUONG'!$B:$AH,25,0) -> 0 | AA6: =VLOOKUP($B6,'[2]TK KHOILUONG'!$B:$AH,26,0) -> 0 | AB6: =VLOOKUP($B6,'[2]TK KHOILUONG'!$B:$AH,27,0) -> 0 | AC6: =VLOOKUP($B6,'[2]TK KHOILUONG'!$B:$AH,28,0) -> 0 | AD6: =VLOOKUP($B6,'[2]TK KHOILUONG'!$B:$AH,29,0) -> 0 | AE6: =VLOOKUP($B6,'[2]TK KHOILUONG'!$B:$AH,30,0) -> 0 | AF6: =VLOOKUP($B6,'[2]TK KHOILUONG'!$B:$AH,31,0) -> 0 | AG6: =VLOOKUP($B6,'[2]TK KHOILUONG'!$B:$AH,32,0) -> 0 | AH6: =IF(D6="","",ROUND(I6+N6+R6+V6+Y6+AB6+AE6+SUM(AF6:AG6),2)) -> 0
A7: =IF(D7="","",SUBTOTAL(3,$D$4:$D7)) -> 0 | B7: 01001001 | C7: Ban Giám hiệu | D7: Phạm Hữu Lộc | E7: =VLOOKUP($B7,'[2]TK KHOILUONG'!$B:$AH,4,0) -> 0 | F7: =VLOOKUP($B7,'[2]TK KHOILUONG'!$B:$AH,5,0) -> 0 | G7: =VLOOKUP($B7,'[2]TK KHOILUONG'!$B:$AH,6,0) -> 0 | H7: =VLOOKUP($B7,'[2]TK KHOILUONG'!$B:$AH,7,0) -> 0 | I7: =VLOOKUP($B7,'[2]TK KHOILUONG'!$B:$AH,8,0) -> 0 | J7: =VLOOKUP($B7,'[2]TK KHOILUONG'!$B:$AH,9,0) -> 0 | K7: =VLOOKUP($B7,'[2]TK KHOILUONG'!$B:$AH,10,0) -> 0 | L7: =VLOOKUP($B7,'[2]TK KHOILUONG'!$B:$AH,11,0) -> 0 | M7: =VLOOKUP($B7,'[2]TK KHOILUONG'!$B:$AH,12,0) -> 0 | N7: =VLOOKUP($B7,'[2]TK KHOILUONG'!$B:$AH,13,0) -> 0 | O7: =VLOOKUP($B7,'[2]TK KHOILUONG'!$B:$AH,14,0) -> 0 | P7: =VLOOKUP($B7,'[2]TK KHOILUONG'!$B:$AH,15,0) -> 0 | Q7: =VLOOKUP($B7,'[2]TK KHOILUONG'!$B:$AH,16,0) -> 0 | R7: =VLOOKUP($B7,'[2]TK KHOILUONG'!$B:$AH,17,0) -> 0 | S7: =VLOOKUP($B7,'[2]TK KHOILUONG'!$B:$AH,18,0) -> 0 | T7: =VLOOKUP($B7,'[2]TK KHOILUONG'!$B:$AH,19,0) -> 0 | U7: =VLOOKUP($B7,'[2]TK KHOILUONG'!$B:$AH,20,0) -> 0 | V7: =VLOOKUP($B7,'[2]TK KHOILUONG'!$B:$AH,21,0) -> 0 | W7: =VLOOKUP($B7,'[2]TK KHOILUONG'!$B:$AH,22,0) -> 0 | X7: =VLOOKUP($B7,'[2]TK KHOILUONG'!$B:$AH,23,0) -> 0 | Y7: =VLOOKUP($B7,'[2]TK KHOILUONG'!$B:$AH,24,0) -> 0 | Z7: =VLOOKUP($B7,'[2]TK KHOILUONG'!$B:$AH,25,0) -> 0 | AA7: =VLOOKUP($B7,'[2]TK KHOILUONG'!$B:$AH,26,0) -> 0 | AB7: =VLOOKUP($B7,'[2]TK KHOILUONG'!$B:$AH,27,0) -> 0 | AC7: =VLOOKUP($B7,'[2]TK KHOILUONG'!$B:$AH,28,0) -> 0 | AD7: =VLOOKUP($B7,'[2]TK KHOILUONG'!$B:$AH,29,0) -> 0 | AE7: =VLOOKUP($B7,'[2]TK KHOILUONG'!$B:$AH,30,0) -> 0 | AF7: =VLOOKUP($B7,'[2]TK KHOILUONG'!$B:$AH,31,0) -> 0 | AG7: =VLOOKUP($B7,'[2]TK KHOILUONG'!$B:$AH,32,0) -> 0 | AH7: =IF(D7="","",ROUND(I7+N7+R7+V7+Y7+AB7+AE7+SUM(AF7:AG7),2)) -> 0
A8: =IF(D8="","",SUBTOTAL(3,$D$4:$D8)) -> 1 | B8: 01012023 | C8: Khoa CN Cơ khí | D8: Bùi Anh Tuấn | E8: =VLOOKUP($B8,'[2]TK KHOILUONG'!$B:$AH,4,0) -> 7 | F8: =VLOOKUP($B8,'[2]TK KHOILUONG'!$B:$AH,5,0) -> 0 | G8: =VLOOKUP($B8,'[2]TK KHOILUONG'!$B:$AH,6,0) -> 0 | H8: =VLOOKUP($B8,'[2]TK KHOILUONG'!$B:$AH,7,0) -> 0 | I8: =VLOOKUP($B8,'[2]TK KHOILUONG'!$B:$AH,8,0) -> 7 | J8: =VLOOKUP($B8,'[2]TK KHOILUONG'!$B:$AH,9,0) -> 3.2 | K8: =VLOOKUP($B8,'[2]TK KHOILUONG'!$B:$AH,10,0) -> 9.6 | L8: =VLOOKUP($B8,'[2]TK KHOILUONG'!$B:$AH,11,0) -> 0 | M8: =VLOOKUP($B8,'[2]TK KHOILUONG'!$B:$AH,12,0) -> 0 | N8: =VLOOKUP($B8,'[2]TK KHOILUONG'!$B:$AH,13,0) -> 12.8 | O8: =VLOOKUP($B8,'[2]TK KHOILUONG'!$B:$AH,14,0) -> 134 | P8: =VLOOKUP($B8,'[2]TK KHOILUONG'!$B:$AH,15,0) -> 116 | Q8: =VLOOKUP($B8,'[2]TK KHOILUONG'!$B:$AH,16,0) -> 122 | R8: =VLOOKUP($B8,'[2]TK KHOILUONG'!$B:$AH,17,0) -> 6.4 | S8: =VLOOKUP($B8,'[2]TK KHOILUONG'!$B:$AH,18,0) -> 7 | T8: =VLOOKUP($B8,'[2]TK KHOILUONG'!$B:$AH,19,0) -> 52 | U8: =VLOOKUP($B8,'[2]TK KHOILUONG'!$B:$AH,20,0) -> 7 | V8: =VLOOKUP($B8,'[2]TK KHOILUONG'!$B:$AH,21,0) -> 5.2 | W8: =VLOOKUP($B8,'[2]TK KHOILUONG'!$B:$AH,22,0) -> 0 | X8: =VLOOKUP($B8,'[2]TK KHOILUONG'!$B:$AH,23,0) -> 0 | Y8: =VLOOKUP($B8,'[2]TK KHOILUONG'!$B:$AH,24,0) -> 0 | Z8: =VLOOKUP($B8,'[2]TK KHOILUONG'!$B:$AH,25,0) -> 0 | AA8: =VLOOKUP($B8,'[2]TK KHOILUONG'!$B:$AH,26,0) -> 0 | AB8: =VLOOKUP($B8,'[2]TK KHOILUONG'!$B:$AH,27,0) -> 0 | AC8: =VLOOKUP($B8,'[2]TK KHOILUONG'!$B:$AH,28,0) -> 0 | AD8: =VLOOKUP($B8,'[2]TK KHOILUONG'!$B:$AH,29,0) -> 0 | AE8: =VLOOKUP($B8,'[2]TK KHOILUONG'!$B:$AH,30,0) -> 0 | AF8: =VLOOKUP($B8,'[2]TK KHOILUONG'!$B:$AH,31,0) -> 0 | AG8: =VLOOKUP($B8,'[2]TK KHOILUONG'!$B:$AH,32,0) -> 0 | AH8: =IF(D8="","",ROUND(I8+N8+R8+V8+Y8+AB8+AE8+SUM(AF8:AG8),2)) -> 31.4
A9: =IF(D9="","",SUBTOTAL(3,$D$4:$D9)) -> 2 | B9: 01012003 | C9: Khoa CN Cơ khí | D9: Chung Trần Thế Vinh | E9: =VLOOKUP($B9,'[2]TK KHOILUONG'!$B:$AH,4,0) -> 4 | F9: =VLOOKUP($B9,'[2]TK KHOILUONG'!$B:$AH,5,0) -> 0 | G9: =VLOOKUP($B9,'[2]TK KHOILUONG'!$B:$AH,6,0) -> 0 | H9: =VLOOKUP($B9,'[2]TK KHOILUONG'!$B:$AH,7,0) -> 0 | I9: =VLOOKUP($B9,'[2]TK KHOILUONG'!$B:$AH,8,0) -> 4 | J9: =VLOOKUP($B9,'[2]TK KHOILUONG'!$B:$AH,9,0) -> 2.8 | K9: =VLOOKUP($B9,'[2]TK KHOILUONG'!$B:$AH,10,0) -> 0 | L9: =VLOOKUP($B9,'[2]TK KHOILUONG'!$B:$AH,11,0) -> 0 | M9: =VLOOKUP($B9,'[2]TK KHOILUONG'!$B:$AH,12,0) -> 0 | N9: =VLOOKUP($B9,'[2]TK KHOILUONG'!$B:$AH,13,0) -> 2.8 | O9: =VLOOKUP($B9,'[2]TK KHOILUONG'!$B:$AH,14,0) -> 15 | P9: =VLOOKUP($B9,'[2]TK KHOILUONG'!$B:$AH,15,0) -> 169 | Q9: =VLOOKUP($B9,'[2]TK KHOILUONG'!$B:$AH,16,0) -> 15 | R9: =VLOOKUP($B9,'[2]TK KHOILUONG'!$B:$AH,17,0) -> 8.45 | S9: =VLOOKUP($B9,'[2]TK KHOILUONG'!$B:$AH,18,0) -> 0 | T9: =VLOOKUP($B9,'[2]TK KHOILUONG'!$B:$AH,19,0) -> 14 | U9: =VLOOKUP($B9,'[2]TK KHOILUONG'!$B:$AH,20,0) -> 0 | V9: =VLOOKUP($B9,'[2]TK KHOILUONG'!$B:$AH,21,0) -> 1.4 | W9: =VLOOKUP($B9,'[2]TK KHOILUONG'!$B:$AH,22,0) -> 0 | X9: =VLOOKUP($B9,'[2]TK KHOILUONG'!$B:$AH,23,0) -> 0 | Y9: =VLOOKUP($B9,'[2]TK KHOILUONG'!$B:$AH,24,0) -> 0 | Z9: =VLOOKUP($B9,'[2]TK KHOILUONG'!$B:$AH,25,0) -> 0 | AA9: =VLOOKUP($B9,'[2]TK KHOILUONG'!$B:$AH,26,0) -> 0 | AB9: =VLOOKUP($B9,'[2]TK KHOILUONG'!$B:$AH,27,0) -> 0 | AC9: =VLOOKUP($B9,'[2]TK KHOILUONG'!$B:$AH,28,0) -> 0 | AD9: =VLOOKUP($B9,'[2]TK KHOILUONG'!$B:$AH,29,0) -> 0 | AE9: =VLOOKUP($B9,'[2]TK KHOILUONG'!$B:$AH,30,0) -> 0 | AF9: =VLOOKUP($B9,'[2]TK KHOILUONG'!$B:$AH,31,0) -> 0 | AG9: =VLOOKUP($B9,'[2]TK KHOILUONG'!$B:$AH,32,0) -> 14.4 | AH9: =IF(D9="","",ROUND(I9+N9+R9+V9+Y9+AB9+AE9+SUM(AF9:AG9),2)) -> 31.05
A10: =IF(D10="","",SUBTOTAL(3,$D$4:$D10)) -> 3 | B10: 01012005 | C10: Khoa CN Cơ khí | D10: Đỗ Thị Phương Khanh | E10: =VLOOKUP($B10,'[2]TK KHOILUONG'!$B:$AH,4,0) -> 3 | F10: =VLOOKUP($B10,'[2]TK KHOILUONG'!$B:$AH,5,0) -> 0 | G10: =VLOOKUP($B10,'[2]TK KHOILUONG'!$B:$AH,6,0) -> 0 | H10: =VLOOKUP($B10,'[2]TK KHOILUONG'!$B:$AH,7,0) -> 0 | I10: =VLOOKUP($B10,'[2]TK KHOILUONG'!$B:$AH,8,0) -> 3 | J10: =VLOOKUP($B10,'[2]TK KHOILUONG'!$B:$AH,9,0) -> 6.4 | K10: =VLOOKUP($B10,'[2]TK KHOILUONG'!$B:$AH,10,0) -> 4.4 | L10: =VLOOKUP($B10,'[2]TK KHOILUONG'!$B:$AH,11,0) -> 0 | M10: =VLOOKUP($B10,'[2]TK KHOILUONG'!$B:$AH,12,0) -> 0 | N10: =VLOOKUP($B10,'[2]TK KHOILUONG'!$B:$AH,13,0) -> 10.8 | O10: =VLOOKUP($B10,'[2]TK KHOILUONG'!$B:$AH,14,0) -> 130 | P10: =VLOOKUP($B10,'[2]TK KHOILUONG'!$B:$AH,15,0) -> 324 | Q10: =VLOOKUP($B10,'[2]TK KHOILUONG'!$B:$AH,16,0) -> 240 | R10: =VLOOKUP($B10,'[2]TK KHOILUONG'!$B:$AH,17,0) -> 10.7 | S10: =VLOOKUP($B10,'[2]TK KHOILUONG'!$B:$AH,18,0) -> 0 | T10: =VLOOKUP($B10,'[2]TK KHOILUONG'!$B:$AH,19,0) -> 126 | U10: =VLOOKUP($B10,'[2]TK KHOILUONG'!$B:$AH,20,0) -> 0 | V10: =VLOOKUP($B10,'[2]TK KHOILUONG'!$B:$AH,21,0) -> 12.6 | W10: =VLOOKUP($B10,'[2]TK KHOILUONG'!$B:$AH,22,0) -> 0 | X10: =VLOOKUP($B10,'[2]TK KHOILUONG'!$B:$AH,23,0) -> 0 | Y10: =VLOOKUP($B10,'[2]TK KHOILUONG'!$B:$AH,24,0) -> 0 | Z10: =VLOOKUP($B10,'[2]TK KHOILUONG'!$B:$AH,25,0) -> 0 | AA10: =VLOOKUP($B10,'[2]TK KHOILUONG'!$B:$AH,26,0) -> 0 | AB10: =VLOOKUP($B10,'[2]TK KHOILUONG'!$B:$AH,27,0) -> 0 | AC10: =VLOOKUP($B10,'[2]TK KHOILUONG'!$B:$AH,28,0) -> 0 | AD10: =VLOOKUP($B10,'[2]TK KHOILUONG'!$B:$AH,29,0) -> 0 | AE10: =VLOOKUP($B10,'[2]TK KHOILUONG'!$B:$AH,30,0) -> 0 | AF10: =VLOOKUP($B10,'[2]TK KHOILUONG'!$B:$AH,31,0) -> 0 | AG10: =VLOOKUP($B10,'[2]TK KHOILUONG'!$B:$AH,32,0) -> 0 | AH10: =IF(D10="","",ROUND(I10+N10+R10+V10+Y10+AB10+AE10+SUM(AF10:AG10),2)) -> 37.1
A11: =IF(D11="","",SUBTOTAL(3,$D$4:$D11)) -> 4 | B11: 01012014 | C11: Khoa CN Cơ khí | D11: Dương Minh Chung | E11: =VLOOKUP($B11,'[2]TK KHOILUONG'!$B:$AH,4,0) -> 0 | F11: =VLOOKUP($B11,'[2]TK KHOILUONG'!$B:$AH,5,0) -> 0 | G11: =VLOOKUP($B11,'[2]TK KHOILUONG'!$B:$AH,6,0) -> 0 | H11: =VLOOKUP($B11,'[2]TK KHOILUONG'!$B:$AH,7,0) -> 0 | I11: =VLOOKUP($B11,'[2]TK KHOILUONG'!$B:$AH,8,0) -> 0 | J11: =VLOOKUP($B11,'[2]TK KHOILUONG'!$B:$AH,9,0) -> 4.8 | K11: =VLOOKUP($B11,'[2]TK KHOILUONG'!$B:$AH,10,0) -> 2.8 | L11: =VLOOKUP($B11,'[2]TK KHOILUONG'!$B:$AH,11,0) -> 0 | M11: =VLOOKUP($B11,'[2]TK KHOILUONG'!$B:$AH,12,0) -> 0 | N11: =VLOOKUP($B11,'[2]TK KHOILUONG'!$B:$AH,13,0) -> 7.6 | O11: =VLOOKUP($B11,'[2]TK KHOILUONG'!$B:$AH,14,0) -> 153 | P11: =VLOOKUP($B11,'[2]TK KHOILUONG'!$B:$AH,15,0) -> 0 | Q11: =VLOOKUP($B11,'[2]TK KHOILUONG'!$B:$AH,16,0) -> 136 | R11: =VLOOKUP($B11,'[2]TK KHOILUONG'!$B:$AH,17,0) -> 0.85 | S11: =VLOOKUP($B11,'[2]TK KHOILUONG'!$B:$AH,18,0) -> 0 | T11: =VLOOKUP($B11,'[2]TK KHOILUONG'!$B:$AH,19,0) -> 0 | U11: =VLOOKUP($B11,'[2]TK KHOILUONG'!$B:$AH,20,0) -> 0 | V11: =VLOOKUP($B11,'[2]TK KHOILUONG'!$B:$AH,21,0) -> 0 | W11: =VLOOKUP($B11,'[2]TK KHOILUONG'!$B:$AH,22,0) -> 0 | X11: =VLOOKUP($B11,'[2]TK KHOILUONG'!$B:$AH,23,0) -> 0 | Y11: =VLOOKUP($B11,'[2]TK KHOILUONG'!$B:$AH,24,0) -> 0 | Z11: =VLOOKUP($B11,'[2]TK KHOILUONG'!$B:$AH,25,0) -> 0 | AA11: =VLOOKUP($B11,'[2]TK KHOILUONG'!$B:$AH,26,0) -> 0 | AB11: =VLOOKUP($B11,'[2]TK KHOILUONG'!$B:$AH,27,0) -> 0 | AC11: =VLOOKUP($B11,'[2]TK KHOILUONG'!$B:$AH,28,0) -> 0 | AD11: =VLOOKUP($B11,'[2]TK KHOILUONG'!$B:$AH,29,0) -> 0 | AE11: =VLOOKUP($B11,'[2]TK KHOILUONG'!$B:$AH,30,0) -> 0 | AF11: =VLOOKUP($B11,'[2]TK KHOILUONG'!$B:$AH,31,0) -> 0 | AG11: =VLOOKUP($B11,'[2]TK KHOILUONG'!$B:$AH,32,0) -> 0 | AH11: =IF(D11="","",ROUND(I11+N11+R11+V11+Y11+AB11+AE11+SUM(AF11:AG11),2)) -> 8.45
A12: =IF(D12="","",SUBTOTAL(3,$D$4:$D12)) -> 5 | B12: 01012028 | C12: Khoa CN Cơ khí | D12: Dương Thị Hồng | E12: =VLOOKUP($B12,'[2]TK KHOILUONG'!$B:$AH,4,0) -> 0 | F12: =VLOOKUP($B12,'[2]TK KHOILUONG'!$B:$AH,5,0) -> 0 | G12: =VLOOKUP($B12,'[2]TK KHOILUONG'!$B:$AH,6,0) -> 0 | H12: =VLOOKUP($B12,'[2]TK KHOILUONG'!$B:$AH,7,0) -> 0 | I12: =VLOOKUP($B12,'[2]TK KHOILUONG'!$B:$AH,8,0) -> 0 | J12: =VLOOKUP($B12,'[2]TK KHOILUONG'!$B:$AH,9,0) -> 0 | K12: =VLOOKUP($B12,'[2]TK KHOILUONG'!$B:$AH,10,0) -> 0 | L12: =VLOOKUP($B12,'[2]TK KHOILUONG'!$B:$AH,11,0) -> 0 | M12: =VLOOKUP($B12,'[2]TK KHOILUONG'!$B:$AH,12,0) -> 0 | N12: =VLOOKUP($B12,'[2]TK KHOILUONG'!$B:$AH,13,0) -> 0 | O12: =VLOOKUP($B12,'[2]TK KHOILUONG'!$B:$AH,14,0) -> 0 | P12: =VLOOKUP($B12,'[2]TK KHOILUONG'!$B:$AH,15,0) -> 0 | Q12: =VLOOKUP($B12,'[2]TK KHOILUONG'!$B:$AH,16,0) -> 0 | R12: =VLOOKUP($B12,'[2]TK KHOILUONG'!$B:$AH,17,0) -> 0 | S12: =VLOOKUP($B12,'[2]TK KHOILUONG'!$B:$AH,18,0) -> 0 | T12: =VLOOKUP($B12,'[2]TK KHOILUONG'!$B:$AH,19,0) -> 0 | U12: =VLOOKUP($B12,'[2]TK KHOILUONG'!$B:$AH,20,0) -> 0 | V12: =VLOOKUP($B12,'[2]TK KHOILUONG'!$B:$AH,21,0) -> 0 | W12: =VLOOKUP($B12,'[2]TK KHOILUONG'!$B:$AH,22,0) -> 0 | X12: =VLOOKUP($B12,'[2]TK KHOILUONG'!$B:$AH,23,0) -> 0 | Y12: =VLOOKUP($B12,'[2]TK KHOILUONG'!$B:$AH,24,0) -> 0 | Z12: =VLOOKUP($B12,'[2]TK KHOILUONG'!$B:$AH,25,0) -> 0 | AA12: =VLOOKUP($B12,'[2]TK KHOILUONG'!$B:$AH,26,0) -> 0 | AB12: =VLOOKUP($B12,'[2]TK KHOILUONG'!$B:$AH,27,0) -> 0 | AC12: =VLOOKUP($B12,'[2]TK KHOILUONG'!$B:$AH,28,0) -> 0 | AD12: =VLOOKUP($B12,'[2]TK KHOILUONG'!$B:$AH,29,0) -> 0 | AE12: =VLOOKUP($B12,'[2]TK KHOILUONG'!$B:$AH,30,0) -> 0 | AF12: =VLOOKUP($B12,'[2]TK KHOILUONG'!$B:$AH,31,0) -> 0 | AG12: =VLOOKUP($B12,'[2]TK KHOILUONG'!$B:$AH,32,0) -> 0 | AH12: =IF(D12="","",ROUND(I12+N12+R12+V12+Y12+AB12+AE12+SUM(AF12:AG12),2)) -> 0
A13: =IF(D13="","",SUBTOTAL(3,$D$4:$D13)) -> 6 | B13: 01012027 | C13: Khoa CN Cơ khí | D13: Giáp Đức Nhận | E13: =VLOOKUP($B13,'[2]TK KHOILUONG'!$B:$AH,4,0) -> 0 | F13: =VLOOKUP($B13,'[2]TK KHOILUONG'!$B:$AH,5,0) -> 0 | G13: =VLOOKUP($B13,'[2]TK KHOILUONG'!$B:$AH,6,0) -> 0 | H13: =VLOOKUP($B13,'[2]TK KHOILUONG'!$B:$AH,7,0) -> 0 | I13: =VLOOKUP($B13,'[2]TK KHOILUONG'!$B:$AH,8,0) -> 0 | J13: =VLOOKUP($B13,'[2]TK KHOILUONG'!$B:$AH,9,0) -> 0 | K13: =VLOOKUP($B13,'[2]TK KHOILUONG'!$B:$AH,10,0) -> 0 | L13: =VLOOKUP($B13,'[2]TK KHOILUONG'!$B:$AH,11,0) -> 0 | M13: =VLOOKUP($B13,'[2]TK KHOILUONG'!$B:$AH,12,0) -> 0 | N13: =VLOOKUP($B13,'[2]TK KHOILUONG'!$B:$AH,13,0) -> 0 | O13: =VLOOKUP($B13,'[2]TK KHOILUONG'!$B:$AH,14,0) -> 0 | P13: =VLOOKUP($B13,'[2]TK KHOILUONG'!$B:$AH,15,0) -> 0 | Q13: =VLOOKUP($B13,'[2]TK KHOILUONG'!$B:$AH,16,0) -> 0 | R13: =VLOOKUP($B13,'[2]TK KHOILUONG'!$B:$AH,17,0) -> 0 | S13: =VLOOKUP($B13,'[2]TK KHOILUONG'!$B:$AH,18,0) -> 0 | T13: =VLOOKUP($B13,'[2]TK KHOILUONG'!$B:$AH,19,0) -> 0 | U13: =VLOOKUP($B13,'[2]TK KHOILUONG'!$B:$AH,20,0) -> 0 | V13: =VLOOKUP($B13,'[2]TK KHOILUONG'!$B:$AH,21,0) -> 0 | W13: =VLOOKUP($B13,'[2]TK KHOILUONG'!$B:$AH,22,0) -> 0 | X13: =VLOOKUP($B13,'[2]TK KHOILUONG'!$B:$AH,23,0) -> 0 | Y13: =VLOOKUP($B13,'[2]TK KHOILUONG'!$B:$AH,24,0) -> 0 | Z13: =VLOOKUP($B13,'[2]TK KHOILUONG'!$B:$AH,25,0) -> 0 | AA13: =VLOOKUP($B13,'[2]TK KHOILUONG'!$B:$AH,26,0) -> 0 | AB13: =VLOOKUP($B13,'[2]TK KHOILUONG'!$B:$AH,27,0) -> 0 | AC13: =VLOOKUP($B13,'[2]TK KHOILUONG'!$B:$AH,28,0) -> 0 | AD13: =VLOOKUP($B13,'[2]TK KHOILUONG'!$B:$AH,29,0) -> 0 | AE13: =VLOOKUP($B13,'[2]TK KHOILUONG'!$B:$AH,30,0) -> 0 | AF13: =VLOOKUP($B13,'[2]TK KHOILUONG'!$B:$AH,31,0) -> 0 | AG13: =VLOOKUP($B13,'[2]TK KHOILUONG'!$B:$AH,32,0) -> 0 | AH13: =IF(D13="","",ROUND(I13+N13+R13+V13+Y13+AB13+AE13+SUM(AF13:AG13),2)) -> 0
A14: =IF(D14="","",SUBTOTAL(3,$D$4:$D14)) -> 7 | B14: 01012030 | C14: Khoa CN Cơ khí | D14: Hồ Nhật Linh | E14: =VLOOKUP($B14,'[2]TK KHOILUONG'!$B:$AH,4,0) -> 0 | F14: =VLOOKUP($B14,'[2]TK KHOILUONG'!$B:$AH,5,0) -> 4 | G14: =VLOOKUP($B14,'[2]TK KHOILUONG'!$B:$AH,6,0) -> 0 | H14: =VLOOKUP($B14,'[2]TK KHOILUONG'!$B:$AH,7,0) -> 0 | I14: =VLOOKUP($B14,'[2]TK KHOILUONG'!$B:$AH,8,0) -> 8 | J14: =VLOOKUP($B14,'[2]TK KHOILUONG'!$B:$AH,9,0) -> 0 | K14: =VLOOKUP($B14,'[2]TK KHOILUONG'!$B:$AH,10,0) -> 0 | L14: =VLOOKUP($B14,'[2]TK KHOILUONG'!$B:$AH,11,0) -> 0 | M14: =VLOOKUP($B14,'[2]TK KHOILUONG'!$B:$AH,12,0) -> 0 | N14: =VLOOKUP($B14,'[2]TK KHOILUONG'!$B:$AH,13,0) -> 0 | O14: =VLOOKUP($B14,'[2]TK KHOILUONG'!$B:$AH,14,0) -> 24 | P14: =VLOOKUP($B14,'[2]TK KHOILUONG'!$B:$AH,15,0) -> 24 | Q14: =VLOOKUP($B14,'[2]TK KHOILUONG'!$B:$AH,16,0) -> 26 | R14: =VLOOKUP($B14,'[2]TK KHOILUONG'!$B:$AH,17,0) -> 1.1 | S14: =VLOOKUP($B14,'[2]TK KHOILUONG'!$B:$AH,18,0) -> 0 | T14: =VLOOKUP($B14,'[2]TK KHOILUONG'!$B:$AH,19,0) -> 0 | U14: =VLOOKUP($B14,'[2]TK KHOILUONG'!$B:$AH,20,0) -> 0 | V14: =VLOOKUP($B14,'[2]TK KHOILUONG'!$B:$AH,21,0) -> 0 | W14: =VLOOKUP($B14,'[2]TK KHOILUONG'!$B:$AH,22,0) -> 0 | X14: =VLOOKUP($B14,'[2]TK KHOILUONG'!$B:$AH,23,0) -> 0 | Y14: =VLOOKUP($B14,'[2]TK KHOILUONG'!$B:$AH,24,0) -> 0 | Z14: =VLOOKUP($B14,'[2]TK KHOILUONG'!$B:$AH,25,0) -> 0 | AA14: =VLOOKUP($B14,'[2]TK KHOILUONG'!$B:$AH,26,0) -> 0 | AB14: =VLOOKUP($B14,'[2]TK KHOILUONG'!$B:$AH,27,0) -> 0 | AC14: =VLOOKUP($B14,'[2]TK KHOILUONG'!$B:$AH,28,0) -> 0 | AD14: =VLOOKUP($B14,'[2]TK KHOILUONG'!$B:$AH,29,0) -> 0 | AE14: =VLOOKUP($B14,'[2]TK KHOILUONG'!$B:$AH,30,0) -> 0 | AF14: =VLOOKUP($B14,'[2]TK KHOILUONG'!$B:$AH,31,0) -> 0 | AG14: =VLOOKUP($B14,'[2]TK KHOILUONG'!$B:$AH,32,0) -> 0 | AH14: =IF(D14="","",ROUND(I14+N14+R14+V14+Y14+AB14+AE14+SUM(AF14:AG14),2)) -> 9.1
A15: =IF(D15="","",SUBTOTAL(3,$D$4:$D15)) -> 8 | B15: 01012016 | C15: Khoa CN Cơ khí | D15: Lư Thị Yến Vũ | E15: =VLOOKUP($B15,'[2]TK KHOILUONG'!$B:$AH,4,0) -> 4 | F15: =VLOOKUP($B15,'[2]TK KHOILUONG'!$B:$AH,5,0) -> 2 | G15: =VLOOKUP($B15,'[2]TK KHOILUONG'!$B:$AH,6,0) -> 0 | H15: =VLOOKUP($B15,'[2]TK KHOILUONG'!$B:$AH,7,0) -> 0 | I15: =VLOOKUP($B15,'[2]TK KHOILUONG'!$B:$AH,8,0) -> 8 | J15: =VLOOKUP($B15,'[2]TK KHOILUONG'!$B:$AH,9,0) -> 3.2 | K15: =VLOOKUP($B15,'[2]TK KHOILUONG'!$B:$AH,10,0) -> 3.2 | L15: =VLOOKUP($B15,'[2]TK KHOILUONG'!$B:$AH,11,0) -> 0 | M15: =VLOOKUP($B15,'[2]TK KHOILUONG'!$B:$AH,12,0) -> 0 | N15: =VLOOKUP($B15,'[2]TK KHOILUONG'!$B:$AH,13,0) -> 6.4 | O15: =VLOOKUP($B15,'[2]TK KHOILUONG'!$B:$AH,14,0) -> 95 | P15: =VLOOKUP($B15,'[2]TK KHOILUONG'!$B:$AH,15,0) -> 0 | Q15: =VLOOKUP($B15,'[2]TK KHOILUONG'!$B:$AH,16,0) -> 95 | R15: =VLOOKUP($B15,'[2]TK KHOILUONG'!$B:$AH,17,0) -> 0 | S15: =VLOOKUP($B15,'[2]TK KHOILUONG'!$B:$AH,18,0) -> 18 | T15: =VLOOKUP($B15,'[2]TK KHOILUONG'!$B:$AH,19,0) -> 84 | U15: =VLOOKUP($B15,'[2]TK KHOILUONG'!$B:$AH,20,0) -> 18 | V15: =VLOOKUP($B15,'[2]TK KHOILUONG'!$B:$AH,21,0) -> 8.4 | W15: =VLOOKUP($B15,'[2]TK KHOILUONG'!$B:$AH,22,0) -> 0 | X15: =VLOOKUP($B15,'[2]TK KHOILUONG'!$B:$AH,23,0) -> 0 | Y15: =VLOOKUP($B15,'[2]TK KHOILUONG'!$B:$AH,24,0) -> 0 | Z15: =VLOOKUP($B15,'[2]TK KHOILUONG'!$B:$AH,25,0) -> 0 | AA15: =VLOOKUP($B15,'[2]TK KHOILUONG'!$B:$AH,26,0) -> 0 | AB15: =VLOOKUP($B15,'[2]TK KHOILUONG'!$B:$AH,27,0) -> 0 | AC15: =VLOOKUP($B15,'[2]TK KHOILUONG'!$B:$AH,28,0) -> 0 | AD15: =VLOOKUP($B15,'[2]TK KHOILUONG'!$B:$AH,29,0) -> 0 | AE15: =VLOOKUP($B15,'[2]TK KHOILUONG'!$B:$AH,30,0) -> 0 | AF15: =VLOOKUP($B15,'[2]TK KHOILUONG'!$B:$AH,31,0) -> 0 | AG15: =VLOOKUP($B15,'[2]TK KHOILUONG'!$B:$AH,32,0) -> 0 | AH15: =IF(D15="","",ROUND(I15+N15+R15+V15+Y15+AB15+AE15+SUM(AF15:AG15),2)) -> 22.8
... A257: =IF(D257="","",SUBTOTAL(3,$D$4:$D257)) -> 29 | B257: 01017003 | C257: TT Truyền thông - Thư viện | D257: Nguyễn Hữu Thiện | E257: =VLOOKUP($B257,'[2]TK KHOILUONG'!$B:$AH,4,0) -> 0 | F257: =VLOOKUP($B257,'[2]TK KHOILUONG'!$B:$AH,5,0) -> 0 | G257: =VLOOKUP($B257,'[2]TK KHOILUONG'!$B:$AH,6,0) -> 0 | H257: =VLOOKUP($B257,'[2]TK KHOILUONG'!$B:$AH,7,0) -> 0 | I257: =VLOOKUP($B257,'[2]TK KHOILUONG'!$B:$AH,8,0) -> 0 | J257: =VLOOKUP($B257,'[2]TK KHOILUONG'!$B:$AH,9,0) -> 0 | K257: =VLOOKUP($B257,'[2]TK KHOILUONG'!$B:$AH,10,0) -> 0 | L257: =VLOOKUP($B257,'[2]TK KHOILUONG'!$B:$AH,11,0) -> 0 | M257: =VLOOKUP($B257,'[2]TK KHOILUONG'!$B:$AH,12,0) -> 0 | N257: =VLOOKUP($B257,'[2]TK KHOILUONG'!$B:$AH,13,0) -> 0 | O257: =VLOOKUP($B257,'[2]TK KHOILUONG'!$B:$AH,14,0) -> 0 | P257: =VLOOKUP($B257,'[2]TK KHOILUONG'!$B:$AH,15,0) -> 0 | Q257: =VLOOKUP($B257,'[2]TK KHOILUONG'!$B:$AH,16,0) -> 0 | R257: =VLOOKUP($B257,'[2]TK KHOILUONG'!$B:$AH,17,0) -> 0 | S257: =VLOOKUP($B257,'[2]TK KHOILUONG'!$B:$AH,18,0) -> 0 | T257: =VLOOKUP($B257,'[2]TK KHOILUONG'!$B:$AH,19,0) -> 0 | U257: =VLOOKUP($B257,'[2]TK KHOILUONG'!$B:$AH,20,0) -> 0 | V257: =VLOOKUP($B257,'[2]TK KHOILUONG'!$B:$AH,21,0) -> 0 | W257: =VLOOKUP($B257,'[2]TK KHOILUONG'!$B:$AH,22,0) -> 0 | X257: =VLOOKUP($B257,'[2]TK KHOILUONG'!$B:$AH,23,0) -> 0 | Y257: =VLOOKUP($B257,'[2]TK KHOILUONG'!$B:$AH,24,0) -> 0 | Z257: =VLOOKUP($B257,'[2]TK KHOILUONG'!$B:$AH,25,0) -> 0 | AA257: =VLOOKUP($B257,'[2]TK KHOILUONG'!$B:$AH,26,0) -> 0 | AB257: =VLOOKUP($B257,'[2]TK KHOILUONG'!$B:$AH,27,0) -> 0 | AC257: =VLOOKUP($B257,'[2]TK KHOILUONG'!$B:$AH,28,0) -> 0 | AD257: =VLOOKUP($B257,'[2]TK KHOILUONG'!$B:$AH,29,0) -> 0 | AE257: =VLOOKUP($B257,'[2]TK KHOILUONG'!$B:$AH,30,0) -> 0 | AF257: =VLOOKUP($B257,'[2]TK KHOILUONG'!$B:$AH,31,0) -> 0 | AG257: =VLOOKUP($B257,'[2]TK KHOILUONG'!$B:$AH,32,0) -> 0 | AH257: =IF(D257="","",ROUND(I257+N257+R257+V257+Y257+AB257+AE257+SUM(AF257:AG257),2)) -> 0
A258: =IF(D258="","",SUBTOTAL(3,$D$4:$D258))
E259: =SUBTOTAL(9,E4:E258) -> 61 | F259: =SUBTOTAL(9,F4:F258) -> 10 | G259: =SUBTOTAL(9,G4:G258) -> 0 | H259: =SUBTOTAL(9,H4:H258) -> 0 | I259: =SUBTOTAL(9,I4:I258) -> 81 | J259: =SUBTOTAL(9,J4:J258) -> 98.4 | K259: =SUBTOTAL(9,K4:K258) -> 61.2 | L259: =SUBTOTAL(9,L4:L258) -> 0 | ... AH259: =SUBTOTAL(9,AH4:AH258) -> 440.75

Sheet CA NĂM
A1: STT | B1: Mã nhân sự | C1: Đơn vị | D1: HỌ VÀ TÊN GIẢNG VIÊN | E1: ĐỀ THI | J1: COI THI | O1: CHẤM THI KTHP | W1: CHẤM THI TỐT NGHIỆP | AF1: DỰ PHÒNG KỲ THI | AG1: GIÁM SÁT | AH1: TỔNG KHỐI LƯỢNG | AI1: =SUBTOTAL(9,AH:AH) -> 8671.5
O2: LÝ THUYẾT | S2: TIỂU LUẬN | W2: LÝ THUYẾT | Z2: T.HÀNH CHUNG | AC2: T.HÀNH RIÊNG
E3: SL ĐỀ LT KTHP | F3: SL ĐỀ TN KTHP | G3: SL ĐỀ LT TN | H3: SL ĐỀ TH TN | I3: KL SOẠN ĐỀ (tiết) | J3: KTHPLT COITHI 1 | K3: KTHPLT COITHI 2 | L3: ThiTN COITHI 1 | M3: ThiTN COITHI 2 | N3: KL COITHI (tiết) | O3: SL BÀI LT CHẤM 1 | P3: SL BÀI LT CHẤM 2 | Q3: SL CHẤM LT NGHĨA VỤ | R3: KL CHẤM LT (tiết) | S3: SL BÀI TL CHẤM 1 | T3: SL BÀI TL CHẤM 2 | U3: SL CHẤM TL NGHĨA VỤ | V3: KL CHẤM TL (tiết) | W3: SL BÀI LT CHẤM 1 | X3: SL BÀI LT CHẤM 2 | Y3: KL CHẤM LT (tiết) | Z3: SL BÀI TL CHẤM 1 | AA3: SL BÀI TL CHẤM 2 | AB3: KL CHẤM TL (tiết) | AC3: SL BÀI TL CHẤM 1 | AD3: SL BÀI TL CHẤM 2 | AE3: KL CHẤM TL (tiết)
A4: =IF(D4="","",SUBTOTAL(3,$D$4:$D4)) -> 1 | B4: 01002001 | C4: Ban Giám hiệu | D4: Đinh Hồng Minh | E4: =IF($D4="","",'HK1'!E4+'HK2'!E4) -> 0 | F4: =IF($D4="","",'HK1'!F4+'HK2'!F4) -> 0 | G4: =IF($D4="","",'HK1'!G4+'HK2'!G4) -> 0 | H4: =IF($D4="","",'HK1'!H4+'HK2'!H4) -> 0 | I4: =IF(D4="","",(E4+F4*2+G4*3+H4*2)) -> 0 | J4: =IF($D4="","",'HK1'!J4+'HK2'!J4) -> 0 | K4: =IF($D4="","",'HK1'!K4+'HK2'!K4) -> 0 | L4: =IF($D4="","",'HK1'!L4+'HK2'!L4) -> 0 | M4: =IF($D4="","",'HK1'!M4+'HK2'!M4) -> 0 | N4: =IF(D4="","",SUM(J4:M4)) -> 0 | O4: =IF($D4="","",'HK1'!O4+'HK2'!O4) -> 0 | P4: =IF($D4="","",'HK1'!P4+'HK2'!P4) -> 0 | Q4: =IF($D4="","",'HK1'!Q4+'HK2'!Q4) -> 0 | R4: =IF(D4="","",(SUM(O4:P4)-Q4)/20) -> 0 | S4: =IF($D4="","",'HK1'!S4+'HK2'!S4) -> 0 | T4: =IF($D4="","",'HK1'!T4+'HK2'!T4) -> 0 | U4: =IF($D4="","",'HK1'!U4+'HK2'!U4) -> 0 | V4: =IF(D4="","",(SUM(S4:T4)-U4)/10) -> 0 | W4: =IF($D4="","",'HK1'!W4+'HK2'!W4) -> 0 | X4: =IF($D4="","",'HK1'!X4+'HK2'!X4) -> 0 | Y4: =IF(D4="","",SUM(W4:X4)/14) -> 0 | Z4: =IF($D4="","",'HK1'!Z4+'HK2'!Z4) -> 0 | AA4: =IF($D4="","",'HK1'!AA4+'HK2'!AA4) -> 0 | AB4: =IF(D4="","",SUM(Z4:AA4)/10) -> 0 | AC4: =IF($D4="","",'HK1'!AC4+'HK2'!AC4) -> 0 | AD4: =IF($D4="","",'HK1'!AD4+'HK2'!AD4) -> 0 | AE4: =IF(D4="","",SUM(AC4:AD4)/20) -> 0 | AF4: =IF($D4="","",'HK1'!AF4+'HK2'!AF4) -> 0 | AG4: =IF($D4="","",'HK1'!AG4+'HK2'!AG4) -> 0 | AH4: =IF(D4="","",ROUND(I4+N4+R4+V4+Y4+AB4+AE4+SUM(AF4:AG4),1)) -> 0 | AI4: =IF(AH4="","",ROUND(AH4*10/3,1)) -> 0
A5: =IF(D5="","",SUBTOTAL(3,$D$4:$D5)) -> 2 | B5: 01001006 | C5: Ban Giám hiệu | D5: Đinh Văn Đệ | E5: =IF($D5="","",'HK1'!E5+'HK2'!E5) -> 0 | F5: =IF($D5="","",'HK1'!F5+'HK2'!F5) -> 0 | G5: =IF($D5="","",'HK1'!G5+'HK2'!G5) -> 0 | H5: =IF($D5="","",'HK1'!H5+'HK2'!H5) -> 0 | I5: =IF(D5="","",(E5+F5*2+G5*3+H5*2)) -> 0 | J5: =IF($D5="","",'HK1'!J5+'HK2'!J5) -> 0 | K5: =IF($D5="","",'HK1'!K5+'HK2'!K5) -> 0 | L5: =IF($D5="","",'HK1'!L5+'HK2'!L5) -> 0 | M5: =IF($D5="","",'HK1'!M5+'HK2'!M5) -> 0 | N5: =IF(D5="","",SUM(J5:M5)) -> 0 | O5: =IF($D5="","",'HK1'!O5+'HK2'!O5) -> 54 | P5: =IF($D5="","",'HK1'!P5+'HK2'!P5) -> 0 | Q5: =IF($D5="","",'HK1'!Q5+'HK2'!Q5) -> 294 | R5: =IF(D5="","",(SUM(O5:P5)-Q5)/20) -> -12 | S5: =IF($D5="","",'HK1'!S5+'HK2'!S5) -> 0 | T5: =IF($D5="","",'HK1'!T5+'HK2'!T5) -> 0 | U5: =IF($D5="","",'HK1'!U5+'HK2'!U5) -> 0 | V5: =IF(D5="","",(SUM(S5:T5)-U5)/10) -> 0 | W5: =IF($D5="","",'HK1'!W5+'HK2'!W5) -> 0 | X5: =IF($D5="","",'HK1'!X5+'HK2'!X5) -> 0 | Y5: =IF(D5="","",SUM(W5:X5)/14) -> 0 | Z5: =IF($D5="","",'HK1'!Z5+'HK2'!Z5) -> 0 | AA5: =IF($D5="","",'HK1'!AA5+'HK2'!AA5) -> 0 | AB5: =IF(D5="","",SUM(Z5:AA5)/10) -> 0 | AC5: =IF($D5="","",'HK1'!AC5+'HK2'!AC5) -> 0 | AD5: =IF($D5="","",'HK1'!AD5+'HK2'!AD5) -> 0 | AE5: =IF(D5="","",SUM(AC5:AD5)/20) -> 0 | AF5: =IF($D5="","",'HK1'!AF5+'HK2'!AF5) -> 0 | AG5: =IF($D5="","",'HK1'!AG5+'HK2'!AG5) -> 0 | AH5: =IF(D5="","",ROUND(I5+N5+R5+V5+Y5+AB5+AE5+SUM(AF5:AG5),1)) -> -12 | AI5: =IF(AH5="","",ROUND(AH5*10/3,1)) -> -40
A6: =IF(D6="","",SUBTOTAL(3,$D$4:$D6)) -> 3 | B6: 01001003 | C6: Ban Giám hiệu | D6: Nguyễn Văn Dũng | E6: =IF($D6="","",'HK1'!E6+'HK2'!E6) -> 0 | F6: =IF($D6="","",'HK1'!F6+'HK2'!F6) -> 0 | G6: =IF($D6="","",'HK1'!G6+'HK2'!G6) -> 0 | H6: =IF($D6="","",'HK1'!H6+'HK2'!H6) -> 0 | I6: =IF(D6="","",(E6+F6*2+G6*3+H6*2)) -> 0 | J6: =IF($D6="","",'HK1'!J6+'HK2'!J6) -> 0 | K6: =IF($D6="","",'HK1'!K6+'HK2'!K6) -> 0 | L6: =IF($D6="","",'HK1'!L6+'HK2'!L6) -> 0 | M6: =IF($D6="","",'HK1'!M6+'HK2'!M6) -> 0 | N6: =IF(D6="","",SUM(J6:M6)) -> 0 | O6: =IF($D6="","",'HK1'!O6+'HK2'!O6) -> 0 | P6: =IF($D6="","",'HK1'!P6+'HK2'!P6) -> 0 | Q6: =IF($D6="","",'HK1'!Q6+'HK2'!Q6) -> 0 | R6: =IF(D6="","",(SUM(O6:P6)-Q6)/20) -> 0 | S6: =IF($D6="","",'HK1'!S6+'HK2'!S6) -> 0 | T6: =IF($D6="","",'HK1'!T6+'HK2'!T6) -> 0 | U6: =IF($D6="","",'HK1'!U6+'HK2'!U6) -> 0 | V6: =IF(D6="","",(SUM(S6:T6)-U6)/10) -> 0 | W6: =IF($D6="","",'HK1'!W6+'HK2'!W6) -> 0 | X6: =IF($D6="","",'HK1'!X6+'HK2'!X6) -> 0 | Y6: =IF(D6="","",SUM(W6:X6)/14) -> 0 | Z6: =IF($D6="","",'HK1'!Z6+'HK2'!Z6) -> 0 | AA6: =IF($D6="","",'HK1'!AA6+'HK2'!AA6) -> 0 | AB6: =IF(D6="","",SUM(Z6:AA6)/10) -> 0 | AC6: =IF($D6="","",'HK1'!AC6+'HK2'!AC6) -> 0 | AD6: =IF($D6="","",'HK1'!AD6+'HK2'!AD6) -> 0 | AE6: =IF(D6="","",SUM(AC6:AD6)/20) -> 0 | AF6: =IF($D6="","",'HK1'!AF6+'HK2'!AF6) -> 0 | AG6: =IF($D6="","",'HK1'!AG6+'HK2'!AG6) -> 0 | AH6: =IF(D6="","",ROUND(I6+N6+R6+V6+Y6+AB6+AE6+SUM(AF6:AG6),1)) -> 0 | AI6: =IF(AH6="","",ROUND(AH6*10/3,1)) -> 0
A7: =IF(D7="","",SUBTOTAL(3,$D$4:$D7)) -> 4 | B7: 01001001 | C7: Ban Giám hiệu | D7: Phạm Hữu Lộc | E7: =IF($D7="","",'HK1'!E7+'HK2'!E7) -> 0 | F7: =IF($D7="","",'HK1'!F7+'HK2'!F7) -> 0 | G7: =IF($D7="","",'HK1'!G7+'HK2'!G7) -> 0 | H7: =IF($D7="","",'HK1'!H7+'HK2'!H7) -> 0 | I7: =IF(D7="","",(E7+F7*2+G7*3+H7*2)) -> 0 | J7: =IF($D7="","",'HK1'!J7+'HK2'!J7) -> 0 | K7: =IF($D7="","",'HK1'!K7+'HK2'!K7) -> 0 | L7: =IF($D7="","",'HK1'!L7+'HK2'!L7) -> 0 | M7: =IF($D7="","",'HK1'!M7+'HK2'!M7) -> 0 | N7: =IF(D7="","",SUM(J7:M7)) -> 0 | O7: =IF($D7="","",'HK1'!O7+'HK2'!O7) -> 0 | P7: =IF($D7="","",'HK1'!P7+'HK2'!P7) -> 0 | Q7: =IF($D7="","",'HK1'!Q7+'HK2'!Q7) -> 0 | R7: =IF(D7="","",(SUM(O7:P7)-Q7)/20) -> 0 | S7: =IF($D7="","",'HK1'!S7+'HK2'!S7) -> 0 | T7: =IF($D7="","",'HK1'!T7+'HK2'!T7) -> 0 | U7: =IF($D7="","",'HK1'!U7+'HK2'!U7) -> 0 | V7: =IF(D7="","",(SUM(S7:T7)-U7)/10) -> 0 | W7: =IF($D7="","",'HK1'!W7+'HK2'!W7) -> 0 | X7: =IF($D7="","",'HK1'!X7+'HK2'!X7) -> 0 | Y7: =IF(D7="","",SUM(W7:X7)/14) -> 0 | Z7: =IF($D7="","",'HK1'!Z7+'HK2'!Z7) -> 0 | AA7: =IF($D7="","",'HK1'!AA7+'HK2'!AA7) -> 0 | AB7: =IF(D7="","",SUM(Z7:AA7)/10) -> 0 | AC7: =IF($D7="","",'HK1'!AC7+'HK2'!AC7) -> 0 | AD7: =IF($D7="","",'HK1'!AD7+'HK2'!AD7) -> 0 | AE7: =IF(D7="","",SUM(AC7:AD7)/20) -> 0 | AF7: =IF($D7="","",'HK1'!AF7+'HK2'!AF7) -> 0 | AG7: =IF($D7="","",'HK1'!AG7+'HK2'!AG7) -> 0 | AH7: =IF(D7="","",ROUND(I7+N7+R7+V7+Y7+AB7+AE7+SUM(AF7:AG7),1)) -> 0 | AI7: =IF(AH7="","",ROUND(AH7*10/3,1)) -> 0
A8: =IF(D8="","",SUBTOTAL(3,$D$4:$D8)) -> 5 | B8: 01012023 | C8: Khoa CN Cơ khí | D8: Bùi Anh Tuấn | E8: =IF($D8="","",'HK1'!E8+'HK2'!E8) -> 18 | F8: =IF($D8="","",'HK1'!F8+'HK2'!F8) -> 0 | G8: =IF($D8="","",'HK1'!G8+'HK2'!G8) -> 0 | H8: =IF($D8="","",'HK1'!H8+'HK2'!H8) -> 0 | I8: =IF(D8="","",(E8+F8*2+G8*3+H8*2)) -> 18 | J8: =IF($D8="","",'HK1'!J8+'HK2'!J8) -> 12.8 | K8: =IF($D8="","",'HK1'!K8+'HK2'!K8) -> 16.8 | L8: =IF($D8="","",'HK1'!L8+'HK2'!L8) -> 0 | M8: =IF($D8="","",'HK1'!M8+'HK2'!M8) -> 0 | N8: =IF(D8="","",SUM(J8:M8)) -> 29.6 | O8: =IF($D8="","",'HK1'!O8+'HK2'!O8) -> 292 | P8: =IF($D8="","",'HK1'!P8+'HK2'!P8) -> 147 | Q8: =IF($D8="","",'HK1'!Q8+'HK2'!Q8) -> 300 | R8: =IF(D8="","",(SUM(O8:P8)-Q8)/20) -> 6.95 | S8: =IF($D8="","",'HK1'!S8+'HK2'!S8) -> 7 | T8: =IF($D8="","",'HK1'!T8+'HK2'!T8) -> 52 | U8: =IF($D8="","",'HK1'!U8+'HK2'!U8) -> 7 | V8: =IF(D8="","",(SUM(S8:T8)-U8)/10) -> 5.2 | W8: =IF($D8="","",'HK1'!W8+'HK2'!W8) -> 0 | X8: =IF($D8="","",'HK1'!X8+'HK2'!X8) -> 0 | Y8: =IF(D8="","",SUM(W8:X8)/14) -> 0 | Z8: =IF($D8="","",'HK1'!Z8+'HK2'!Z8) -> 0 | AA8: =IF($D8="","",'HK1'!AA8+'HK2'!AA8) -> 0 | AB8: =IF(D8="","",SUM(Z8:AA8)/10) -> 0 | AC8: =IF($D8="","",'HK1'!AC8+'HK2'!AC8) -> 0 | AD8: =IF($D8="","",'HK1'!AD8+'HK2'!AD8) -> 0 | AE8: =IF(D8="","",SUM(AC8:AD8)/20) -> 0 | AF8: =IF($D8="","",'HK1'!AF8+'HK2'!AF8) -> 0 | AG8: =IF($D8="","",'HK1'!AG8+'HK2'!AG8) -> 2.4 | AH8: =IF(D8="","",ROUND(I8+N8+R8+V8+Y8+AB8+AE8+SUM(AF8:AG8),1)) -> 62.2 | AI8: =IF(AH8="","",ROUND(AH8*10/3,1)) -> 207.3
A9: =IF(D9="","",SUBTOTAL(3,$D$4:$D9)) -> 6 | B9: 01012003 | C9: Khoa CN Cơ khí | D9: Chung Trần Thế Vinh | E9: =IF($D9="","",'HK1'!E9+'HK2'!E9) -> 6 | F9: =IF($D9="","",'HK1'!F9+'HK2'!F9) -> 0 | G9: =IF($D9="","",'HK1'!G9+'HK2'!G9) -> 0 | H9: =IF($D9="","",'HK1'!H9+'HK2'!H9) -> 0 | I9: =IF(D9="","",(E9+F9*2+G9*3+H9*2)) -> 6 | J9: =IF($D9="","",'HK1'!J9+'HK2'!J9) -> 2.8 | K9: =IF($D9="","",'HK1'!K9+'HK2'!K9) -> 0 | L9: =IF($D9="","",'HK1'!L9+'HK2'!L9) -> 0 | M9: =IF($D9="","",'HK1'!M9+'HK2'!M9) -> 0 | N9: =IF(D9="","",SUM(J9:M9)) -> 2.8 | O9: =IF($D9="","",'HK1'!O9+'HK2'!O9) -> 31 | P9: =IF($D9="","",'HK1'!P9+'HK2'!P9) -> 287 | Q9: =IF($D9="","",'HK1'!Q9+'HK2'!Q9) -> 60 | R9: =IF(D9="","",(SUM(O9:P9)-Q9)/20) -> 12.9 | S9: =IF($D9="","",'HK1'!S9+'HK2'!S9) -> 0 | T9: =IF($D9="","",'HK1'!T9+'HK2'!T9) -> 14 | U9: =IF($D9="","",'HK1'!U9+'HK2'!U9) -> 0 | V9: =IF(D9="","",(SUM(S9:T9)-U9)/10) -> 1.4 | W9: =IF($D9="","",'HK1'!W9+'HK2'!W9) -> 0 | X9: =IF($D9="","",'HK1'!X9+'HK2'!X9) -> 0 | Y9: =IF(D9="","",SUM(W9:X9)/14) -> 0 | Z9: =IF($D9="","",'HK1'!Z9+'HK2'!Z9) -> 0 | AA9: =IF($D9="","",'HK1'!AA9+'HK2'!AA9) -> 0 | AB9: =IF(D9="","",SUM(Z9:AA9)/10) -> 0 | AC9: =IF($D9="","",'HK1'!AC9+'HK2'!AC9) -> 0 | AD9: =IF($D9="","",'HK1'!AD9+'HK2'!AD9) -> 0 | AE9: =IF(D9="","",SUM(AC9:AD9)/20) -> 0 | AF9: =IF($D9="","",'HK1'!AF9+'HK2'!AF9) -> 0 | AG9: =IF($D9="","",'HK1'!AG9+'HK2'!AG9) -> 40.8 | AH9: =IF(D9="","",ROUND(I9+N9+R9+V9+Y9+AB9+AE9+SUM(AF9:AG9),1)) -> 63.9 | AI9: =IF(AH9="","",ROUND(AH9*10/3,1)) -> 213
A10: =IF(D10="","",SUBTOTAL(3,$D$4:$D10)) -> 7 | B10: 01012005 | C10: Khoa CN Cơ khí | D10: Đỗ Thị Phương Khanh | E10: =IF($D10="","",'HK1'!E10+'HK2'!E10) -> 3 | F10: =IF($D10="","",'HK1'!F10+'HK2'!F10) -> 4 | G10: =IF($D10="","",'HK1'!G10+'HK2'!G10) -> 0 | H10: =IF($D10="","",'HK1'!H10+'HK2'!H10) -> 0 | I10: =IF(D10="","",(E10+F10*2+G10*3+H10*2)) -> 11 | J10: =IF($D10="","",'HK1'!J10+'HK2'!J10) -> 19.2 | K10: =IF($D10="","",'HK1'!K10+'HK2'!K10) -> 8 | L10: =IF($D10="","",'HK1'!L10+'HK2'!L10) -> 0 | M10: =IF($D10="","",'HK1'!M10+'HK2'!M10) -> 0 | N10: =IF(D10="","",SUM(J10:M10)) -> 27.2 | O10: =IF($D10="","",'HK1'!O10+'HK2'!O10) -> 210 | P10: =IF($D10="","",'HK1'!P10+'HK2'!P10) -> 395 | Q10: =IF($D10="","",'HK1'!Q10+'HK2'!Q10) -> 262 | R10: =IF(D10="","",(SUM(O10:P10)-Q10)/20) -> 17.15 | S10: =IF($D10="","",'HK1'!S10+'HK2'!S10) -> 0 | T10: =IF($D10="","",'HK1'!T10+'HK2'!T10) -> 126 | U10: =IF($D10="","",'HK1'!U10+'HK2'!U10) -> 0 | V10: =IF(D10="","",(SUM(S10:T10)-U10)/10) -> 12.6 | W10: =IF($D10="","",'HK1'!W10+'HK2'!W10) -> 0 | X10: =IF($D10="","",'HK1'!X10+'HK2'!X10) -> 0 | Y10: =IF(D10="","",SUM(W10:X10)/14) -> 0 | Z10: =IF($D10="","",'HK1'!Z10+'HK2'!Z10) -> 0 | AA10: =IF($D10="","",'HK1'!AA10+'HK2'!AA10) -> 0 | AB10: =IF(D10="","",SUM(Z10:AA10)/10) -> 0 | AC10: =IF($D10="","",'HK1'!AC10+'HK2'!AC10) -> 0 | AD10: =IF($D10="","",'HK1'!AD10+'HK2'!AD10) -> 0 | AE10: =IF(D10="","",SUM(AC10:AD10)/20) -> 0 | AF10: =IF($D10="","",'HK1'!AF10+'HK2'!AF10) -> 0 | AG10: =IF($D10="","",'HK1'!AG10+'HK2'!AG10) -> 2.4 | AH10: =IF(D10="","",ROUND(I10+N10+R10+V10+Y10+AB10+AE10+SUM(AF10:AG10),1)) -> 70.4 | AI10: =IF(AH10="","",ROUND(AH10*10/3,1)) -> 234.7
A11: =IF(D11="","",SUBTOTAL(3,$D$4:$D11)) -> 8 | B11: 01012014 | C11: Khoa CN Cơ khí | D11: Dương Minh Chung | E11: =IF($D11="","",'HK1'!E11+'HK2'!E11) -> 4 | F11: =IF($D11="","",'HK1'!F11+'HK2'!F11) -> 0 | G11: =IF($D11="","",'HK1'!G11+'HK2'!G11) -> 0 | H11: =IF($D11="","",'HK1'!H11+'HK2'!H11) -> 0 | I11: =IF(D11="","",(E11+F11*2+G11*3+H11*2)) -> 4 | J11: =IF($D11="","",'HK1'!J11+'HK2'!J11) -> 15.6 | K11: =IF($D11="","",'HK1'!K11+'HK2'!K11) -> 2.8 | L11: =IF($D11="","",'HK1'!L11+'HK2'!L11) -> 0 | M11: =IF($D11="","",'HK1'!M11+'HK2'!M11) -> 0 | N11: =IF(D11="","",SUM(J11:M11)) -> 18.4 | O11: =IF($D11="","",'HK1'!O11+'HK2'!O11) -> 246 | P11: =IF($D11="","",'HK1'!P11+'HK2'!P11) -> 65 | Q11: =IF($D11="","",'HK1'!Q11+'HK2'!Q11) -> 176 | R11: =IF(D11="","",(SUM(O11:P11)-Q11)/20) -> 6.75 | S11: =IF($D11="","",'HK1'!S11+'HK2'!S11) -> 0 | T11: =IF($D11="","",'HK1'!T11+'HK2'!T11) -> 0 | U11: =IF($D11="","",'HK1'!U11+'HK2'!U11) -> 0 | V11: =IF(D11="","",(SUM(S11:T11)-U11)/10) -> 0 | W11: =IF($D11="","",'HK1'!W11+'HK2'!W11) -> 0 | X11: =IF($D11="","",'HK1'!X11+'HK2'!X11) -> 0 | Y11: =IF(D11="","",SUM(W11:X11)/14) -> 0 | Z11: =IF($D11="","",'HK1'!Z11+'HK2'!Z11) -> 0 | AA11: =IF($D11="","",'HK1'!AA11+'HK2'!AA11) -> 0 | AB11: =IF(D11="","",SUM(Z11:AA11)/10) -> 0 | AC11: =IF($D11="","",'HK1'!AC11+'HK2'!AC11) -> 0 | AD11: =IF($D11="","",'HK1'!AD11+'HK2'!AD11) -> 0 | AE11: =IF(D11="","",SUM(AC11:AD11)/20) -> 0 | AF11: =IF($D11="","",'HK1'!AF11+'HK2'!AF11) -> 0 | AG11: =IF($D11="","",'HK1'!AG11+'HK2'!AG11) -> 0 | AH11: =IF(D11="","",ROUND(I11+N11+R11+V11+Y11+AB11+AE11+SUM(AF11:AG11),1)) -> 29.2 | AI11: =IF(AH11="","",ROUND(AH11*10/3,1)) -> 97.3
A12: =IF(D12="","",SUBTOTAL(3,$D$4:$D12)) -> 9 | B12: 01012028 | C12: Khoa CN Cơ khí | D12: Dương Thị Hồng | E12: =IF($D12="","",'HK1'!E12+'HK2'!E12) -> 10 | F12: =IF($D12="","",'HK1'!F12+'HK2'!F12) -> 0 | G12: =IF($D12="","",'HK1'!G12+'HK2'!G12) -> 0 | H12: =IF($D12="","",'HK1'!H12+'HK2'!H12) -> 0 | I12: =IF(D12="","",(E12+F12*2+G12*3+H12*2)) -> 10 | J12: =IF($D12="","",'HK1'!J12+'HK2'!J12) -> 3.6 | K12: =IF($D12="","",'HK1'!K12+'HK2'!K12) -> 0 | L12: =IF($D12="","",'HK1'!L12+'HK2'!L12) -> 0 | M12: =IF($D12="","",'HK1'!M12+'HK2'!M12) -> 0 | N12: =IF(D12="","",SUM(J12:M12)) -> 3.6 | O12: =IF($D12="","",'HK1'!O12+'HK2'!O12) -> 489 | P12: =IF($D12="","",'HK1'!P12+'HK2'!P12) -> 529 | Q12: =IF($D12="","",'HK1'!Q12+'HK2'!Q12) -> 515 | R12: =IF(D12="","",(SUM(O12:P12)-Q12)/20) -> 25.15 | S12: =IF($D12="","",'HK1'!S12+'HK2'!S12) -> 0 | T12: =IF($D12="","",'HK1'!T12+'HK2'!T12) -> 0 | U12: =IF($D12="","",'HK1'!U12+'HK2'!U12) -> 0 | V12: =IF(D12="","",(SUM(S12:T12)-U12)/10) -> 0 | W12: =IF($D12="","",'HK1'!W12+'HK2'!W12) -> 0 | X12: =IF($D12="","",'HK1'!X12+'HK2'!X12) -> 0 | Y12: =IF(D12="","",SUM(W12:X12)/14) -> 0 | Z12: =IF($D12="","",'HK1'!Z12+'HK2'!Z12) -> 0 | AA12: =IF($D12="","",'HK1'!AA12+'HK2'!AA12) -> 0 | AB12: =IF(D12="","",SUM(Z12:AA12)/10) -> 0 | AC12: =IF($D12="","",'HK1'!AC12+'HK2'!AC12) -> 0 | AD12: =IF($D12="","",'HK1'!AD12+'HK2'!AD12) -> 0 | AE12: =IF(D12="","",SUM(AC12:AD12)/20) -> 0 | AF12: =IF($D12="","",'HK1'!AF12+'HK2'!AF12) -> 0 | AG12: =IF($D12="","",'HK1'!AG12+'HK2'!AG12) -> 0 | AH12: =IF(D12="","",ROUND(I12+N12+R12+V12+Y12+AB12+AE12+SUM(AF12:AG12),1)) -> 38.8 | AI12: =IF(AH12="","",ROUND(AH12*10/3,1)) -> 129.3
A13: =IF(D13="","",SUBTOTAL(3,$D$4:$D13)) -> 10 | B13: 01012027 | C13: Khoa CN Cơ khí | D13: Giáp Đức Nhận | E13: =IF($D13="","",'HK1'!E13+'HK2'!E13) -> 0 | F13: =IF($D13="","",'HK1'!F13+'HK2'!F13) -> 0 | G13: =IF($D13="","",'HK1'!G13+'HK2'!G13) -> 0 | H13: =IF($D13="","",'HK1'!H13+'HK2'!H13) -> 0 | I13: =IF(D13="","",(E13+F13*2+G13*3+H13*2)) -> 0 | J13: =IF($D13="","",'HK1'!J13+'HK2'!J13) -> 0 | K13: =IF($D13="","",'HK1'!K13+'HK2'!K13) -> 0 | L13: =IF($D13="","",'HK1'!L13+'HK2'!L13) -> 0 | M13: =IF($D13="","",'HK1'!M13+'HK2'!M13) -> 0 | N13: =IF(D13="","",SUM(J13:M13)) -> 0 | O13: =IF($D13="","",'HK1'!O13+'HK2'!O13) -> 0 | P13: =IF($D13="","",'HK1'!P13+'HK2'!P13) -> 0 | Q13: =IF($D13="","",'HK1'!Q13+'HK2'!Q13) -> 0 | R13: =IF(D13="","",(SUM(O13:P13)-Q13)/20) -> 0 | S13: =IF($D13="","",'HK1'!S13+'HK2'!S13) -> 0 | T13: =IF($D13="","",'HK1'!T13+'HK2'!T13) -> 0 | U13: =IF($D13="","",'HK1'!U13+'HK2'!U13) -> 0 | V13: =IF(D13="","",(SUM(S13:T13)-U13)/10) -> 0 | W13: =IF($D13="","",'HK1'!W13+'HK2'!W13) -> 0 | X13: =IF($D13="","",'HK1'!X13+'HK2'!X13) -> 0 | Y13: =IF(D13="","",SUM(W13:X13)/14) -> 0 | Z13: =IF($D13="","",'HK1'!Z13+'HK2'!Z13) -> 0 | AA13: =IF($D13="","",'HK1'!AA13+'HK2'!AA13) -> 0 | AB13: =IF(D13="","",SUM(Z13:AA13)/10) -> 0 | AC13: =IF($D13="","",'HK1'!AC13+'HK2'!AC13) -> 0 | AD13: =IF($D13="","",'HK1'!AD13+'HK2'!AD13) -> 0 | AE13: =IF(D13="","",SUM(AC13:AD13)/20) -> 0 | AF13: =IF($D13="","",'HK1'!AF13+'HK2'!AF13) -> 0 | AG13: =IF($D13="","",'HK1'!AG13+'HK2'!AG13) -> 0 | AH13: =IF(D13="","",ROUND(I13+N13+R13+V13+Y13+AB13+AE13+SUM(AF13:AG13),1)) -> 0 | AI13: =IF(AH13="","",ROUND(AH13*10/3,1)) -> 0
A14: =IF(D14="","",SUBTOTAL(3,$D$4:$D14)) -> 11 | B14: 01012030 | C14: Khoa CN Cơ khí | D14: Hồ Nhật Linh | E14: =IF($D14="","",'HK1'!E14+'HK2'!E14) -> 0 | F14: =IF($D14="","",'HK1'!F14+'HK2'!F14) -> 4 | G14: =IF($D14="","",'HK1'!G14+'HK2'!G14) -> 0 | H14: =IF($D14="","",'HK1'!H14+'HK2'!H14) -> 0 | I14: =IF(D14="","",(E14+F14*2+G14*3+H14*2)) -> 8 | J14: =IF($D14="","",'HK1'!J14+'HK2'!J14) -> 0 | K14: =IF($D14="","",'HK1'!K14+'HK2'!K14) -> 0 | L14: =IF($D14="","",'HK1'!L14+'HK2'!L14) -> 0 | M14: =IF($D14="","",'HK1'!M14+'HK2'!M14) -> 0 | N14: =IF(D14="","",SUM(J14:M14)) -> 0 | O14: =IF($D14="","",'HK1'!O14+'HK2'!O14) -> 24 | P14: =IF($D14="","",'HK1'!P14+'HK2'!P14) -> 24 | Q14: =IF($D14="","",'HK1'!Q14+'HK2'!Q14) -> 26 | R14: =IF(D14="","",(SUM(O14:P14)-Q14)/20) -> 1.1 | S14: =IF($D14="","",'HK1'!S14+'HK2'!S14) -> 0 | T14: =IF($D14="","",'HK1'!T14+'HK2'!T14) -> 0 | U14: =IF($D14="","",'HK1'!U14+'HK2'!U14) -> 0 | V14: =IF(D14="","",(SUM(S14:T14)-U14)/10) -> 0 | W14: =IF($D14="","",'HK1'!W14+'HK2'!W14) -> 0 | X14: =IF($D14="","",'HK1'!X14+'HK2'!X14) -> 0 | Y14: =IF(D14="","",SUM(W14:X14)/14) -> 0 | Z14: =IF($D14="","",'HK1'!Z14+'HK2'!Z14) -> 0 | AA14: =IF($D14="","",'HK1'!AA14+'HK2'!AA14) -> 0 | AB14: =IF(D14="","",SUM(Z14:AA14)/10) -> 0 | AC14: =IF($D14="","",'HK1'!AC14+'HK2'!AC14) -> 0 | AD14: =IF($D14="","",'HK1'!AD14+'HK2'!AD14) -> 0 | AE14: =IF(D14="","",SUM(AC14:AD14)/20) -> 0 | AF14: =IF($D14="","",'HK1'!AF14+'HK2'!AF14) -> 0 | AG14: =IF($D14="","",'HK1'!AG14+'HK2'!AG14) -> 0 | AH14: =IF(D14="","",ROUND(I14+N14+R14+V14+Y14+AB14+AE14+SUM(AF14:AG14),1)) -> 9.1 | AI14: =IF(AH14="","",ROUND(AH14*10/3,1)) -> 30.3
A15: =IF(D15="","",SUBTOTAL(3,$D$4:$D15)) -> 12 | B15: 01012016 | C15: Khoa CN Cơ khí | D15: Lư Thị Yến Vũ | E15: =IF($D15="","",'HK1'!E15+'HK2'!E15) -> 8 | F15: =IF($D15="","",'HK1'!F15+'HK2'!F15) -> 5 | G15: =IF($D15="","",'HK1'!G15+'HK2'!G15) -> 0 | H15: =IF($D15="","",'HK1'!H15+'HK2'!H15) -> 0 | I15: =IF(D15="","",(E15+F15*2+G15*3+H15*2)) -> 18 | J15: =IF($D15="","",'HK1'!J15+'HK2'!J15) -> 3.2 | K15: =IF($D15="","",'HK1'!K15+'HK2'!K15) -> 18 | L15: =IF($D15="","",'HK1'!L15+'HK2'!L15) -> 0 | M15: =IF($D15="","",'HK1'!M15+'HK2'!M15) -> 0 | N15: =IF(D15="","",SUM(J15:M15)) -> 21.2 | O15: =IF($D15="","",'HK1'!O15+'HK2'!O15) -> 209 | P15: =IF($D15="","",'HK1'!P15+'HK2'!P15) -> 187 | Q15: =IF($D15="","",'HK1'!Q15+'HK2'!Q15) -> 247 | R15: =IF(D15="","",(SUM(O15:P15)-Q15)/20) -> 7.45 | S15: =IF($D15="","",'HK1'!S15+'HK2'!S15) -> 199 | T15: =IF($D15="","",'HK1'!T15+'HK2'!T15) -> 285 | U15: =IF($D15="","",'HK1'!U15+'HK2'!U15) -> 199 | V15: =IF(D15="","",(SUM(S15:T15)-U15)/10) -> 28.5 | W15: =IF($D15="","",'HK1'!W15+'HK2'!W15) -> 0 | X15: =IF($D15="","",'HK1'!X15+'HK2'!X15) -> 0 | Y15: =IF(D15="","",SUM(W15:X15)/14) -> 0 | Z15: =IF($D15="","",'HK1'!Z15+'HK2'!Z15) -> 0 | AA15: =IF($D15="","",'HK1'!AA15+'HK2'!AA15) -> 0 | AB15: =IF(D15="","",SUM(Z15:AA15)/10) -> 0 | AC15: =IF($D15="","",'HK1'!AC15+'HK2'!AC15) -> 0 | AD15: =IF($D15="","",'HK1'!AD15+'HK2'!AD15) -> 0 | AE15: =IF(D15="","",SUM(AC15:AD15)/20) -> 0 | AF15: =IF($D15="","",'HK1'!AF15+'HK2'!AF15) -> 0 | AG15: =IF($D15="","",'HK1'!AG15+'HK2'!AG15) -> 1.6 | AH15: =IF(D15="","",ROUND(I15+N15+R15+V15+Y15+AB15+AE15+SUM(AF15:AG15),1)) -> 76.8 | AI15: =IF(AH15="","",ROUND(AH15*10/3,1)) -> 256
... A257: =IF(D257="","",SUBTOTAL(3,$D$4:$D257)) -> 254 | B257: 01017003 | C257: TT Truyền thông - Thư viện | D257: Nguyễn Hữu Thiện | E257: =IF($D257="","",'HK1'!E257+'HK2'!E257) -> 0 | F257: =IF($D257="","",'HK1'!F257+'HK2'!F257) -> 0 | G257: =IF($D257="","",'HK1'!G257+'HK2'!G257) -> 0 | H257: =IF($D257="","",'HK1'!H257+'HK2'!H257) -> 0 | I257: =IF(D257="","",(E257+F257*2+G257*3+H257*2)) -> 0 | J257: =IF($D257="","",'HK1'!J257+'HK2'!J257) -> 0 | K257: =IF($D257="","",'HK1'!K257+'HK2'!K257) -> 0 | L257: =IF($D257="","",'HK1'!L257+'HK2'!L257) -> 0 | M257: =IF($D257="","",'HK1'!M257+'HK2'!M257) -> 0 | N257: =IF(D257="","",SUM(J257:M257)) -> 0 | O257: =IF($D257="","",'HK1'!O257+'HK2'!O257) -> 37 | P257: =IF($D257="","",'HK1'!P257+'HK2'!P257) -> 32 | Q257: =IF($D257="","",'HK1'!Q257+'HK2'!Q257) -> 33 | R257: =IF(D257="","",(SUM(O257:P257)-Q257)/20) -> 1.8 | S257: =IF($D257="","",'HK1'!S257+'HK2'!S257) -> 0 | T257: =IF($D257="","",'HK1'!T257+'HK2'!T257) -> 0 | U257: =IF($D257="","",'HK1'!U257+'HK2'!U257) -> 0 | V257: =IF(D257="","",(SUM(S257:T257)-U257)/10) -> 0 | W257: =IF($D257="","",'HK1'!W257+'HK2'!W257) -> 0 | X257: =IF($D257="","",'HK1'!X257+'HK2'!X257) -> 0 | Y257: =IF(D257="","",SUM(W257:X257)/14) -> 0 | Z257: =IF($D257="","",'HK1'!Z257+'HK2'!Z257) -> 0 | AA257: =IF($D257="","",'HK1'!AA257+'HK2'!AA257) -> 0 | AB257: =IF(D257="","",SUM(Z257:AA257)/10) -> 0 | AC257: =IF($D257="","",'HK1'!AC257+'HK2'!AC257) -> 0 | AD257: =IF($D257="","",'HK1'!AD257+'HK2'!AD257) -> 0 | AE257: =IF(D257="","",SUM(AC257:AD257)/20) -> 0 | AF257: =IF($D257="","",'HK1'!AF257+'HK2'!AF257) -> 0 | AG257: =IF($D257="","",'HK1'!AG257+'HK2'!AG257) -> 0 | AH257: =IF(D257="","",ROUND(I257+N257+R257+V257+Y257+AB257+AE257+SUM(AF257:AG257),1)) -> 1.8 | AI257: =IF(AH257="","",ROUND(AH257*10/3,1)) -> 6
A258: =IF(D258="","",SUBTOTAL(3,$D$4:$D258)) | E258: =IF($D258="","",'HK1'!E258+'HK2'!E258) | F258: =IF($D258="","",'HK1'!F258+'HK2'!F258) | G258: =IF($D258="","",'HK1'!G258+'HK2'!G258) | H258: =IF($D258="","",'HK1'!H258+'HK2'!H258) | I258: =IF(D258="","",(E258+F258*2+G258*3+H258*2)) | J258: =IF($D258="","",'HK1'!J258+'HK2'!J258) | K258: =IF($D258="","",'HK1'!K258+'HK2'!K258) | L258: =IF($D258="","",'HK1'!L258+'HK2'!L258) | M258: =IF($D258="","",'HK1'!M258+'HK2'!M258) | N258: =IF(D258="","",SUM(J258:M258)) | O258: =IF($D258="","",'HK1'!O258+'HK2'!O258) | P258: =IF($D258="","",'HK1'!P258+'HK2'!P258) | Q258: =IF($D258="","",'HK1'!Q258+'HK2'!Q258) | R258: =IF(D258="","",(SUM(O258:P258)-Q258)/20) | S258: =IF($D258="","",'HK1'!S258+'HK2'!S258) | T258: =IF($D258="","",'HK1'!T258+'HK2'!T258) | U258: =IF($D258="","",'HK1'!U258+'HK2'!U258) | V258: =IF(D258="","",(SUM(S258:T258)-U258)/10) | W258: =IF($D258="","",'HK1'!W258+'HK2'!W258) | X258: =IF($D258="","",'HK1'!X258+'HK2'!X258) | Y258: =IF(D258="","",SUM(W258:X258)/14) | Z258: =IF($D258="","",'HK1'!Z258+'HK2'!Z258) | AA258: =IF($D258="","",'HK1'!AA258+'HK2'!AA258) | AB258: =IF(D258="","",SUM(Z258:AA258)/10) | AC258: =IF($D258="","",'HK1'!AC258+'HK2'!AC258) | AD258: =IF($D258="","",'HK1'!AD258+'HK2'!AD258) | AE258: =IF(D258="","",SUM(AC258:AD258)/20) | AF258: =IF($D258="","",'HK1'!AF258+'HK2'!AF258) | AG258: =IF($D258="","",'HK1'!AG258+'HK2'!AG258) | AH258: =IF(D258="","",ROUND(I258+N258+R258+V258+Y258+AB258+AE258+SUM(AF258:AG258),1)) | AI258: =IF(AH258="","",ROUND(AH258*10/3,1))
E259: =SUBTOTAL(9,E2:E258) -> 800 | F259: =SUBTOTAL(9,F2:F258) -> 188 | G259: =SUBTOTAL(9,G2:G258) -> 0 | H259: =SUBTOTAL(9,H2:H258) -> 0 | I259: =SUBTOTAL(9,I2:I258) -> 1176 | J259: =SUBTOTAL(9,J2:J258) -> 2149.6 | K259: =SUBTOTAL(9,K2:K258) -> 2149.6 | L259: =SUBTOTAL(9,L2:L258) -> 0 | ... AH259: =SUBTOTAL(9,AH2:AH258) -> 8671.5

Sheet KHCB HK1
A1: STT | B1: Mã nhân sự | C1: Đơn vị | D1: HỌ VÀ TÊN GIẢNG VIÊN | E1: ĐỀ THI | J1: COI THI | O1: CHẤM THI KTHP | W1: CHẤM THI TỐT NGHIỆP | AF1: DỰ PHÒNG KỲ THI | AG1: GIÁM SÁT | AH1: TỔNG KHỐI LƯỢNG | AI1: =SUBTOTAL(9,AH:AH) -> 746.4
O2: LÝ THUYẾT | S2: TIỂU LUẬN | W2: LÝ THUYẾT | Z2: T.HÀNH CHUNG | AC2: T.HÀNH RIÊNG
E3: SL ĐỀ LT KTHP | F3: SL ĐỀ TN KTHP | G3: SL ĐỀ LT TN | H3: SL ĐỀ TH TN | I3: KL SOẠN ĐỀ (tiết) | J3: KTHPLT COITHI 1 | K3: KTHPLT COITHI 2 | L3: ThiTN COITHI 1 | M3: ThiTN COITHI 2 | N3: KL COITHI (tiết) | O3: SL BÀI LT CHẤM 1 | P3: SL BÀI LT CHẤM 2 | Q3: SL CHẤM LT NGHĨA VỤ | R3: KL CHẤM LT (tiết) | S3: SL BÀI TL CHẤM 1 | T3: SL BÀI TL CHẤM 2 | U3: SL CHẤM TL NGHĨA VỤ | V3: KL CHẤM TL (tiết) | W3: SL BÀI LT CHẤM 1 | X3: SL BÀI LT CHẤM 2 | Y3: KL CHẤM LT (tiết) | Z3: SL BÀI TL CHẤM 1 | AA3: SL BÀI TL CHẤM 2 | AB3: KL CHẤM TL (tiết) | AC3: SL BÀI TL CHẤM 1 | AD3: SL BÀI TL CHẤM 2 | AE3: KL CHẤM TL (tiết)
A4: =IF(D4="","",SUBTOTAL(3,$D$4:$D4)) -> 1 | B4: 01010046 | C4: Khoa Khoa học cơ bản | D4: Bùi Thị Liễu Trang | E4: =IF($D4="","",VLOOKUP($D4,'HK1'!$D$4:$AH$259,2,0)) -> 0 | F4: =IF($D4="","",VLOOKUP($D4,'HK1'!$D$4:$AH$259,3,0)) -> 0 | G4: =IF($D4="","",VLOOKUP($D4,'HK1'!$D$4:$AH$259,4,0)) -> 0 | H4: =IF($D4="","",VLOOKUP($D4,'HK1'!$D$4:$AH$259,5,0)) -> 0 | I4: =IF($D4="","",VLOOKUP($D4,'HK1'!$D$4:$AH$259,6,0)) -> 0 | J4: =IF($D4="","",VLOOKUP($D4,'HK1'!$D$4:$AH$259,7,0)) -> 0 | K4: =IF($D4="","",VLOOKUP($D4,'HK1'!$D$4:$AH$259,8,0)) -> 0 | L4: =IF($D4="","",VLOOKUP($D4,'HK1'!$D$4:$AH$259,9,0)) -> 0 | M4: =IF($D4="","",VLOOKUP($D4,'HK1'!$D$4:$AH$259,10,0)) -> 0 | N4: =IF($D4="","",VLOOKUP($D4,'HK1'!$D$4:$AH$259,11,0)) -> 0 | O4: =IF($D4="","",VLOOKUP($D4,'HK1'!$D$4:$AH$259,12,0)) -> 103 | P4: =IF($D4="","",VLOOKUP($D4,'HK1'!$D$4:$AH$259,13,0)) -> 308 | Q4: =IF($D4="","",VLOOKUP($D4,'HK1'!$D$4:$AH$259,14,0)) -> 265 | R4: =IF($D4="","",VLOOKUP($D4,'HK1'!$D$4:$AH$259,15,0)) -> 7.3 | S4: =IF($D4="","",VLOOKUP($D4,'HK1'!$D$4:$AH$259,16,0)) -> 0 | T4: =IF($D4="","",VLOOKUP($D4,'HK1'!$D$4:$AH$259,17,0)) -> 0 | U4: =IF($D4="","",VLOOKUP($D4,'HK1'!$D$4:$AH$259,18,0)) -> 0 | V4: =IF($D4="","",VLOOKUP($D4,'HK1'!$D$4:$AH$259,19,0)) -> 0 | W4: =IF($D4="","",VLOOKUP($D4,'HK1'!$D$4:$AH$259,20,0)) -> 0 | X4: =IF($D4="","",VLOOKUP($D4,'HK1'!$D$4:$AH$259,21,0)) -> 0 | Y4: =IF($D4="","",VLOOKUP($D4,'HK1'!$D$4:$AH$259,22,0)) -> 0 | Z4: =IF($D4="","",VLOOKUP($D4,'HK1'!$D$4:$AH$259,23,0)) -> 0 | AA4: =IF($D4="","",VLOOKUP($D4,'HK1'!$D$4:$AH$259,24,0)) -> 0 | AB4: =IF($D4="","",VLOOKUP($D4,'HK1'!$D$4:$AH$259,25,0)) -> 0 | AC4: =IF($D4="","",VLOOKUP($D4,'HK1'!$D$4:$AH$259,26,0)) -> 0 | AD4: =IF($D4="","",VLOOKUP($D4,'HK1'!$D$4:$AH$259,27,0)) -> 0 | AE4: =IF($D4="","",VLOOKUP($D4,'HK1'!$D$4:$AH$259,28,0)) -> 0 | AF4: =IF($D4="","",VLOOKUP($D4,'HK1'!$D$4:$AH$259,29,0)) -> 0 | AG4: =IF($D4="","",VLOOKUP($D4,'HK1'!$D$4:$AH$259,30,0)) -> 0 | AH4: =IF(D4="","",ROUND(I4+N4+R4+V4+Y4+AB4+AE4+SUM(AF4:AG4),1)) -> 7.3 | AI4: =IF(AH4="","",ROUND(AH4*10/3,1)) -> 24.3
A5: =IF(D5="","",SUBTOTAL(3,$D$4:$D5)) -> 2 | B5: 01010050 | C5: Khoa Khoa học cơ bản | D5: Bùi Thị Tú Uyên | E5: =IF($D5="","",VLOOKUP($D5,'HK1'!$D$4:$AH$259,2,0)) -> 0 | F5: =IF($D5="","",VLOOKUP($D5,'HK1'!$D$4:$AH$259,3,0)) -> 0 | G5: =IF($D5="","",VLOOKUP($D5,'HK1'!$D$4:$AH$259,4,0)) -> 0 | H5: =IF($D5="","",VLOOKUP($D5,'HK1'!$D$4:$AH$259,5,0)) -> 0 | I5: =IF($D5="","",VLOOKUP($D5,'HK1'!$D$4:$AH$259,6,0)) -> 0 | J5: =IF($D5="","",VLOOKUP($D5,'HK1'!$D$4:$AH$259,7,0)) -> 0 | K5: =IF($D5="","",VLOOKUP($D5,'HK1'!$D$4:$AH$259,8,0)) -> 0 | L5: =IF($D5="","",VLOOKUP($D5,'HK1'!$D$4:$AH$259,9,0)) -> 0 | M5: =IF($D5="","",VLOOKUP($D5,'HK1'!$D$4:$AH$259,10,0)) -> 0 | N5: =IF($D5="","",VLOOKUP($D5,'HK1'!$D$4:$AH$259,11,0)) -> 0 | O5: =IF($D5="","",VLOOKUP($D5,'HK1'!$D$4:$AH$259,12,0)) -> 138 | P5: =IF($D5="","",VLOOKUP($D5,'HK1'!$D$4:$AH$259,13,0)) -> 0 | Q5: =IF($D5="","",VLOOKUP($D5,'HK1'!$D$4:$AH$259,14,0)) -> 64 | R5: =IF($D5="","",VLOOKUP($D5,'HK1'!$D$4:$AH$259,15,0)) -> 3.7 | S5: =IF($D5="","",VLOOKUP($D5,'HK1'!$D$4:$AH$259,16,0)) -> 0 | T5: =IF($D5="","",VLOOKUP($D5,'HK1'!$D$4:$AH$259,17,0)) -> 0 | U5: =IF($D5="","",VLOOKUP($D5,'HK1'!$D$4:$AH$259,18,0)) -> 0 | V5: =IF($D5="","",VLOOKUP($D5,'HK1'!$D$4:$AH$259,19,0)) -> 0 | W5: =IF($D5="","",VLOOKUP($D5,'HK1'!$D$4:$AH$259,20,0)) -> 0 | X5: =IF($D5="","",VLOOKUP($D5,'HK1'!$D$4:$AH$259,21,0)) -> 0 | Y5: =IF($D5="","",VLOOKUP($D5,'HK1'!$D$4:$AH$259,22,0)) -> 0 | Z5: =IF($D5="","",VLOOKUP($D5,'HK1'!$D$4:$AH$259,23,0)) -> 0 | AA5: =IF($D5="","",VLOOKUP($D5,'HK1'!$D$4:$AH$259,24,0)) -> 0 | AB5: =IF($D5="","",VLOOKUP($D5,'HK1'!$D$4:$AH$259,25,0)) -> 0 | AC5: =IF($D5="","",VLOOKUP($D5,'HK1'!$D$4:$AH$259,26,0)) -> 0 | AD5: =IF($D5="","",VLOOKUP($D5,'HK1'!$D$4:$AH$259,27,0)) -> 0 | AE5: =IF($D5="","",VLOOKUP($D5,'HK1'!$D$4:$AH$259,28,0)) -> 0 | AF5: =IF($D5="","",VLOOKUP($D5,'HK1'!$D$4:$AH$259,29,0)) -> 0 | AG5: =IF($D5="","",VLOOKUP($D5,'HK1'!$D$4:$AH$259,30,0)) -> 0 | AH5: =IF(D5="","",ROUND(I5+N5+R5+V5+Y5+AB5+AE5+SUM(AF5:AG5),1)) -> 3.7 | AI5: =IF(AH5="","",ROUND(AH5*10/3,1)) -> 12.3
A6: =IF(D6="","",SUBTOTAL(3,$D$4:$D6)) -> 3 | B6: 01010036 | C6: Khoa Khoa học cơ bản | D6: Cao Đình Trung Hậu | E6: =IF($D6="","",VLOOKUP($D6,'HK1'!$D$4:$AH$259,2,0)) -> 0 | F6: =IF($D6="","",VLOOKUP($D6,'HK1'!$D$4:$AH$259,3,0)) -> 0 | G6: =IF($D6="","",VLOOKUP($D6,'HK1'!$D$4:$AH$259,4,0)) -> 0 | H6: =IF($D6="","",VLOOKUP($D6,'HK1'!$D$4:$AH$259,5,0)) -> 0 | I6: =IF($D6="","",VLOOKUP($D6,'HK1'!$D$4:$AH$259,6,0)) -> 0 | J6: =IF($D6="","",VLOOKUP($D6,'HK1'!$D$4:$AH$259,7,0)) -> 16.8 | K6: =IF($D6="","",VLOOKUP($D6,'HK1'!$D$4:$AH$259,8,0)) -> 0 | L6: =IF($D6="","",VLOOKUP($D6,'HK1'!$D$4:$AH$259,9,0)) -> 0 | M6: =IF($D6="","",VLOOKUP($D6,'HK1'!$D$4:$AH$259,10,0)) -> 0 | N6: =IF($D6="","",VLOOKUP($D6,'HK1'!$D$4:$AH$259,11,0)) -> 16.8 | O6: =IF($D6="","",VLOOKUP($D6,'HK1'!$D$4:$AH$259,12,0)) -> 177 | P6: =IF($D6="","",VLOOKUP($D6,'HK1'!$D$4:$AH$259,13,0)) -> 554 | Q6: =IF($D6="","",VLOOKUP($D6,'HK1'!$D$4:$AH$259,14,0)) -> 229 | R6: =IF($D6="","",VLOOKUP($D6,'HK1'!$D$4:$AH$259,15,0)) -> 25.1 | S6: =IF($D6="","",VLOOKUP($D6,'HK1'!$D$4:$AH$259,16,0)) -> 0 | T6: =IF($D6="","",VLOOKUP($D6,'HK1'!$D$4:$AH$259,17,0)) -> 0 | U6: =IF($D6="","",VLOOKUP($D6,'HK1'!$D$4:$AH$259,18,0)) -> 0 | V6: =IF($D6="","",VLOOKUP($D6,'HK1'!$D$4:$AH$259,19,0)) -> 0 | W6: =IF($D6="","",VLOOKUP($D6,'HK1'!$D$4:$AH$259,20,0)) -> 0 | X6: =IF($D6="","",VLOOKUP($D6,'HK1'!$D$4:$AH$259,21,0)) -> 0 | Y6: =IF($D6="","",VLOOKUP($D6,'HK1'!$D$4:$AH$259,22,0)) -> 0 | Z6: =IF($D6="","",VLOOKUP($D6,'HK1'!$D$4:$AH$259,23,0)) -> 0 | AA6: =IF($D6="","",VLOOKUP($D6,'HK1'!$D$4:$AH$259,24,0)) -> 0 | AB6: =IF($D6="","",VLOOKUP($D6,'HK1'!$D$4:$AH$259,25,0)) -> 0 | AC6: =IF($D6="","",VLOOKUP($D6,'HK1'!$D$4:$AH$259,26,0)) -> 0 | AD6: =IF($D6="","",VLOOKUP($D6,'HK1'!$D$4:$AH$259,27,0)) -> 0 | AE6: =IF($D6="","",VLOOKUP($D6,'HK1'!$D$4:$AH$259,28,0)) -> 0 | AF6: =IF($D6="","",VLOOKUP($D6,'HK1'!$D$4:$AH$259,29,0)) -> 0 | AG6: =IF($D6="","",VLOOKUP($D6,'HK1'!$D$4:$AH$259,30,0)) -> 3.6 | AH6: =IF(D6="","",ROUND(I6+N6+R6+V6+Y6+AB6+AE6+SUM(AF6:AG6),1)) -> 45.5 | AI6: =IF(AH6="","",ROUND(AH6*10/3,1)) -> 151.7
A7: =IF(D7="","",SUBTOTAL(3,$D$4:$D7)) -> 4 | B7: 01010013 | C7: Khoa Khoa học cơ bản | D7: Cao Thị Nga | E7: =IF($D7="","",VLOOKUP($D7,'HK1'!$D$4:$AH$259,2,0)) -> 0 | F7: =IF($D7="","",VLOOKUP($D7,'HK1'!$D$4:$AH$259,3,0)) -> 0 | G7: =IF($D7="","",VLOOKUP($D7,'HK1'!$D$4:$AH$259,4,0)) -> 0 | H7: =IF($D7="","",VLOOKUP($D7,'HK1'!$D$4:$AH$259,5,0)) -> 0 | I7: =IF($D7="","",VLOOKUP($D7,'HK1'!$D$4:$AH$259,6,0)) -> 0 | J7: =IF($D7="","",VLOOKUP($D7,'HK1'!$D$4:$AH$259,7,0)) -> 16.8 | K7: =IF($D7="","",VLOOKUP($D7,'HK1'!$D$4:$AH$259,8,0)) -> 0 | L7: =IF($D7="","",VLOOKUP($D7,'HK1'!$D$4:$AH$259,9,0)) -> 0 | M7: =IF($D7="","",VLOOKUP($D7,'HK1'!$D$4:$AH$259,10,0)) -> 0 | N7: =IF($D7="","",VLOOKUP($D7,'HK1'!$D$4:$AH$259,11,0)) -> 16.8 | O7: =IF($D7="","",VLOOKUP($D7,'HK1'!$D$4:$AH$259,12,0)) -> 216 | P7: =IF($D7="","",VLOOKUP($D7,'HK1'!$D$4:$AH$259,13,0)) -> 212 | Q7: =IF($D7="","",VLOOKUP($D7,'HK1'!$D$4:$AH$259,14,0)) -> 201 | R7: =IF($D7="","",VLOOKUP($D7,'HK1'!$D$4:$AH$259,15,0)) -> 11.35 | S7: =IF($D7="","",VLOOKUP($D7,'HK1'!$D$4:$AH$259,16,0)) -> 0 | T7: =IF($D7="","",VLOOKUP($D7,'HK1'!$D$4:$AH$259,17,0)) -> 0 | U7: =IF($D7="","",VLOOKUP($D7,'HK1'!$D$4:$AH$259,18,0)) -> 0 | V7: =IF($D7="","",VLOOKUP($D7,'HK1'!$D$4:$AH$259,19,0)) -> 0 | W7: =IF($D7="","",VLOOKUP($D7,'HK1'!$D$4:$AH$259,20,0)) -> 0 | X7: =IF($D7="","",VLOOKUP($D7,'HK1'!$D$4:$AH$259,21,0)) -> 0 | Y7: =IF($D7="","",VLOOKUP($D7,'HK1'!$D$4:$AH$259,22,0)) -> 0 | Z7: =IF($D7="","",VLOOKUP($D7,'HK1'!$D$4:$AH$259,23,0)) -> 0 | AA7: =IF($D7="","",VLOOKUP($D7,'HK1'!$D$4:$AH$259,24,0)) -> 0 | AB7: =IF($D7="","",VLOOKUP($D7,'HK1'!$D$4:$AH$259,25,0)) -> 0 | AC7: =IF($D7="","",VLOOKUP($D7,'HK1'!$D$4:$AH$259,26,0)) -> 0 | AD7: =IF($D7="","",VLOOKUP($D7,'HK1'!$D$4:$AH$259,27,0)) -> 0 | AE7: =IF($D7="","",VLOOKUP($D7,'HK1'!$D$4:$AH$259,28,0)) -> 0 | AF7: =IF($D7="","",VLOOKUP($D7,'HK1'!$D$4:$AH$259,29,0)) -> 0 | AG7: =IF($D7="","",VLOOKUP($D7,'HK1'!$D$4:$AH$259,30,0)) -> 0 | AH7: =IF(D7="","",ROUND(I7+N7+R7+V7+Y7+AB7+AE7+SUM(AF7:AG7),1)) -> 28.2 | AI7: =IF(AH7="","",ROUND(AH7*10/3,1)) -> 94
A8: =IF(D8="","",SUBTOTAL(3,$D$4:$D8)) -> 5 | B8: 01010024 | C8: Khoa Khoa học cơ bản | D8: Đặng Thị Kiến Trúc | E8: =IF($D8="","",VLOOKUP($D8,'HK1'!$D$4:$AH$259,2,0)) -> 0 | F8: =IF($D8="","",VLOOKUP($D8,'HK1'!$D$4:$AH$259,3,0)) -> 0 | G8: =IF($D8="","",VLOOKUP($D8,'HK1'!$D$4:$AH$259,4,0)) -> 0 | H8: =IF($D8="","",VLOOKUP($D8,'HK1'!$D$4:$AH$259,5,0)) -> 0 | I8: =IF($D8="","",VLOOKUP($D8,'HK1'!$D$4:$AH$259,6,0)) -> 0 | J8: =IF($D8="","",VLOOKUP($D8,'HK1'!$D$4:$AH$259,7,0)) -> 10 | K8: =IF($D8="","",VLOOKUP($D8,'HK1'!$D$4:$AH$259,8,0)) -> 1.2 | L8: =IF($D8="","",VLOOKUP($D8,'HK1'!$D$4:$AH$259,9,0)) -> 0 | M8: =IF($D8="","",VLOOKUP($D8,'HK1'!$D$4:$AH$259,10,0)) -> 0 | N8: =IF($D8="","",VLOOKUP($D8,'HK1'!$D$4:$AH$259,11,0)) -> 11.2 | O8: =IF($D8="","",VLOOKUP($D8,'HK1'!$D$4:$AH$259,12,0)) -> 362 | P8: =IF($D8="","",VLOOKUP($D8,'HK1'!$D$4:$AH$259,13,0)) -> 429 | Q8: =IF($D8="","",VLOOKUP($D8,'HK1'!$D$4:$AH$259,14,0)) -> 339 | R8: =IF($D8="","",VLOOKUP($D8,'HK1'!$D$4:$AH$259,15,0)) -> 22.6 | S8: =IF($D8="","",VLOOKUP($D8,'HK1'!$D$4:$AH$259,16,0)) -> 0 | T8: =IF($D8="","",VLOOKUP($D8,'HK1'!$D$4:$AH$259,17,0)) -> 0 | U8: =IF($D8="","",VLOOKUP($D8,'HK1'!$D$4:$AH$259,18,0)) -> 0 | V8: =IF($D8="","",VLOOKUP($D8,'HK1'!$D$4:$AH$259,19,0)) -> 0 | W8: =IF($D8="","",VLOOKUP($D8,'HK1'!$D$4:$AH$259,20,0)) -> 0 | X8: =IF($D8="","",VLOOKUP($D8,'HK1'!$D$4:$AH$259,21,0)) -> 0 | Y8: =IF($D8="","",VLOOKUP($D8,'HK1'!$D$4:$AH$259,22,0)) -> 0 | Z8: =IF($D8="","",VLOOKUP($D8,'HK1'!$D$4:$AH$259,23,0)) -> 0 | AA8: =IF($D8="","",VLOOKUP($D8,'HK1'!$D$4:$AH$259,24,0)) -> 0 | AB8: =IF($D8="","",VLOOKUP($D8,'HK1'!$D$4:$AH$259,25,0)) -> 0 | AC8: =IF($D8="","",VLOOKUP($D8,'HK1'!$D$4:$AH$259,26,0)) -> 0 | AD8: =IF($D8="","",VLOOKUP($D8,'HK1'!$D$4:$AH$259,27,0)) -> 0 | AE8: =IF($D8="","",VLOOKUP($D8,'HK1'!$D$4:$AH$259,28,0)) -> 0 | AF8: =IF($D8="","",VLOOKUP($D8,'HK1'!$D$4:$AH$259,29,0)) -> 1.2 | AG8: =IF($D8="","",VLOOKUP($D8,'HK1'!$D$4:$AH$259,30,0)) -> 0 | AH8: =IF(D8="","",ROUND(I8+N8+R8+V8+Y8+AB8+AE8+SUM(AF8:AG8),1)) -> 35 | AI8: =IF(AH8="","",ROUND(AH8*10/3,1)) -> 116.7
A9: =IF(D9="","",SUBTOTAL(3,$D$4:$D9)) -> 6 | B9: 01010056 | C9: Khoa Khoa học cơ bản | D9: Đinh Thị Thắng | E9: =IF($D9="","",VLOOKUP($D9,'HK1'!$D$4:$AH$259,2,0)) -> 0 | F9: =IF($D9="","",VLOOKUP($D9,'HK1'!$D$4:$AH$259,3,0)) -> 0 | G9: =IF($D9="","",VLOOKUP($D9,'HK1'!$D$4:$AH$259,4,0)) -> 0 | H9: =IF($D9="","",VLOOKUP($D9,'HK1'!$D$4:$AH$259,5,0)) -> 0 | I9: =IF($D9="","",VLOOKUP($D9,'HK1'!$D$4:$AH$259,6,0)) -> 0 | J9: =IF($D9="","",VLOOKUP($D9,'HK1'!$D$4:$AH$259,7,0)) -> 0 | K9: =IF($D9="","",VLOOKUP($D9,'HK1'!$D$4:$AH$259,8,0)) -> 0 | L9: =IF($D9="","",VLOOKUP($D9,'HK1'!$D$4:$AH$259,9,0)) -> 0 | M9: =IF($D9="","",VLOOKUP($D9,'HK1'!$D$4:$AH$259,10,0)) -> 0 | N9: =IF($D9="","",VLOOKUP($D9,'HK1'!$D$4:$AH$259,11,0)) -> 0 | O9: =IF($D9="","",VLOOKUP($D9,'HK1'!$D$4:$AH$259,12,0)) -> 0 | P9: =IF($D9="","",VLOOKUP($D9,'HK1'!$D$4:$AH$259,13,0)) -> 0 | Q9: =IF($D9="","",VLOOKUP($D9,'HK1'!$D$4:$AH$259,14,0)) -> 0 | R9: =IF($D9="","",VLOOKUP($D9,'HK1'!$D$4:$AH$259,15,0)) -> 0 | S9: =IF($D9="","",VLOOKUP($D9,'HK1'!$D$4:$AH$259,16,0)) -> 0 | T9: =IF($D9="","",VLOOKUP($D9,'HK1'!$D$4:$AH$259,17,0)) -> 0 | U9: =IF($D9="","",VLOOKUP($D9,'HK1'!$D$4:$AH$259,18,0)) -> 0 | V9: =IF($D9="","",VLOOKUP($D9,'HK1'!$D$4:$AH$259,19,0)) -> 0 | W9: =IF($D9="","",VLOOKUP($D9,'HK1'!$D$4:$AH$259,20,0)) -> 0 | X9: =IF($D9="","",VLOOKUP($D9,'HK1'!$D$4:$AH$259,21,0)) -> 0 | Y9: =IF($D9="","",VLOOKUP($D9,'HK1'!$D$4:$AH$259,22,0)) -> 0 | Z9: =IF($D9="","",VLOOKUP($D9,'HK1'!$D$4:$AH$259,23,0)) -> 0 | AA9: =IF($D9="","",VLOOKUP($D9,'HK1'!$D$4:$AH$259,24,0)) -> 0 | AB9: =IF($D9="","",VLOOKUP($D9,'HK1'!$D$4:$AH$259,25,0)) -> 0 | AC9: =IF($D9="","",VLOOKUP($D9,'HK1'!$D$4:$AH$259,26,0)) -> 0 | AD9: =IF($D9="","",VLOOKUP($D9,'HK1'!$D$4:$AH$259,27,0)) -> 0 | AE9: =IF($D9="","",VLOOKUP($D9,'HK1'!$D$4:$AH$259,28,0)) -> 0 | AF9: =IF($D9="","",VLOOKUP($D9,'HK1'!$D$4:$AH$259,29,0)) -> 0 | AG9: =IF($D9="","",VLOOKUP($D9,'HK1'!$D$4:$AH$259,30,0)) -> 0 | AH9: =IF(D9="","",ROUND(I9+N9+R9+V9+Y9+AB9+AE9+SUM(AF9:AG9),1)) -> 0 | AI9: =IF(AH9="","",ROUND(AH9*10/3,1)) -> 0
A10: =IF(D10="","",SUBTOTAL(3,$D$4:$D10)) -> 7 | B10: 01010034 | C10: Khoa Khoa học cơ bản | D10: Đinh Trần Phương Thảo | E10: =IF($D10="","",VLOOKUP($D10,'HK1'!$D$4:$AH$259,2,0)) -> 0 | F10: =IF($D10="","",VLOOKUP($D10,'HK1'!$D$4:$AH$259,3,0)) -> 2 | G10: =IF($D10="","",VLOOKUP($D10,'HK1'!$D$4:$AH$259,4,0)) -> 0 | H10: =IF($D10="","",VLOOKUP($D10,'HK1'!$D$4:$AH$259,5,0)) -> 0 | I10: =IF($D10="","",VLOOKUP($D10,'HK1'!$D$4:$AH$259,6,0)) -> 4 | J10: =IF($D10="","",VLOOKUP($D10,'HK1'!$D$4:$AH$259,7,0)) -> 1.2 | K10: =IF($D10="","",VLOOKUP($D10,'HK1'!$D$4:$AH$259,8,0)) -> 15.6 | L10: =IF($D10="","",VLOOKUP($D10,'HK1'!$D$4:$AH$259,9,0)) -> 0 | M10: =IF($D10="","",VLOOKUP($D10,'HK1'!$D$4:$AH$259,10,0)) -> 0 | N10: =IF($D10="","",VLOOKUP($D10,'HK1'!$D$4:$AH$259,11,0)) -> 16.8 | O10: =IF($D10="","",VLOOKUP($D10,'HK1'!$D$4:$AH$259,12,0)) -> 0 | P10: =IF($D10="","",VLOOKUP($D10,'HK1'!$D$4:$AH$259,13,0)) -> 0 | Q10: =IF($D10="","",VLOOKUP($D10,'HK1'!$D$4:$AH$259,14,0)) -> 0 | R10: =IF($D10="","",VLOOKUP($D10,'HK1'!$D$4:$AH$259,15,0)) -> 0 | S10: =IF($D10="","",VLOOKUP($D10,'HK1'!$D$4:$AH$259,16,0)) -> 0 | T10: =IF($D10="","",VLOOKUP($D10,'HK1'!$D$4:$AH$259,17,0)) -> 0 | U10: =IF($D10="","",VLOOKUP($D10,'HK1'!$D$4:$AH$259,18,0)) -> 0 | V10: =IF($D10="","",VLOOKUP($D10,'HK1'!$D$4:$AH$259,19,0)) -> 0 | W10: =IF($D10="","",VLOOKUP($D10,'HK1'!$D$4:$AH$259,20,0)) -> 0 | X10: =IF($D10="","",VLOOKUP($D10,'HK1'!$D$4:$AH$259,21,0)) -> 0 | Y10: =IF($D10="","",VLOOKUP($D10,'HK1'!$D$4:$AH$259,22,0)) -> 0 | Z10: =IF($D10="","",VLOOKUP($D10,'HK1'!$D$4:$AH$259,23,0)) -> 0 | AA10: =IF($D10="","",VLOOKUP($D10,'HK1'!$D$4:$AH$259,24,0)) -> 0 | AB10: =IF($D10="","",VLOOKUP($D10,'HK1'!$D$4:$AH$259,25,0)) -> 0 | AC10: =IF($D10="","",VLOOKUP($D10,'HK1'!$D$4:$AH$259,26,0)) -> 0 | AD10: =IF($D10="","",VLOOKUP($D10,'HK1'!$D$4:$AH$259,27,0)) -> 0 | AE10: =IF($D10="","",VLOOKUP($D10,'HK1'!$D$4:$AH$259,28,0)) -> 0 | AF10: =IF($D10="","",VLOOKUP($D10,'HK1'!$D$4:$AH$259,29,0)) -> 2.4 | AG10: =IF($D10="","",VLOOKUP($D10,'HK1'!$D$4:$AH$259,30,0)) -> 0 | AH10: =IF(D10="","",ROUND(I10+N10+R10+V10+Y10+AB10+AE10+SUM(AF10:AG10),1)) -> 23.2 | AI10: =IF(AH10="","",ROUND(AH10*10/3,1)) -> 77.3
A11: =IF(D11="","",SUBTOTAL(3,$D$4:$D11)) -> 8 | B11: 01022063 | C11: Khoa Khoa học cơ bản | D11: Đinh Trần Trọng Hiếu | E11: =IF($D11="","",VLOOKUP($D11,'HK1'!$D$4:$AH$259,2,0)) -> 0 | F11: =IF($D11="","",VLOOKUP($D11,'HK1'!$D$4:$AH$259,3,0)) -> 0 | G11: =IF($D11="","",VLOOKUP($D11,'HK1'!$D$4:$AH$259,4,0)) -> 0 | H11: =IF($D11="","",VLOOKUP($D11,'HK1'!$D$4:$AH$259,5,0)) -> 0 | I11: =IF($D11="","",VLOOKUP($D11,'HK1'!$D$4:$AH$259,6,0)) -> 0 | J11: =IF($D11="","",VLOOKUP($D11,'HK1'!$D$4:$AH$259,7,0)) -> 0 | K11: =IF($D11="","",VLOOKUP($D11,'HK1'!$D$4:$AH$259,8,0)) -> 0 | L11: =IF($D11="","",VLOOKUP($D11,'HK1'!$D$4:$AH$259,9,0)) -> 0 | M11: =IF($D11="","",VLOOKUP($D11,'HK1'!$D$4:$AH$259,10,0)) -> 0 | N11: =IF($D11="","",VLOOKUP($D11,'HK1'!$D$4:$AH$259,11,0)) -> 0 | O11: =IF($D11="","",VLOOKUP($D11,'HK1'!$D$4:$AH$259,12,0)) -> 0 | P11: =IF($D11="","",VLOOKUP($D11,'HK1'!$D$4:$AH$259,13,0)) -> 0 | Q11: =IF($D11="","",VLOOKUP($D11,'HK1'!$D$4:$AH$259,14,0)) -> 0 | R11: =IF($D11="","",VLOOKUP($D11,'HK1'!$D$4:$AH$259,15,0)) -> 0 | S11: =IF($D11="","",VLOOKUP($D11,'HK1'!$D$4:$AH$259,16,0)) -> 0 | T11: =IF($D11="","",VLOOKUP($D11,'HK1'!$D$4:$AH$259,17,0)) -> 0 | U11: =IF($D11="","",VLOOKUP($D11,'HK1'!$D$4:$AH$259,18,0)) -> 0 | V11: =IF($D11="","",VLOOKUP($D11,'HK1'!$D$4:$AH$259,19,0)) -> 0 | W11: =IF($D11="","",VLOOKUP($D11,'HK1'!$D$4:$AH$259,20,0)) -> 0 | X11: =IF($D11="","",VLOOKUP($D11,'HK1'!$D$4:$AH$259,21,0)) -> 0 | Y11: =IF($D11="","",VLOOKUP($D11,'HK1'!$D$4:$AH$259,22,0)) -> 0 | Z11: =IF($D11="","",VLOOKUP($D11,'HK1'!$D$4:$AH$259,23,0)) -> 0 | AA11: =IF($D11="","",VLOOKUP($D11,'HK1'!$D$4:$AH$259,24,0)) -> 0 | AB11: =IF($D11="","",VLOOKUP($D11,'HK1'!$D$4:$AH$259,25,0)) -> 0 | AC11: =IF($D11="","",VLOOKUP($D11,'HK1'!$D$4:$AH$259,26,0)) -> 0 | AD11: =IF($D11="","",VLOOKUP($D11,'HK1'!$D$4:$AH$259,27,0)) -> 0 | AE11: =IF($D11="","",VLOOKUP($D11,'HK1'!$D$4:$AH$259,28,0)) -> 0 | AF11: =IF($D11="","",VLOOKUP($D11,'HK1'!$D$4:$AH$259,29,0)) -> 0 | AG11: =IF($D11="","",VLOOKUP($D11,'HK1'!$D$4:$AH$259,30,0)) -> 0 | AH11: =IF(D11="","",ROUND(I11+N11+R11+V11+Y11+AB11+AE11+SUM(AF11:AG11),1)) -> 0 | AI11: =IF(AH11="","",ROUND(AH11*10/3,1)) -> 0
A12: =IF(D12="","",SUBTOTAL(3,$D$4:$D12)) -> 9 | B12: 01010049 | C12: Khoa Khoa học cơ bản | D12: Đoàn Thị Điểm | E12: =IF($D12="","",VLOOKUP($D12,'HK1'!$D$4:$AH$259,2,0)) -> 0 | F12: =IF($D12="","",VLOOKUP($D12,'HK1'!$D$4:$AH$259,3,0)) -> 0 | G12: =IF($D12="","",VLOOKUP($D12,'HK1'!$D$4:$AH$259,4,0)) -> 0 | H12: =IF($D12="","",VLOOKUP($D12,'HK1'!$D$4:$AH$259,5,0)) -> 0 | I12: =IF($D12="","",VLOOKUP($D12,'HK1'!$D$4:$AH$259,6,0)) -> 0 | J12: =IF($D12="","",VLOOKUP($D12,'HK1'!$D$4:$AH$259,7,0)) -> 0 | K12: =IF($D12="","",VLOOKUP($D12,'HK1'!$D$4:$AH$259,8,0)) -> 0 | L12: =IF($D12="","",VLOOKUP($D12,'HK1'!$D$4:$AH$259,9,0)) -> 0 | M12: =IF($D12="","",VLOOKUP($D12,'HK1'!$D$4:$AH$259,10,0)) -> 0 | N12: =IF($D12="","",VLOOKUP($D12,'HK1'!$D$4:$AH$259,11,0)) -> 0 | O12: =IF($D12="","",VLOOKUP($D12,'HK1'!$D$4:$AH$259,12,0)) -> 221 | P12: =IF($D12="","",VLOOKUP($D12,'HK1'!$D$4:$AH$259,13,0)) -> 245 | Q12: =IF($D12="","",VLOOKUP($D12,'HK1'!$D$4:$AH$259,14,0)) -> 204 | R12: =IF($D12="","",VLOOKUP($D12,'HK1'!$D$4:$AH$259,15,0)) -> 13.1 | S12: =IF($D12="","",VLOOKUP($D12,'HK1'!$D$4:$AH$259,16,0)) -> 0 | T12: =IF($D12="","",VLOOKUP($D12,'HK1'!$D$4:$AH$259,17,0)) -> 0 | U12: =IF($D12="","",VLOOKUP($D12,'HK1'!$D$4:$AH$259,18,0)) -> 0 | V12: =IF($D12="","",VLOOKUP($D12,'HK1'!$D$4:$AH$259,19,0)) -> 0 | W12: =IF($D12="","",VLOOKUP($D12,'HK1'!$D$4:$AH$259,20,0)) -> 0 | X12: =IF($D12="","",VLOOKUP($D12,'HK1'!$D$4:$AH$259,21,0)) -> 0 | Y12: =IF($D12="","",VLOOKUP($D12,'HK1'!$D$4:$AH$259,22,0)) -> 0 | Z12: =IF($D12="","",VLOOKUP($D12,'HK1'!$D$4:$AH$259,23,0)) -> 0 | AA12: =IF($D12="","",VLOOKUP($D12,'HK1'!$D$4:$AH$259,24,0)) -> 0 | AB12: =IF($D12="","",VLOOKUP($D12,'HK1'!$D$4:$AH$259,25,0)) -> 0 | AC12: =IF($D12="","",VLOOKUP($D12,'HK1'!$D$4:$AH$259,26,0)) -> 0 | AD12: =IF($D12="","",VLOOKUP($D12,'HK1'!$D$4:$AH$259,27,0)) -> 0 | AE12: =IF($D12="","",VLOOKUP($D12,'HK1'!$D$4:$AH$259,28,0)) -> 0 | AF12: =IF($D12="","",VLOOKUP($D12,'HK1'!$D$4:$AH$259,29,0)) -> 0 | AG12: =IF($D12="","",VLOOKUP($D12,'HK1'!$D$4:$AH$259,30,0)) -> 0 | AH12: =IF(D12="","",ROUND(I12+N12+R12+V12+Y12+AB12+AE12+SUM(AF12:AG12),1)) -> 13.1 | AI12: =IF(AH12="","",ROUND(AH12*10/3,1)) -> 43.7
A13: =IF(D13="","",SUBTOTAL(3,$D$4:$D13)) -> 10 | B13: 01010037 | C13: Khoa Khoa học cơ bản | D13: Dương Đức Kiên | E13: =IF($D13="","",VLOOKUP($D13,'HK1'!$D$4:$AH$259,2,0)) -> 2 | F13: =IF($D13="","",VLOOKUP($D13,'HK1'!$D$4:$AH$259,3,0)) -> 0 | G13: =IF($D13="","",VLOOKUP($D13,'HK1'!$D$4:$AH$259,4,0)) -> 0 | H13: =IF($D13="","",VLOOKUP($D13,'HK1'!$D$4:$AH$259,5,0)) -> 0 | I13: =IF($D13="","",VLOOKUP($D13,'HK1'!$D$4:$AH$259,6,0)) -> 2 | J13: =IF($D13="","",VLOOKUP($D13,'HK1'!$D$4:$AH$259,7,0)) -> 12 | K13: =IF($D13="","",VLOOKUP($D13,'HK1'!$D$4:$AH$259,8,0)) -> 6.8 | L13: =IF($D13="","",VLOOKUP($D13,'HK1'!$D$4:$AH$259,9,0)) -> 0 | M13: =IF($D13="","",VLOOKUP($D13,'HK1'!$D$4:$AH$259,10,0)) -> 0 | N13: =IF($D13="","",VLOOKUP($D13,'HK1'!$D$4:$AH$259,11,0)) -> 18.8 | O13: =IF($D13="","",VLOOKUP($D13,'HK1'!$D$4:$AH$259,12,0)) -> 314 | P13: =IF($D13="","",VLOOKUP($D13,'HK1'!$D$4:$AH$259,13,0)) -> 397 | Q13: =IF($D13="","",VLOOKUP($D13,'HK1'!$D$4:$AH$259,14,0)) -> 282 | R13: =IF($D13="","",VLOOKUP($D13,'HK1'!$D$4:$AH$259,15,0)) -> 21.45 | S13: =IF($D13="","",VLOOKUP($D13,'HK1'!$D$4:$AH$259,16,0)) -> 0 | T13: =IF($D13="","",VLOOKUP($D13,'HK1'!$D$4:$AH$259,17,0)) -> 0 | U13: =IF($D13="","",VLOOKUP($D13,'HK1'!$D$4:$AH$259,18,0)) -> 0 | V13: =IF($D13="","",VLOOKUP($D13,'HK1'!$D$4:$AH$259,19,0)) -> 0 | W13: =IF($D13="","",VLOOKUP($D13,'HK1'!$D$4:$AH$259,20,0)) -> 0 | X13: =IF($D13="","",VLOOKUP($D13,'HK1'!$D$4:$AH$259,21,0)) -> 0 | Y13: =IF($D13="","",VLOOKUP($D13,'HK1'!$D$4:$AH$259,22,0)) -> 0 | Z13: =IF($D13="","",VLOOKUP($D13,'HK1'!$D$4:$AH$259,23,0)) -> 0 | AA13: =IF($D13="","",VLOOKUP($D13,'HK1'!$D$4:$AH$259,24,0)) -> 0 | AB13: =IF($D13="","",VLOOKUP($D13,'HK1'!$D$4:$AH$259,25,0)) -> 0 | AC13: =IF($D13="","",VLOOKUP($D13,'HK1'!$D$4:$AH$259,26,0)) -> 0 | AD13: =IF($D13="","",VLOOKUP($D13,'HK1'!$D$4:$AH$259,27,0)) -> 0 | AE13: =IF($D13="","",VLOOKUP($D13,'HK1'!$D$4:$AH$259,28,0)) -> 0 | AF13: =IF($D13="","",VLOOKUP($D13,'HK1'!$D$4:$AH$259,29,0)) -> 1.2 | AG13: =IF($D13="","",VLOOKUP($D13,'HK1'!$D$4:$AH$259,30,0)) -> 0 | AH13: =IF(D13="","",ROUND(I13+N13+R13+V13+Y13+AB13+AE13+SUM(AF13:AG13),1)) -> 43.5 | AI13: =IF(AH13="","",ROUND(AH13*10/3,1)) -> 145
A14: =IF(D14="","",SUBTOTAL(3,$D$4:$D14)) -> 11 | B14: 01010030 | C14: Khoa Khoa học cơ bản | D14: Giang Phi Hùng | E14: =IF($D14="","",VLOOKUP($D14,'HK1'!$D$4:$AH$259,2,0)) -> 0 | F14: =IF($D14="","",VLOOKUP($D14,'HK1'!$D$4:$AH$259,3,0)) -> 0 | G14: =IF($D14="","",VLOOKUP($D14,'HK1'!$D$4:$AH$259,4,0)) -> 0 | H14: =IF($D14="","",VLOOKUP($D14,'HK1'!$D$4:$AH$259,5,0)) -> 0 | I14: =IF($D14="","",VLOOKUP($D14,'HK1'!$D$4:$AH$259,6,0)) -> 0 | J14: =IF($D14="","",VLOOKUP($D14,'HK1'!$D$4:$AH$259,7,0)) -> 0 | K14: =IF($D14="","",VLOOKUP($D14,'HK1'!$D$4:$AH$259,8,0)) -> 0 | L14: =IF($D14="","",VLOOKUP($D14,'HK1'!$D$4:$AH$259,9,0)) -> 0 | M14: =IF($D14="","",VLOOKUP($D14,'HK1'!$D$4:$AH$259,10,0)) -> 0 | N14: =IF($D14="","",VLOOKUP($D14,'HK1'!$D$4:$AH$259,11,0)) -> 0 | O14: =IF($D14="","",VLOOKUP($D14,'HK1'!$D$4:$AH$259,12,0)) -> 0 | P14: =IF($D14="","",VLOOKUP($D14,'HK1'!$D$4:$AH$259,13,0)) -> 0 | Q14: =IF($D14="","",VLOOKUP($D14,'HK1'!$D$4:$AH$259,14,0)) -> 0 | R14: =IF($D14="","",VLOOKUP($D14,'HK1'!$D$4:$AH$259,15,0)) -> 0 | S14: =IF($D14="","",VLOOKUP($D14,'HK1'!$D$4:$AH$259,16,0)) -> 0 | T14: =IF($D14="","",VLOOKUP($D14,'HK1'!$D$4:$AH$259,17,0)) -> 0 | U14: =IF($D14="","",VLOOKUP($D14,'HK1'!$D$4:$AH$259,18,0)) -> 0 | V14: =IF($D14="","",VLOOKUP($D14,'HK1'!$D$4:$AH$259,19,0)) -> 0 | W14: =IF($D14="","",VLOOKUP($D14,'HK1'!$D$4:$AH$259,20,0)) -> 0 | X14: =IF($D14="","",VLOOKUP($D14,'HK1'!$D$4:$AH$259,21,0)) -> 0 | Y14: =IF($D14="","",VLOOKUP($D14,'HK1'!$D$4:$AH$259,22,0)) -> 0 | Z14: =IF($D14="","",VLOOKUP($D14,'HK1'!$D$4:$AH$259,23,0)) -> 0 | AA14: =IF($D14="","",VLOOKUP($D14,'HK1'!$D$4:$AH$259,24,0)) -> 0 | AB14: =IF($D14="","",VLOOKUP($D14,'HK1'!$D$4:$AH$259,25,0)) -> 0 | AC14: =IF($D14="","",VLOOKUP($D14,'HK1'!$D$4:$AH$259,26,0)) -> 0 | AD14: =IF($D14="","",VLOOKUP($D14,'HK1'!$D$4:$AH$259,27,0)) -> 0 | AE14: =IF($D14="","",VLOOKUP($D14,'HK1'!$D$4:$AH$259,28,0)) -> 0 | AF14: =IF($D14="","",VLOOKUP($D14,'HK1'!$D$4:$AH$259,29,0)) -> 0 | AG14: =IF($D14="","",VLOOKUP($D14,'HK1'!$D$4:$AH$259,30,0)) -> 0 | AH14: =IF(D14="","",ROUND(I14+N14+R14+V14+Y14+AB14+AE14+SUM(AF14:AG14),1)) -> 0 | AI14: =IF(AH14="","",ROUND(AH14*10/3,1)) -> 0
A15: =IF(D15="","",SUBTOTAL(3,$D$4:$D15)) -> 12 | B15: 01010031 | C15: Khoa Khoa học cơ bản | D15: Hà Như Mai | E15: =IF($D15="","",VLOOKUP($D15,'HK1'!$D$4:$AH$259,2,0)) -> 2 | F15: =IF($D15="","",VLOOKUP($D15,'HK1'!$D$4:$AH$259,3,0)) -> 0 | G15: =IF($D15="","",VLOOKUP($D15,'HK1'!$D$4:$AH$259,4,0)) -> 0 | H15: =IF($D15="","",VLOOKUP($D15,'HK1'!$D$4:$AH$259,5,0)) -> 0 | I15: =IF($D15="","",VLOOKUP($D15,'HK1'!$D$4:$AH$259,6,0)) -> 2 | J15: =IF($D15="","",VLOOKUP($D15,'HK1'!$D$4:$AH$259,7,0)) -> 8.8 | K15: =IF($D15="","",VLOOKUP($D15,'HK1'!$D$4:$AH$259,8,0)) -> 0 | L15: =IF($D15="","",VLOOKUP($D15,'HK1'!$D$4:$AH$259,9,0)) -> 0 | M15: =IF($D15="","",VLOOKUP($D15,'HK1'!$D$4:$AH$259,10,0)) -> 0 | N15: =IF($D15="","",VLOOKUP($D15,'HK1'!$D$4:$AH$259,11,0)) -> 8.8 | O15: =IF($D15="","",VLOOKUP($D15,'HK1'!$D$4:$AH$259,12,0)) -> 238 | P15: =IF($D15="","",VLOOKUP($D15,'HK1'!$D$4:$AH$259,13,0)) -> 240 | Q15: =IF($D15="","",VLOOKUP($D15,'HK1'!$D$4:$AH$259,14,0)) -> 132 | R15: =IF($D15="","",VLOOKUP($D15,'HK1'!$D$4:$AH$259,15,0)) -> 17.3 | S15: =IF($D15="","",VLOOKUP($D15,'HK1'!$D$4:$AH$259,16,0)) -> 0 | T15: =IF($D15="","",VLOOKUP($D15,'HK1'!$D$4:$AH$259,17,0)) -> 0 | U15: =IF($D15="","",VLOOKUP($D15,'HK1'!$D$4:$AH$259,18,0)) -> 0 | V15: =IF($D15="","",VLOOKUP($D15,'HK1'!$D$4:$AH$259,19,0)) -> 0 | W15: =IF($D15="","",VLOOKUP($D15,'HK1'!$D$4:$AH$259,20,0)) -> 0 | X15: =IF($D15="","",VLOOKUP($D15,'HK1'!$D$4:$AH$259,21,0)) -> 0 | Y15: =IF($D15="","",VLOOKUP($D15,'HK1'!$D$4:$AH$259,22,0)) -> 0 | Z15: =IF($D15="","",VLOOKUP($D15,'HK1'!$D$4:$AH$259,23,0)) -> 0 | AA15: =IF($D15="","",VLOOKUP($D15,'HK1'!$D$4:$AH$259,24,0)) -> 0 | AB15: =IF($D15="","",VLOOKUP($D15,'HK1'!$D$4:$AH$259,25,0)) -> 0 | AC15: =IF($D15="","",VLOOKUP($D15,'HK1'!$D$4:$AH$259,26,0)) -> 0 | AD15: =IF($D15="","",VLOOKUP($D15,'HK1'!$D$4:$AH$259,27,0)) -> 0 | AE15: =IF($D15="","",VLOOKUP($D15,'HK1'!$D$4:$AH$259,28,0)) -> 0 | AF15: =IF($D15="","",VLOOKUP($D15,'HK1'!$D$4:$AH$259,29,0)) -> 1.2 | AG15: =IF($D15="","",VLOOKUP($D15,'HK1'!$D$4:$AH$259,30,0)) -> 0 | AH15: =IF(D15="","",ROUND(I15+N15+R15+V15+Y15+AB15+AE15+SUM(AF15:AG15),1)) -> 29.3 | AI15: =IF(AH15="","",ROUND(AH15*10/3,1)) -> 97.7
... A64: =IF(D64="","",SUBTOTAL(3,$D$4:$D64)) -> 61 | B64: 01005007 | C64: Phòng TC-HC-TH | D64: Nguyễn Thành Nam | E64: =IF($D64="","",VLOOKUP($D64,'HK1'!$D$4:$AH$259,2,0)) -> 0 | F64: =IF($D64="","",VLOOKUP($D64,'HK1'!$D$4:$AH$259,3,0)) -> 0 | G64: =IF($D64="","",VLOOKUP($D64,'HK1'!$D$4:$AH$259,4,0)) -> 0 | H64: =IF($D64="","",VLOOKUP($D64,'HK1'!$D$4:$AH$259,5,0)) -> 0 | I64: =IF($D64="","",VLOOKUP($D64,'HK1'!$D$4:$AH$259,6,0)) -> 0 | J64: =IF($D64="","",VLOOKUP($D64,'HK1'!$D$4:$AH$259,7,0)) -> 0 | K64: =IF($D64="","",VLOOKUP($D64,'HK1'!$D$4:$AH$259,8,0)) -> 0 | L64: =IF($D64="","",VLOOKUP($D64,'HK1'!$D$4:$AH$259,9,0)) -> 0 | M64: =IF($D64="","",VLOOKUP($D64,'HK1'!$D$4:$AH$259,10,0)) -> 0 | N64: =IF($D64="","",VLOOKUP($D64,'HK1'!$D$4:$AH$259,11,0)) -> 0 | O64: =IF($D64="","",VLOOKUP($D64,'HK1'!$D$4:$AH$259,12,0)) -> 0 | P64: =IF($D64="","",VLOOKUP($D64,'HK1'!$D$4:$AH$259,13,0)) -> 0 | Q64: =IF($D64="","",VLOOKUP($D64,'HK1'!$D$4:$AH$259,14,0)) -> 0 | R64: =IF($D64="","",VLOOKUP($D64,'HK1'!$D$4:$AH$259,15,0)) -> 0 | S64: =IF($D64="","",VLOOKUP($D64,'HK1'!$D$4:$AH$259,16,0)) -> 0 | T64: =IF($D64="","",VLOOKUP($D64,'HK1'!$D$4:$AH$259,17,0)) -> 0 | U64: =IF($D64="","",VLOOKUP($D64,'HK1'!$D$4:$AH$259,18,0)) -> 0 | V64: =IF($D64="","",VLOOKUP($D64,'HK1'!$D$4:$AH$259,19,0)) -> 0 | W64: =IF($D64="","",VLOOKUP($D64,'HK1'!$D$4:$AH$259,20,0)) -> 0 | X64: =IF($D64="","",VLOOKUP($D64,'HK1'!$D$4:$AH$259,21,0)) -> 0 | Y64: =IF($D64="","",VLOOKUP($D64,'HK1'!$D$4:$AH$259,22,0)) -> 0 | Z64: =IF($D64="","",VLOOKUP($D64,'HK1'!$D$4:$AH$259,23,0)) -> 0 | AA64: =IF($D64="","",VLOOKUP($D64,'HK1'!$D$4:$AH$259,24,0)) -> 0 | AB64: =IF($D64="","",VLOOKUP($D64,'HK1'!$D$4:$AH$259,25,0)) -> 0 | AC64: =IF($D64="","",VLOOKUP($D64,'HK1'!$D$4:$AH$259,26,0)) -> 0 | AD64: =IF($D64="","",VLOOKUP($D64,'HK1'!$D$4:$AH$259,27,0)) -> 0 | AE64: =IF($D64="","",VLOOKUP($D64,'HK1'!$D$4:$AH$259,28,0)) -> 0 | AF64: =IF($D64="","",VLOOKUP($D64,'HK1'!$D$4:$AH$259,29,0)) -> 0 | AG64: =IF($D64="","",VLOOKUP($D64,'HK1'!$D$4:$AH$259,30,0)) -> 0 | AH64: =IF(D64="","",ROUND(I64+N64+R64+V64+Y64+AB64+AE64+SUM(AF64:AG64),1)) -> 0 | AI64: =IF(AH64="","",ROUND(AH64*10/3,1)) -> 0
A65: =IF(D65="","",SUBTOTAL(3,$D$4:$D65)) | E65: =IF($D65="","",VLOOKUP($D65,'HK1'!$D$4:$AH$259,2,0)) | F65: =IF($D65="","",VLOOKUP($D65,'HK1'!$D$4:$AH$259,3,0)) | G65: =IF($D65="","",VLOOKUP($D65,'HK1'!$D$4:$AH$259,4,0)) | H65: =IF($D65="","",VLOOKUP($D65,'HK1'!$D$4:$AH$259,5,0)) | I65: =IF($D65="","",VLOOKUP($D65,'HK1'!$D$4:$AH$259,6,0)) | J65: =IF($D65="","",VLOOKUP($D65,'HK1'!$D$4:$AH$259,7,0)) | K65: =IF($D65="","",VLOOKUP($D65,'HK1'!$D$4:$AH$259,8,0)) | L65: =IF($D65="","",VLOOKUP($D65,'HK1'!$D$4:$AH$259,9,0)) | M65: =IF($D65="","",VLOOKUP($D65,'HK1'!$D$4:$AH$259,10,0)) | N65: =IF($D65="","",VLOOKUP($D65,'HK1'!$D$4:$AH$259,11,0)) | O65: =IF($D65="","",VLOOKUP($D65,'HK1'!$D$4:$AH$259,12,0)) | P65: =IF($D65="","",VLOOKUP($D65,'HK1'!$D$4:$AH$259,13,0)) | Q65: =IF($D65="","",VLOOKUP($D65,'HK1'!$D$4:$AH$259,14,0)) | R65: =IF($D65="","",VLOOKUP($D65,'HK1'!$D$4:$AH$259,15,0)) | S65: =IF($D65="","",VLOOKUP($D65,'HK1'!$D$4:$AH$259,16,0)) | T65: =IF($D65="","",VLOOKUP($D65,'HK1'!$D$4:$AH$259,17,0)) | U65: =IF($D65="","",VLOOKUP($D65,'HK1'!$D$4:$AH$259,18,0)) | V65: =IF($D65="","",VLOOKUP($D65,'HK1'!$D$4:$AH$259,19,0)) | W65: =IF($D65="","",VLOOKUP($D65,'HK1'!$D$4:$AH$259,20,0)) | X65: =IF($D65="","",VLOOKUP($D65,'HK1'!$D$4:$AH$259,21,0)) | Y65: =IF($D65="","",VLOOKUP($D65,'HK1'!$D$4:$AH$259,22,0)) | Z65: =IF($D65="","",VLOOKUP($D65,'HK1'!$D$4:$AH$259,23,0)) | AA65: =IF($D65="","",VLOOKUP($D65,'HK1'!$D$4:$AH$259,24,0)) | AB65: =IF($D65="","",VLOOKUP($D65,'HK1'!$D$4:$AH$259,25,0)) | AC65: =IF($D65="","",VLOOKUP($D65,'HK1'!$D$4:$AH$259,26,0)) | AD65: =IF($D65="","",VLOOKUP($D65,'HK1'!$D$4:$AH$259,27,0)) | AE65: =IF($D65="","",VLOOKUP($D65,'HK1'!$D$4:$AH$259,28,0)) | AF65: =IF($D65="","",VLOOKUP($D65,'HK1'!$D$4:$AH$259,29,0)) | AG65: =IF($D65="","",VLOOKUP($D65,'HK1'!$D$4:$AH$259,30,0)) | AH65: =IF(D65="","",ROUND(I65+N65+R65+V65+Y65+AB65+AE65+SUM(AF65:AG65),1)) | AI65: =IF(AH65="","",ROUND(AH65*10/3,1))
E66: =SUBTOTAL(9,E2:E65) -> 28 | F66: =SUBTOTAL(9,F2:F65) -> 31 | G66: =SUBTOTAL(9,G2:G65) -> 0 | H66: =SUBTOTAL(9,H2:H65) -> 0 | I66: =SUBTOTAL(9,I2:I65) -> 90 | J66: =SUBTOTAL(9,J2:J65) -> 192.8 | K66: =SUBTOTAL(9,K2:K65) -> 175.6 | L66: =SUBTOTAL(9,L2:L65) -> 0 | ... AH66: =SUBTOTAL(9,AH2:AH65) -> 746.4

Sheet KHCB HK2
A1: STT | B1: Mã nhân sự | C1: Đơn vị | D1: HỌ VÀ TÊN GIẢNG VIÊN | E1: ĐỀ THI | J1: COI THI | O1: CHẤM THI KTHP | W1: CHẤM THI TỐT NGHIỆP | AF1: DỰ PHÒNG KỲ THI | AG1: GIÁM SÁT | AH1: TỔNG KHỐI LƯỢNG | AI1: =SUBTOTAL(9,AH:AH) -> 1001.1
O2: LÝ THUYẾT | S2: TIỂU LUẬN | W2: LÝ THUYẾT | Z2: T.HÀNH CHUNG | AC2: T.HÀNH RIÊNG
E3: SL ĐỀ LT KTHP | F3: SL ĐỀ TN KTHP | G3: SL ĐỀ LT TN | H3: SL ĐỀ TH TN | I3: KL SOẠN ĐỀ (tiết) | J3: KTHPLT COITHI 1 | K3: KTHPLT COITHI 2 | L3: ThiTN COITHI 1 | M3: ThiTN COITHI 2 | N3: KL COITHI (tiết) | O3: SL BÀI LT CHẤM 1 | P3: SL BÀI LT CHẤM 2 | Q3: SL CHẤM LT NGHĨA VỤ | R3: KL CHẤM LT (tiết) | S3: SL BÀI TL CHẤM 1 | T3: SL BÀI TL CHẤM 2 | U3: SL CHẤM TL NGHĨA VỤ | V3: KL CHẤM TL (tiết) | W3: SL BÀI LT CHẤM 1 | X3: SL BÀI LT CHẤM 2 | Y3: KL CHẤM LT (tiết) | Z3: SL BÀI TL CHẤM 1 | AA3: SL BÀI TL CHẤM 2 | AB3: KL CHẤM TL (tiết) | AC3: SL BÀI TL CHẤM 1 | AD3: SL BÀI TL CHẤM 2 | AE3: KL CHẤM TL (tiết)
A4: =IF(D4="","",SUBTOTAL(3,$D$4:$D4)) -> 1 | B4: 01010046 | C4: Khoa Khoa học cơ bản | D4: Bùi Thị Liễu Trang | E4: =IF($D4="","",VLOOKUP($D4,'HK2'!$D$4:$AH$258,2,0)) -> 0 | F4: =IF($D4="","",VLOOKUP($D4,'HK2'!$D$4:$AH$258,3,0)) -> 0 | G4: =IF($D4="","",VLOOKUP($D4,'HK2'!$D$4:$AH$258,4,0)) -> 0 | H4: =IF($D4="","",VLOOKUP($D4,'HK2'!$D$4:$AH$258,5,0)) -> 0 | I4: =IF($D4="","",VLOOKUP($D4,'HK2'!$D$4:$AH$258,6,0)) -> 0 | J4: =IF($D4="","",VLOOKUP($D4,'HK2'!$D$4:$AH$258,7,0)) -> 0 | K4: =IF($D4="","",VLOOKUP($D4,'HK2'!$D$4:$AH$258,8,0)) -> 0 | L4: =IF($D4="","",VLOOKUP($D4,'HK2'!$D$4:$AH$258,9,0)) -> 0 | M4: =IF($D4="","",VLOOKUP($D4,'HK2'!$D$4:$AH$258,10,0)) -> 0 | N4: =IF($D4="","",VLOOKUP($D4,'HK2'!$D$4:$AH$258,11,0)) -> 0 | O4: =IF($D4="","",VLOOKUP($D4,'HK2'!$D$4:$AH$258,12,0)) -> 34 | P4: =IF($D4="","",VLOOKUP($D4,'HK2'!$D$4:$AH$258,13,0)) -> 0 | Q4: =IF($D4="","",VLOOKUP($D4,'HK2'!$D$4:$AH$258,14,0)) -> 95 | R4: =IF($D4="","",VLOOKUP($D4,'HK2'!$D$4:$AH$258,15,0)) -> -3.05 | S4: =IF($D4="","",VLOOKUP($D4,'HK2'!$D$4:$AH$258,16,0)) -> 0 | T4: =IF($D4="","",VLOOKUP($D4,'HK2'!$D$4:$AH$258,17,0)) -> 0 | U4: =IF($D4="","",VLOOKUP($D4,'HK2'!$D$4:$AH$258,18,0)) -> 0 | V4: =IF($D4="","",VLOOKUP($D4,'HK2'!$D$4:$AH$258,19,0)) -> 0 | W4: =IF($D4="","",VLOOKUP($D4,'HK2'!$D$4:$AH$258,20,0)) -> 0 | X4: =IF($D4="","",VLOOKUP($D4,'HK2'!$D$4:$AH$258,21,0)) -> 0 | Y4: =IF($D4="","",VLOOKUP($D4,'HK2'!$D$4:$AH$258,22,0)) -> 0 | Z4: =IF($D4="","",VLOOKUP($D4,'HK2'!$D$4:$AH$258,23,0)) -> 0 | AA4: =IF($D4="","",VLOOKUP($D4,'HK2'!$D$4:$AH$258,24,0)) -> 0 | AB4: =IF($D4="","",VLOOKUP($D4,'HK2'!$D$4:$AH$258,25,0)) -> 0 | AC4: =IF($D4="","",VLOOKUP($D4,'HK2'!$D$4:$AH$258,26,0)) -> 0 | AD4: =IF($D4="","",VLOOKUP($D4,'HK2'!$D$4:$AH$258,27,0)) -> 0 | AE4: =IF($D4="","",VLOOKUP($D4,'HK2'!$D$4:$AH$258,28,0)) -> 0 | AF4: =IF($D4="","",VLOOKUP($D4,'HK2'!$D$4:$AH$258,29,0)) -> 0 | AG4: =IF($D4="","",VLOOKUP($D4,'HK2'!$D$4:$AH$258,30,0)) -> 0 | AH4: =IF(D4="","",ROUND(I4+N4+R4+V4+Y4+AB4+AE4+SUM(AF4:AG4),1)) -> -3.1 | AI4: =IF(AH4="","",ROUND(AH4*10/3,1)) -> -10.3
A5: =IF(D5="","",SUBTOTAL(3,$D$4:$D5)) -> 2 | B5: 01010050 | C5: Khoa Khoa học cơ bản | D5: Bùi Thị Tú Uyên | E5: =IF($D5="","",VLOOKUP($D5,'HK2'!$D$4:$AH$258,2,0)) -> 0 | F5: =IF($D5="","",VLOOKUP($D5,'HK2'!$D$4:$AH$258,3,0)) -> 0 | G5: =IF($D5="","",VLOOKUP($D5,'HK2'!$D$4:$AH$258,4,0)) -> 0 | H5: =IF($D5="","",VLOOKUP($D5,'HK2'!$D$4:$AH$258,5,0)) -> 0 | I5: =IF($D5="","",VLOOKUP($D5,'HK2'!$D$4:$AH$258,6,0)) -> 0 | J5: =IF($D5="","",VLOOKUP($D5,'HK2'!$D$4:$AH$258,7,0)) -> 0 | K5: =IF($D5="","",VLOOKUP($D5,'HK2'!$D$4:$AH$258,8,0)) -> 0 | L5: =IF($D5="","",VLOOKUP($D5,'HK2'!$D$4:$AH$258,9,0)) -> 0 | M5: =IF($D5="","",VLOOKUP($D5,'HK2'!$D$4:$AH$258,10,0)) -> 0 | N5: =IF($D5="","",VLOOKUP($D5,'HK2'!$D$4:$AH$258,11,0)) -> 0 | O5: =IF($D5="","",VLOOKUP($D5,'HK2'!$D$4:$AH$258,12,0)) -> 0 | P5: =IF($D5="","",VLOOKUP($D5,'HK2'!$D$4:$AH$258,13,0)) -> 164 | Q5: =IF($D5="","",VLOOKUP($D5,'HK2'!$D$4:$AH$258,14,0)) -> 223 | R5: =IF($D5="","",VLOOKUP($D5,'HK2'!$D$4:$AH$258,15,0)) -> -2.95 | S5: =IF($D5="","",VLOOKUP($D5,'HK2'!$D$4:$AH$258,16,0)) -> 0 | T5: =IF($D5="","",VLOOKUP($D5,'HK2'!$D$4:$AH$258,17,0)) -> 0 | U5: =IF($D5="","",VLOOKUP($D5,'HK2'!$D$4:$AH$258,18,0)) -> 0 | V5: =IF($D5="","",VLOOKUP($D5,'HK2'!$D$4:$AH$258,19,0)) -> 0 | W5: =IF($D5="","",VLOOKUP($D5,'HK2'!$D$4:$AH$258,20,0)) -> 0 | X5: =IF($D5="","",VLOOKUP($D5,'HK2'!$D$4:$AH$258,21,0)) -> 0 | Y5: =IF($D5="","",VLOOKUP($D5,'HK2'!$D$4:$AH$258,22,0)) -> 0 | Z5: =IF($D5="","",VLOOKUP($D5,'HK2'!$D$4:$AH$258,23,0)) -> 0 | AA5: =IF($D5="","",VLOOKUP($D5,'HK2'!$D$4:$AH$258,24,0)) -> 0 | AB5: =IF($D5="","",VLOOKUP($D5,'HK2'!$D$4:$AH$258,25,0)) -> 0 | AC5: =IF($D5="","",VLOOKUP($D5,'HK2'!$D$4:$AH$258,26,0)) -> 0 | AD5: =IF($D5="","",VLOOKUP($D5,'HK2'!$D$4:$AH$258,27,0)) -> 0 | AE5: =IF($D5="","",VLOOKUP($D5,'HK2'!$D$4:$AH$258,28,0)) -> 0 | AF5: =IF($D5="","",VLOOKUP($D5,'HK2'!$D$4:$AH$258,29,0)) -> 0 | AG5: =IF($D5="","",VLOOKUP($D5,'HK2'!$D$4:$AH$258,30,0)) -> 0 | AH5: =IF(D5="","",ROUND(I5+N5+R5+V5+Y5+AB5+AE5+SUM(AF5:AG5),1)) -> -3 | AI5: =IF(AH5="","",ROUND(AH5*10/3,1)) -> -10
A6: =IF(D6="","",SUBTOTAL(3,$D$4:$D6)) -> 3 | B6: 01010036 | C6: Khoa Khoa học cơ bản | D6: Cao Đình Trung Hậu | E6: =IF($D6="","",VLOOKUP($D6,'HK2'!$D$4:$AH$258,2,0)) -> 0 | F6: =IF($D6="","",VLOOKUP($D6,'HK2'!$D$4:$AH$258,3,0)) -> 0 | G6: =IF($D6="","",VLOOKUP($D6,'HK2'!$D$4:$AH$258,4,0)) -> 0 | H6: =IF($D6="","",VLOOKUP($D6,'HK2'!$D$4:$AH$258,5,0)) -> 0 | I6: =IF($D6="","",VLOOKUP($D6,'HK2'!$D$4:$AH$258,6,0)) -> 0 | J6: =IF($D6="","",VLOOKUP($D6,'HK2'!$D$4:$AH$258,7,0)) -> 0 | K6: =IF($D6="","",VLOOKUP($D6,'HK2'!$D$4:$AH$258,8,0)) -> 0 | L6: =IF($D6="","",VLOOKUP($D6,'HK2'!$D$4:$AH$258,9,0)) -> 0 | M6: =IF($D6="","",VLOOKUP($D6,'HK2'!$D$4:$AH$258,10,0)) -> 0 | N6: =IF($D6="","",VLOOKUP($D6,'HK2'!$D$4:$AH$258,11,0)) -> 0 | O6: =IF($D6="","",VLOOKUP($D6,'HK2'!$D$4:$AH$258,12,0)) -> 0 | P6: =IF($D6="","",VLOOKUP($D6,'HK2'!$D$4:$AH$258,13,0)) -> 0 | Q6: =IF($D6="","",VLOOKUP($D6,'HK2'!$D$4:$AH$258,14,0)) -> 222 | R6: =IF($D6="","",VLOOKUP($D6,'HK2'!$D$4:$AH$258,15,0)) -> -11.1 | S6: =IF($D6="","",VLOOKUP($D6,'HK2'!$D$4:$AH$258,16,0)) -> 0 | T6: =IF($D6="","",VLOOKUP($D6,'HK2'!$D$4:$AH$258,17,0)) -> 0 | U6: =IF($D6="","",VLOOKUP($D6,'HK2'!$D$4:$AH$258,18,0)) -> 0 | V6: =IF($D6="","",VLOOKUP($D6,'HK2'!$D$4:$AH$258,19,0)) -> 0 | W6: =IF($D6="","",VLOOKUP($D6,'HK2'!$D$4:$AH$258,20,0)) -> 0 | X6: =IF($D6="","",VLOOKUP($D6,'HK2'!$D$4:$AH$258,21,0)) -> 0 | Y6: =IF($D6="","",VLOOKUP($D6,'HK2'!$D$4:$AH$258,22,0)) -> 0 | Z6: =IF($D6="","",VLOOKUP($D6,'HK2'!$D$4:$AH$258,23,0)) -> 0 | AA6: =IF($D6="","",VLOOKUP($D6,'HK2'!$D$4:$AH$258,24,0)) -> 0 | AB6: =IF($D6="","",VLOOKUP($D6,'HK2'!$D$4:$AH$258,25,0)) -> 0 | AC6: =IF($D6="","",VLOOKUP($D6,'HK2'!$D$4:$AH$258,26,0)) -> 0 | AD6: =IF($D6="","",VLOOKUP($D6,'HK2'!$D$4:$AH$258,27,0)) -> 0 | AE6: =IF($D6="","",VLOOKUP($D6,'HK2'!$D$4:$AH$258,28,0)) -> 0 | AF6: =IF($D6="","",VLOOKUP($D6,'HK2'!$D$4:$AH$258,29,0)) -> 0 | AG6: =IF($D6="","",VLOOKUP($D6,'HK2'!$D$4:$AH$258,30,0)) -> 0 | AH6: =IF(D6="","",ROUND(I6+N6+R6+V6+Y6+AB6+AE6+SUM(AF6:AG6),1)) -> -11.1 | AI6: =IF(AH6="","",ROUND(AH6*10/3,1)) -> -37
A7: =IF(D7="","",SUBTOTAL(3,$D$4:$D7)) -> 4 | B7: 01010013 | C7: Khoa Khoa học cơ bản | D7: Cao Thị Nga | E7: =IF($D7="","",VLOOKUP($D7,'HK2'!$D$4:$AH$258,2,0)) -> 2 | F7: =IF($D7="","",VLOOKUP($D7,'HK2'!$D$4:$AH$258,3,0)) -> 0 | G7: =IF($D7="","",VLOOKUP($D7,'HK2'!$D$4:$AH$258,4,0)) -> 0 | H7: =IF($D7="","",VLOOKUP($D7,'HK2'!$D$4:$AH$258,5,0)) -> 0 | I7: =IF($D7="","",VLOOKUP($D7,'HK2'!$D$4:$AH$258,6,0)) -> 2 | J7: =IF($D7="","",VLOOKUP($D7,'HK2'!$D$4:$AH$258,7,0)) -> 19.2 | K7: =IF($D7="","",VLOOKUP($D7,'HK2'!$D$4:$AH$258,8,0)) -> 1.2 | L7: =IF($D7="","",VLOOKUP($D7,'HK2'!$D$4:$AH$258,9,0)) -> 0 | M7: =IF($D7="","",VLOOKUP($D7,'HK2'!$D$4:$AH$258,10,0)) -> 0 | N7: =IF($D7="","",VLOOKUP($D7,'HK2'!$D$4:$AH$258,11,0)) -> 20.4 | O7: =IF($D7="","",VLOOKUP($D7,'HK2'!$D$4:$AH$258,12,0)) -> 169 | P7: =IF($D7="","",VLOOKUP($D7,'HK2'!$D$4:$AH$258,13,0)) -> 194 | Q7: =IF($D7="","",VLOOKUP($D7,'HK2'!$D$4:$AH$258,14,0)) -> 92 | R7: =IF($D7="","",VLOOKUP($D7,'HK2'!$D$4:$AH$258,15,0)) -> 13.55 | S7: =IF($D7="","",VLOOKUP($D7,'HK2'!$D$4:$AH$258,16,0)) -> 0 | T7: =IF($D7="","",VLOOKUP($D7,'HK2'!$D$4:$AH$258,17,0)) -> 0 | U7: =IF($D7="","",VLOOKUP($D7,'HK2'!$D$4:$AH$258,18,0)) -> 0 | V7: =IF($D7="","",VLOOKUP($D7,'HK2'!$D$4:$AH$258,19,0)) -> 0 | W7: =IF($D7="","",VLOOKUP($D7,'HK2'!$D$4:$AH$258,20,0)) -> 0 | X7: =IF($D7="","",VLOOKUP($D7,'HK2'!$D$4:$AH$258,21,0)) -> 0 | Y7: =IF($D7="","",VLOOKUP($D7,'HK2'!$D$4:$AH$258,22,0)) -> 0 | Z7: =IF($D7="","",VLOOKUP($D7,'HK2'!$D$4:$AH$258,23,0)) -> 0 | AA7: =IF($D7="","",VLOOKUP($D7,'HK2'!$D$4:$AH$258,24,0)) -> 0 | AB7: =IF($D7="","",VLOOKUP($D7,'HK2'!$D$4:$AH$258,25,0)) -> 0 | AC7: =IF($D7="","",VLOOKUP($D7,'HK2'!$D$4:$AH$258,26,0)) -> 0 | AD7: =IF($D7="","",VLOOKUP($D7,'HK2'!$D$4:$AH$258,27,0)) -> 0 | AE7: =IF($D7="","",VLOOKUP($D7,'HK2'!$D$4:$AH$258,28,0)) -> 0 | AF7: =IF($D7="","",VLOOKUP($D7,'HK2'!$D$4:$AH$258,29,0)) -> 1.2 | AG7: =IF($D7="","",VLOOKUP($D7,'HK2'!$D$4:$AH$258,30,0)) -> 0 | AH7: =IF(D7="","",ROUND(I7+N7+R7+V7+Y7+AB7+AE7+SUM(AF7:AG7),1)) -> 37.2 | AI7: =IF(AH7="","",ROUND(AH7*10/3,1)) -> 124
A8: =IF(D8="","",SUBTOTAL(3,$D$4:$D8)) -> 5 | B8: 01010024 | C8: Khoa Khoa học cơ bản | D8: Đặng Thị Kiến Trúc | E8: =IF($D8="","",VLOOKUP($D8,'HK2'!$D$4:$AH$258,2,0)) -> 0 | F8: =IF($D8="","",VLOOKUP($D8,'HK2'!$D$4:$AH$258,3,0)) -> 0 | G8: =IF($D8="","",VLOOKUP($D8,'HK2'!$D$4:$AH$258,4,0)) -> 0 | H8: =IF($D8="","",VLOOKUP($D8,'HK2'!$D$4:$AH$258,5,0)) -> 0 | I8: =IF($D8="","",VLOOKUP($D8,'HK2'!$D$4:$AH$258,6,0)) -> 0 | J8: =IF($D8="","",VLOOKUP($D8,'HK2'!$D$4:$AH$258,7,0)) -> 16.8 | K8: =IF($D8="","",VLOOKUP($D8,'HK2'!$D$4:$AH$258,8,0)) -> 0 | L8: =IF($D8="","",VLOOKUP($D8,'HK2'!$D$4:$AH$258,9,0)) -> 0 | M8: =IF($D8="","",VLOOKUP($D8,'HK2'!$D$4:$AH$258,10,0)) -> 0 | N8: =IF($D8="","",VLOOKUP($D8,'HK2'!$D$4:$AH$258,11,0)) -> 16.8 | O8: =IF($D8="","",VLOOKUP($D8,'HK2'!$D$4:$AH$258,12,0)) -> 391 | P8: =IF($D8="","",VLOOKUP($D8,'HK2'!$D$4:$AH$258,13,0)) -> 603 | Q8: =IF($D8="","",VLOOKUP($D8,'HK2'!$D$4:$AH$258,14,0)) -> 340 | R8: =IF($D8="","",VLOOKUP($D8,'HK2'!$D$4:$AH$258,15,0)) -> 32.7 | S8: =IF($D8="","",VLOOKUP($D8,'HK2'!$D$4:$AH$258,16,0)) -> 0 | T8: =IF($D8="","",VLOOKUP($D8,'HK2'!$D$4:$AH$258,17,0)) -> 0 | U8: =IF($D8="","",VLOOKUP($D8,'HK2'!$D$4:$AH$258,18,0)) -> 0 | V8: =IF($D8="","",VLOOKUP($D8,'HK2'!$D$4:$AH$258,19,0)) -> 0 | W8: =IF($D8="","",VLOOKUP($D8,'HK2'!$D$4:$AH$258,20,0)) -> 0 | X8: =IF($D8="","",VLOOKUP($D8,'HK2'!$D$4:$AH$258,21,0)) -> 0 | Y8: =IF($D8="","",VLOOKUP($D8,'HK2'!$D$4:$AH$258,22,0)) -> 0 | Z8: =IF($D8="","",VLOOKUP($D8,'HK2'!$D$4:$AH$258,23,0)) -> 0 | AA8: =IF($D8="","",VLOOKUP($D8,'HK2'!$D$4:$AH$258,24,0)) -> 0 | AB8: =IF($D8="","",VLOOKUP($D8,'HK2'!$D$4:$AH$258,25,0)) -> 0 | AC8: =IF($D8="","",VLOOKUP($D8,'HK2'!$D$4:$AH$258,26,0)) -> 0 | AD8: =IF($D8="","",VLOOKUP($D8,'HK2'!$D$4:$AH$258,27,0)) -> 0 | AE8: =IF($D8="","",VLOOKUP($D8,'HK2'!$D$4:$AH$258,28,0)) -> 0 | AF8: =IF($D8="","",VLOOKUP($D8,'HK2'!$D$4:$AH$258,29,0)) -> 0 | AG8: =IF($D8="","",VLOOKUP($D8,'HK2'!$D$4:$AH$258,30,0)) -> 0 | AH8: =IF(D8="","",ROUND(I8+N8+R8+V8+Y8+AB8+AE8+SUM(AF8:AG8),1)) -> 49.5 | AI8: =IF(AH8="","",ROUND(AH8*10/3,1)) -> 165
A9: =IF(D9="","",SUBTOTAL(3,$D$4:$D9)) -> 6 | B9: 01010056 | C9: Khoa Khoa học cơ bản | D9: Đinh Thị Thắng | E9: =IF($D9="","",VLOOKUP($D9,'HK2'!$D$4:$AH$258,2,0)) -> 0 | F9: =IF($D9="","",VLOOKUP($D9,'HK2'!$D$4:$AH$258,3,0)) -> 0 | G9: =IF($D9="","",VLOOKUP($D9,'HK2'!$D$4:$AH$258,4,0)) -> 0 | H9: =IF($D9="","",VLOOKUP($D9,'HK2'!$D$4:$AH$258,5,0)) -> 0 | I9: =IF($D9="","",VLOOKUP($D9,'HK2'!$D$4:$AH$258,6,0)) -> 0 | J9: =IF($D9="","",VLOOKUP($D9,'HK2'!$D$4:$AH$258,7,0)) -> 0 | K9: =IF($D9="","",VLOOKUP($D9,'HK2'!$D$4:$AH$258,8,0)) -> 0 | L9: =IF($D9="","",VLOOKUP($D9,'HK2'!$D$4:$AH$258,9,0)) -> 0 | M9: =IF($D9="","",VLOOKUP($D9,'HK2'!$D$4:$AH$258,10,0)) -> 0 | N9: =IF($D9="","",VLOOKUP($D9,'HK2'!$D$4:$AH$258,11,0)) -> 0 | O9: =IF($D9="","",VLOOKUP($D9,'HK2'!$D$4:$AH$258,12,0)) -> 197 | P9: =IF($D9="","",VLOOKUP($D9,'HK2'!$D$4:$AH$258,13,0)) -> 0 | Q9: =IF($D9="","",VLOOKUP($D9,'HK2'!$D$4:$AH$258,14,0)) -> 77 | R9: =IF($D9="","",VLOOKUP($D9,'HK2'!$D$4:$AH$258,15,0)) -> 6 | S9: =IF($D9="","",VLOOKUP($D9,'HK2'!$D$4:$AH$258,16,0)) -> 0 | T9: =IF($D9="","",VLOOKUP($D9,'HK2'!$D$4:$AH$258,17,0)) -> 0 | U9: =IF($D9="","",VLOOKUP($D9,'HK2'!$D$4:$AH$258,18,0)) -> 0 | V9: =IF($D9="","",VLOOKUP($D9,'HK2'!$D$4:$AH$258,19,0)) -> 0 | W9: =IF($D9="","",VLOOKUP($D9,'HK2'!$D$4:$AH$258,20,0)) -> 0 | X9: =IF($D9="","",VLOOKUP($D9,'HK2'!$D$4:$AH$258,21,0)) -> 0 | Y9: =IF($D9="","",VLOOKUP($D9,'HK2'!$D$4:$AH$258,22,0)) -> 0 | Z9: =IF($D9="","",VLOOKUP($D9,'HK2'!$D$4:$AH$258,23,0)) -> 0 | AA9: =IF($D9="","",VLOOKUP($D9,'HK2'!$D$4:$AH$258,24,0)) -> 0 | AB9: =IF($D9="","",VLOOKUP($D9,'HK2'!$D$4:$AH$258,25,0)) -> 0 | AC9: =IF($D9="","",VLOOKUP($D9,'HK2'!$D$4:$AH$258,26,0)) -> 0 | AD9: =IF($D9="","",VLOOKUP($D9,'HK2'!$D$4:$AH$258,27,0)) -> 0 | AE9: =IF($D9="","",VLOOKUP($D9,'HK2'!$D$4:$AH$258,28,0)) -> 0 | AF9: =IF($D9="","",VLOOKUP($D9,'HK2'!$D$4:$AH$258,29,0)) -> 0 | AG9: =IF($D9="","",VLOOKUP($D9,'HK2'!$D$4:$AH$258,30,0)) -> 0 | AH9: =IF(D9="","",ROUND(I9+N9+R9+V9+Y9+AB9+AE9+SUM(AF9:AG9),1)) -> 6 | AI9: =IF(AH9="","",ROUND(AH9*10/3,1)) -> 20
A10: =IF(D10="","",SUBTOTAL(3,$D$4:$D10)) -> 7 | B10: 01010034 | C10: Khoa Khoa học cơ bản | D10: Đinh Trần Phương Thảo | E10: =IF($D10="","",VLOOKUP($D10,'HK2'!$D$4:$AH$258,2,0)) -> 0 | F10: =IF($D10="","",VLOOKUP($D10,'HK2'!$D$4:$AH$258,3,0)) -> 2 | G10: =IF($D10="","",VLOOKUP($D10,'HK2'!$D$4:$AH$258,4,0)) -> 0 | H10: =IF($D10="","",VLOOKUP($D10,'HK2'!$D$4:$AH$258,5,0)) -> 0 | I10: =IF($D10="","",VLOOKUP($D10,'HK2'!$D$4:$AH$258,6,0)) -> 4 | J10: =IF($D10="","",VLOOKUP($D10,'HK2'!$D$4:$AH$258,7,0)) -> 2.4 | K10: =IF($D10="","",VLOOKUP($D10,'HK2'!$D$4:$AH$258,8,0)) -> 30 | L10: =IF($D10="","",VLOOKUP($D10,'HK2'!$D$4:$AH$258,9,0)) -> 0 | M10: =IF($D10="","",VLOOKUP($D10,'HK2'!$D$4:$AH$258,10,0)) -> 0 | N10: =IF($D10="","",VLOOKUP($D10,'HK2'!$D$4:$AH$258,11,0)) -> 32.4 | O10: =IF($D10="","",VLOOKUP($D10,'HK2'!$D$4:$AH$258,12,0)) -> 0 | P10: =IF($D10="","",VLOOKUP($D10,'HK2'!$D$4:$AH$258,13,0)) -> 0 | Q10: =IF($D10="","",VLOOKUP($D10,'HK2'!$D$4:$AH$258,14,0)) -> 0 | R10: =IF($D10="","",VLOOKUP($D10,'HK2'!$D$4:$AH$258,15,0)) -> 0 | S10: =IF($D10="","",VLOOKUP($D10,'HK2'!$D$4:$AH$258,16,0)) -> 0 | T10: =IF($D10="","",VLOOKUP($D10,'HK2'!$D$4:$AH$258,17,0)) -> 0 | U10: =IF($D10="","",VLOOKUP($D10,'HK2'!$D$4:$AH$258,18,0)) -> 0 | V10: =IF($D10="","",VLOOKUP($D10,'HK2'!$D$4:$AH$258,19,0)) -> 0 | W10: =IF($D10="","",VLOOKUP($D10,'HK2'!$D$4:$AH$258,20,0)) -> 0 | X10: =IF($D10="","",VLOOKUP($D10,'HK2'!$D$4:$AH$258,21,0)) -> 0 | Y10: =IF($D10="","",VLOOKUP($D10,'HK2'!$D$4:$AH$258,22,0)) -> 0 | Z10: =IF($D10="","",VLOOKUP($D10,'HK2'!$D$4:$AH$258,23,0)) -> 0 | AA10: =IF($D10="","",VLOOKUP($D10,'HK2'!$D$4:$AH$258,24,0)) -> 0 | AB10: =IF($D10="","",VLOOKUP($D10,'HK2'!$D$4:$AH$258,25,0)) -> 0 | AC10: =IF($D10="","",VLOOKUP($D10,'HK2'!$D$4:$AH$258,26,0)) -> 0 | AD10: =IF($D10="","",VLOOKUP($D10,'HK2'!$D$4:$AH$258,27,0)) -> 0 | AE10: =IF($D10="","",VLOOKUP($D10,'HK2'!$D$4:$AH$258,28,0)) -> 0 | AF10: =IF($D10="","",VLOOKUP($D10,'HK2'!$D$4:$AH$258,29,0)) -> 1.2 | AG10: =IF($D10="","",VLOOKUP($D10,'HK2'!$D$4:$AH$258,30,0)) -> 0 | AH10: =IF(D10="","",ROUND(I10+N10+R10+V10+Y10+AB10+AE10+SUM(AF10:AG10),1)) -> 37.6 | AI10: =IF(AH10="","",ROUND(AH10*10/3,1)) -> 125.3
A11: =IF(D11="","",SUBTOTAL(3,$D$4:$D11)) -> 8 | B11: 01022063 | C11: Khoa Khoa học cơ bản | D11: Đinh Trần Trọng Hiếu | E11: =IF($D11="","",VLOOKUP($D11,'HK2'!$D$4:$AH$258,2,0)) -> 0 | F11: =IF($D11="","",VLOOKUP($D11,'HK2'!$D$4:$AH$258,3,0)) -> 0 | G11: =IF($D11="","",VLOOKUP($D11,'HK2'!$D$4:$AH$258,4,0)) -> 0 | H11: =IF($D11="","",VLOOKUP($D11,'HK2'!$D$4:$AH$258,5,0)) -> 0 | I11: =IF($D11="","",VLOOKUP($D11,'HK2'!$D$4:$AH$258,6,0)) -> 0 | J11: =IF($D11="","",VLOOKUP($D11,'HK2'!$D$4:$AH$258,7,0)) -> 0 | K11: =IF($D11="","",VLOOKUP($D11,'HK2'!$D$4:$AH$258,8,0)) -> 0 | L11: =IF($D11="","",VLOOKUP($D11,'HK2'!$D$4:$AH$258,9,0)) -> 0 | M11: =IF($D11="","",VLOOKUP($D11,'HK2'!$D$4:$AH$258,10,0)) -> 0 | N11: =IF($D11="","",VLOOKUP($D11,'HK2'!$D$4:$AH$258,11,0)) -> 0 | O11: =IF($D11="","",VLOOKUP($D11,'HK2'!$D$4:$AH$258,12,0)) -> 0 | P11: =IF($D11="","",VLOOKUP($D11,'HK2'!$D$4:$AH$258,13,0)) -> 0 | Q11: =IF($D11="","",VLOOKUP($D11,'HK2'!$D$4:$AH$258,14,0)) -> 0 | R11: =IF($D11="","",VLOOKUP($D11,'HK2'!$D$4:$AH$258,15,0)) -> 0 | S11: =IF($D11="","",VLOOKUP($D11,'HK2'!$D$4:$AH$258,16,0)) -> 0 | T11: =IF($D11="","",VLOOKUP($D11,'HK2'!$D$4:$AH$258,17,0)) -> 0 | U11: =IF($D11="","",VLOOKUP($D11,'HK2'!$D$4:$AH$258,18,0)) -> 0 | V11: =IF($D11="","",VLOOKUP($D11,'HK2'!$D$4:$AH$258,19,0)) -> 0 | W11: =IF($D11="","",VLOOKUP($D11,'HK2'!$D$4:$AH$258,20,0)) -> 0 | X11: =IF($D11="","",VLOOKUP($D11,'HK2'!$D$4:$AH$258,21,0)) -> 0 | Y11: =IF($D11="","",VLOOKUP($D11,'HK2'!$D$4:$AH$258,22,0)) -> 0 | Z11: =IF($D11="","",VLOOKUP($D11,'HK2'!$D$4:$AH$258,23,0)) -> 0 | AA11: =IF($D11="","",VLOOKUP($D11,'HK2'!$D$4:$AH$258,24,0)) -> 0 | AB11: =IF($D11="","",VLOOKUP($D11,'HK2'!$D$4:$AH$258,25,0)) -> 0 | AC11: =IF($D11="","",VLOOKUP($D11,'HK2'!$D$4:$AH$258,26,0)) -> 0 | AD11: =IF($D11="","",VLOOKUP($D11,'HK2'!$D$4:$AH$258,27,0)) -> 0 | AE11: =IF($D11="","",VLOOKUP($D11,'HK2'!$D$4:$AH$258,28,0)) -> 0 | AF11: =IF($D11="","",VLOOKUP($D11,'HK2'!$D$4:$AH$258,29,0)) -> 0 | AG11: =IF($D11="","",VLOOKUP($D11,'HK2'!$D$4:$AH$258,30,0)) -> 0 | AH11: =IF(D11="","",ROUND(I11+N11+R11+V11+Y11+AB11+AE11+SUM(AF11:AG11),1)) -> 0 | AI11: =IF(AH11="","",ROUND(AH11*10/3,1)) -> 0
A12: =IF(D12="","",SUBTOTAL(3,$D$4:$D12)) -> 9 | B12: 01010049 | C12: Khoa Khoa học cơ bản | D12: Đoàn Thị Điểm | E12: =IF($D12="","",VLOOKUP($D12,'HK2'!$D$4:$AH$258,2,0)) -> 0 | F12: =IF($D12="","",VLOOKUP($D12,'HK2'!$D$4:$AH$258,3,0)) -> 0 | G12: =IF($D12="","",VLOOKUP($D12,'HK2'!$D$4:$AH$258,4,0)) -> 0 | H12: =IF($D12="","",VLOOKUP($D12,'HK2'!$D$4:$AH$258,5,0)) -> 0 | I12: =IF($D12="","",VLOOKUP($D12,'HK2'!$D$4:$AH$258,6,0)) -> 0 | J12: =IF($D12="","",VLOOKUP($D12,'HK2'!$D$4:$AH$258,7,0)) -> 0 | K12: =IF($D12="","",VLOOKUP($D12,'HK2'!$D$4:$AH$258,8,0)) -> 0 | L12: =IF($D12="","",VLOOKUP($D12,'HK2'!$D$4:$AH$258,9,0)) -> 0 | M12: =IF($D12="","",VLOOKUP($D12,'HK2'!$D$4:$AH$258,10,0)) -> 0 | N12: =IF($D12="","",VLOOKUP($D12,'HK2'!$D$4:$AH$258,11,0)) -> 0 | O12: =IF($D12="","",VLOOKUP($D12,'HK2'!$D$4:$AH$258,12,0)) -> 98 | P12: =IF($D12="","",VLOOKUP($D12,'HK2'!$D$4:$AH$258,13,0)) -> 0 | Q12: =IF($D12="","",VLOOKUP($D12,'HK2'!$D$4:$AH$258,14,0)) -> 98 | R12: =IF($D12="","",VLOOKUP($D12,'HK2'!$D$4:$AH$258,15,0)) -> 0 | S12: =IF($D12="","",VLOOKUP($D12,'HK2'!$D$4:$AH$258,16,0)) -> 0 | T12: =IF($D12="","",VLOOKUP($D12,'HK2'!$D$4:$AH$258,17,0)) -> 0 | U12: =IF($D12="","",VLOOKUP($D12,'HK2'!$D$4:$AH$258,18,0)) -> 0 | V12: =IF($D12="","",VLOOKUP($D12,'HK2'!$D$4:$AH$258,19,0)) -> 0 | W12: =IF($D12="","",VLOOKUP($D12,'HK2'!$D$4:$AH$258,20,0)) -> 0 | X12: =IF($D12="","",VLOOKUP($D12,'HK2'!$D$4:$AH$258,21,0)) -> 0 | Y12: =IF($D12="","",VLOOKUP($D12,'HK2'!$D$4:$AH$258,22,0)) -> 0 | Z12: =IF($D12="","",VLOOKUP($D12,'HK2'!$D$4:$AH$258,23,0)) -> 0 | AA12: =IF($D12="","",VLOOKUP($D12,'HK2'!$D$4:$AH$258,24,0)) -> 0 | AB12: =IF($D12="","",VLOOKUP($D12,'HK2'!$D$4:$AH$258,25,0)) -> 0 | AC12: =IF($D12="","",VLOOKUP($D12,'HK2'!$D$4:$AH$258,26,0)) -> 0 | AD12: =IF($D12="","",VLOOKUP($D12,'HK2'!$D$4:$AH$258,27,0)) -> 0 | AE12: =IF($D12="","",VLOOKUP($D12,'HK2'!$D$4:$AH$258,28,0)) -> 0 | AF12: =IF($D12="","",VLOOKUP($D12,'HK2'!$D$4:$AH$258,29,0)) -> 0 | AG12: =IF($D12="","",VLOOKUP($D12,'HK2'!$D$4:$AH$258,30,0)) -> 0 | AH12: =IF(D12="","",ROUND(I12+N12+R12+V12+Y12+AB12+AE12+SUM(AF12:AG12),1)) -> 0 | AI12: =IF(AH12="","",ROUND(AH12*10/3,1)) -> 0
A13: =IF(D13="","",SUBTOTAL(3,$D$4:$D13)) -> 10 | B13: 01010037 | C13: Khoa Khoa học cơ bản | D13: Dương Đức Kiên | E13: =IF($D13="","",VLOOKUP($D13,'HK2'!$D$4:$AH$258,2,0)) -> 2 | F13: =IF($D13="","",VLOOKUP($D13,'HK2'!$D$4:$AH$258,3,0)) -> 0 | G13: =IF($D13="","",VLOOKUP($D13,'HK2'!$D$4:$AH$258,4,0)) -> 0 | H13: =IF($D13="","",VLOOKUP($D13,'HK2'!$D$4:$AH$258,5,0)) -> 0 | I13: =IF($D13="","",VLOOKUP($D13,'HK2'!$D$4:$AH$258,6,0)) -> 2 | J13: =IF($D13="","",VLOOKUP($D13,'HK2'!$D$4:$AH$258,7,0)) -> 8.4 | K13: =IF($D13="","",VLOOKUP($D13,'HK2'!$D$4:$AH$258,8,0)) -> 12 | L13: =IF($D13="","",VLOOKUP($D13,'HK2'!$D$4:$AH$258,9,0)) -> 0 | M13: =IF($D13="","",VLOOKUP($D13,'HK2'!$D$4:$AH$258,10,0)) -> 0 | N13: =IF($D13="","",VLOOKUP($D13,'HK2'!$D$4:$AH$258,11,0)) -> 20.4 | O13: =IF($D13="","",VLOOKUP($D13,'HK2'!$D$4:$AH$258,12,0)) -> 461 | P13: =IF($D13="","",VLOOKUP($D13,'HK2'!$D$4:$AH$258,13,0)) -> 350 | Q13: =IF($D13="","",VLOOKUP($D13,'HK2'!$D$4:$AH$258,14,0)) -> 350 | R13: =IF($D13="","",VLOOKUP($D13,'HK2'!$D$4:$AH$258,15,0)) -> 23.05 | S13: =IF($D13="","",VLOOKUP($D13,'HK2'!$D$4:$AH$258,16,0)) -> 0 | T13: =IF($D13="","",VLOOKUP($D13,'HK2'!$D$4:$AH$258,17,0)) -> 0 | U13: =IF($D13="","",VLOOKUP($D13,'HK2'!$D$4:$AH$258,18,0)) -> 0 | V13: =IF($D13="","",VLOOKUP($D13,'HK2'!$D$4:$AH$258,19,0)) -> 0 | W13: =IF($D13="","",VLOOKUP($D13,'HK2'!$D$4:$AH$258,20,0)) -> 0 | X13: =IF($D13="","",VLOOKUP($D13,'HK2'!$D$4:$AH$258,21,0)) -> 0 | Y13: =IF($D13="","",VLOOKUP($D13,'HK2'!$D$4:$AH$258,22,0)) -> 0 | Z13: =IF($D13="","",VLOOKUP($D13,'HK2'!$D$4:$AH$258,23,0)) -> 0 | AA13: =IF($D13="","",VLOOKUP($D13,'HK2'!$D$4:$AH$258,24,0)) -> 0 | AB13: =IF($D13="","",VLOOKUP($D13,'HK2'!$D$4:$AH$258,25,0)) -> 0 | AC13: =IF($D13="","",VLOOKUP($D13,'HK2'!$D$4:$AH$258,26,0)) -> 0 | AD13: =IF($D13="","",VLOOKUP($D13,'HK2'!$D$4:$AH$258,27,0)) -> 0 | AE13: =IF($D13="","",VLOOKUP($D13,'HK2'!$D$4:$AH$258,28,0)) -> 0 | AF13: =IF($D13="","",VLOOKUP($D13,'HK2'!$D$4:$AH$258,29,0)) -> 1.2 | AG13: =IF($D13="","",VLOOKUP($D13,'HK2'!$D$4:$AH$258,30,0)) -> 0 | AH13: =IF(D13="","",ROUND(I13+N13+R13+V13+Y13+AB13+AE13+SUM(AF13:AG13),1)) -> 46.7 | AI13: =IF(AH13="","",ROUND(AH13*10/3,1)) -> 155.7
A14: =IF(D14="","",SUBTOTAL(3,$D$4:$D14)) -> 11 | B14: 01010030 | C14: Khoa Khoa học cơ bản | D14: Giang Phi Hùng | E14: =IF($D14="","",VLOOKUP($D14,'HK2'!$D$4:$AH$258,2,0)) -> 0 | F14: =IF($D14="","",VLOOKUP($D14,'HK2'!$D$4:$AH$258,3,0)) -> 0 | G14: =IF($D14="","",VLOOKUP($D14,'HK2'!$D$4:$AH$258,4,0)) -> 0 | H14: =IF($D14="","",VLOOKUP($D14,'HK2'!$D$4:$AH$258,5,0)) -> 0 | I14: =IF($D14="","",VLOOKUP($D14,'HK2'!$D$4:$AH$258,6,0)) -> 0 | J14: =IF($D14="","",VLOOKUP($D14,'HK2'!$D$4:$AH$258,7,0)) -> 0 | K14: =IF($D14="","",VLOOKUP($D14,'HK2'!$D$4:$AH$258,8,0)) -> 0 | L14: =IF($D14="","",VLOOKUP($D14,'HK2'!$D$4:$AH$258,9,0)) -> 0 | M14: =IF($D14="","",VLOOKUP($D14,'HK2'!$D$4:$AH$258,10,0)) -> 0 | N14: =IF($D14="","",VLOOKUP($D14,'HK2'!$D$4:$AH$258,11,0)) -> 0 | O14: =IF($D14="","",VLOOKUP($D14,'HK2'!$D$4:$AH$258,12,0)) -> 0 | P14: =IF($D14="","",VLOOKUP($D14,'HK2'!$D$4:$AH$258,13,0)) -> 0 | Q14: =IF($D14="","",VLOOKUP($D14,'HK2'!$D$4:$AH$258,14,0)) -> 0 | R14: =IF($D14="","",VLOOKUP($D14,'HK2'!$D$4:$AH$258,15,0)) -> 0 | S14: =IF($D14="","",VLOOKUP($D14,'HK2'!$D$4:$AH$258,16,0)) -> 0 | T14: =IF($D14="","",VLOOKUP($D14,'HK2'!$D$4:$AH$258,17,0)) -> 0 | U14: =IF($D14="","",VLOOKUP($D14,'HK2'!$D$4:$AH$258,18,0)) -> 0 | V14: =IF($D14="","",VLOOKUP($D14,'HK2'!$D$4:$AH$258,19,0)) -> 0 | W14: =IF($D14="","",VLOOKUP($D14,'HK2'!$D$4:$AH$258,20,0)) -> 0 | X14: =IF($D14="","",VLOOKUP($D14,'HK2'!$D$4:$AH$258,21,0)) -> 0 | Y14: =IF($D14="","",VLOOKUP($D14,'HK2'!$D$4:$AH$258,22,0)) -> 0 | Z14: =IF($D14="","",VLOOKUP($D14,'HK2'!$D$4:$AH$258,23,0)) -> 0 | AA14: =IF($D14="","",VLOOKUP($D14,'HK2'!$D$4:$AH$258,24,0)) -> 0 | AB14: =IF($D14="","",VLOOKUP($D14,'HK2'!$D$4:$AH$258,25,0)) -> 0 | AC14: =IF($D14="","",VLOOKUP($D14,'HK2'!$D$4:$AH$258,26,0)) -> 0 | AD14: =IF($D14="","",VLOOKUP($D14,'HK2'!$D$4:$AH$258,27,0)) -> 0 | AE14: =IF($D14="","",VLOOKUP($D14,'HK2'!$D$4:$AH$258,28,0)) -> 0 | AF14: =IF($D14="","",VLOOKUP($D14,'HK2'!$D$4:$AH$258,29,0)) -> 0 | AG14: =IF($D14="","",VLOOKUP($D14,'HK2'!$D$4:$AH$258,30,0)) -> 0 | AH14: =IF(D14="","",ROUND(I14+N14+R14+V14+Y14+AB14+AE14+SUM(AF14:AG14),1)) -> 0 | AI14: =IF(AH14="","",ROUND(AH14*10/3,1)) -> 0
A15: =IF(D15="","",SUBTOTAL(3,$D$4:$D15)) -> 12 | B15: 01010031 | C15: Khoa Khoa học cơ bản | D15: Hà Như Mai | E15: =IF($D15="","",VLOOKUP($D15,'HK2'!$D$4:$AH$258,2,0)) -> 4 | F15: =IF($D15="","",VLOOKUP($D15,'HK2'!$D$4:$AH$258,3,0)) -> 0 | G15: =IF($D15="","",VLOOKUP($D15,'HK2'!$D$4:$AH$258,4,0)) -> 0 | H15: =IF($D15="","",VLOOKUP($D15,'HK2'!$D$4:$AH$258,5,0)) -> 0 | I15: =IF($D15="","",VLOOKUP($D15,'HK2'!$D$4:$AH$258,6,0)) -> 4 | J15: =IF($D15="","",VLOOKUP($D15,'HK2'!$D$4:$AH$258,7,0)) -> 14.4 | K15: =IF($D15="","",VLOOKUP($D15,'HK2'!$D$4:$AH$258,8,0)) -> 1.2 | L15: =IF($D15="","",VLOOKUP($D15,'HK2'!$D$4:$AH$258,9,0)) -> 0 | M15: =IF($D15="","",VLOOKUP($D15,'HK2'!$D$4:$AH$258,10,0)) -> 0 | N15: =IF($D15="","",VLOOKUP($D15,'HK2'!$D$4:$AH$258,11,0)) -> 15.6 | O15: =IF($D15="","",VLOOKUP($D15,'HK2'!$D$4:$AH$258,12,0)) -> 465 | P15: =IF($D15="","",VLOOKUP($D15,'HK2'!$D$4:$AH$258,13,0)) -> 422 | Q15: =IF($D15="","",VLOOKUP($D15,'HK2'!$D$4:$AH$258,14,0)) -> 490 | R15: =IF($D15="","",VLOOKUP($D15,'HK2'!$D$4:$AH$258,15,0)) -> 19.85 | S15: =IF($D15="","",VLOOKUP($D15,'HK2'!$D$4:$AH$258,16,0)) -> 0 | T15: =IF($D15="","",VLOOKUP($D15,'HK2'!$D$4:$AH$258,17,0)) -> 0 | U15: =IF($D15="","",VLOOKUP($D15,'HK2'!$D$4:$AH$258,18,0)) -> 0 | V15: =IF($D15="","",VLOOKUP($D15,'HK2'!$D$4:$AH$258,19,0)) -> 0 | W15: =IF($D15="","",VLOOKUP($D15,'HK2'!$D$4:$AH$258,20,0)) -> 0 | X15: =IF($D15="","",VLOOKUP($D15,'HK2'!$D$4:$AH$258,21,0)) -> 0 | Y15: =IF($D15="","",VLOOKUP($D15,'HK2'!$D$4:$AH$258,22,0)) -> 0 | Z15: =IF($D15="","",VLOOKUP($D15,'HK2'!$D$4:$AH$258,23,0)) -> 0 | AA15: =IF($D15="","",VLOOKUP($D15,'HK2'!$D$4:$AH$258,24,0)) -> 0 | AB15: =IF($D15="","",VLOOKUP($D15,'HK2'!$D$4:$AH$258,25,0)) -> 0 | AC15: =IF($D15="","",VLOOKUP($D15,'HK2'!$D$4:$AH$258,26,0)) -> 0 | AD15: =IF($D15="","",VLOOKUP($D15,'HK2'!$D$4:$AH$258,27,0)) -> 0 | AE15: =IF($D15="","",VLOOKUP($D15,'HK2'!$D$4:$AH$258,28,0)) -> 0 | AF15: =IF($D15="","",VLOOKUP($D15,'HK2'!$D$4:$AH$258,29,0)) -> 3.6 | AG15: =IF($D15="","",VLOOKUP($D15,'HK2'!$D$4:$AH$258,30,0)) -> 0 | AH15: =IF(D15="","",ROUND(I15+N15+R15+V15+Y15+AB15+AE15+SUM(AF15:AG15),1)) -> 43.1 | AI15: =IF(AH15="","",ROUND(AH15*10/3,1)) -> 143.7
... A64: =IF(D64="","",SUBTOTAL(3,$D$4:$D64)) -> 61 | B64: 01005007 | C64: Phòng TC-HC-TH | D64: Nguyễn Thành Nam | E64: =IF($D64="","",VLOOKUP($D64,'HK2'!$D$4:$AH$258,2,0)) -> 0 | F64: =IF($D64="","",VLOOKUP($D64,'HK2'!$D$4:$AH$258,3,0)) -> 0 | G64: =IF($D64="","",VLOOKUP($D64,'HK2'!$D$4:$AH$258,4,0)) -> 0 | H64: =IF($D64="","",VLOOKUP($D64,'HK2'!$D$4:$AH$258,5,0)) -> 0 | I64: =IF($D64="","",VLOOKUP($D64,'HK2'!$D$4:$AH$258,6,0)) -> 0 | J64: =IF($D64="","",VLOOKUP($D64,'HK2'!$D$4:$AH$258,7,0)) -> 0 | K64: =IF($D64="","",VLOOKUP($D64,'HK2'!$D$4:$AH$258,8,0)) -> 0 | L64: =IF($D64="","",VLOOKUP($D64,'HK2'!$D$4:$AH$258,9,0)) -> 0 | M64: =IF($D64="","",VLOOKUP($D64,'HK2'!$D$4:$AH$258,10,0)) -> 0 | N64: =IF($D64="","",VLOOKUP($D64,'HK2'!$D$4:$AH$258,11,0)) -> 0 | O64: =IF($D64="","",VLOOKUP($D64,'HK2'!$D$4:$AH$258,12,0)) -> 94 | P64: =IF($D64="","",VLOOKUP($D64,'HK2'!$D$4:$AH$258,13,0)) -> 87 | Q64: =IF($D64="","",VLOOKUP($D64,'HK2'!$D$4:$AH$258,14,0)) -> 105 | R64: =IF($D64="","",VLOOKUP($D64,'HK2'!$D$4:$AH$258,15,0)) -> 3.8 | S64: =IF($D64="","",VLOOKUP($D64,'HK2'!$D$4:$AH$258,16,0)) -> 0 | T64: =IF($D64="","",VLOOKUP($D64,'HK2'!$D$4:$AH$258,17,0)) -> 0 | U64: =IF($D64="","",VLOOKUP($D64,'HK2'!$D$4:$AH$258,18,0)) -> 0 | V64: =IF($D64="","",VLOOKUP($D64,'HK2'!$D$4:$AH$258,19,0)) -> 0 | W64: =IF($D64="","",VLOOKUP($D64,'HK2'!$D$4:$AH$258,20,0)) -> 0 | X64: =IF($D64="","",VLOOKUP($D64,'HK2'!$D$4:$AH$258,21,0)) -> 0 | Y64: =IF($D64="","",VLOOKUP($D64,'HK2'!$D$4:$AH$258,22,0)) -> 0 | Z64: =IF($D64="","",VLOOKUP($D64,'HK2'!$D$4:$AH$258,23,0)) -> 0 | AA64: =IF($D64="","",VLOOKUP($D64,'HK2'!$D$4:$AH$258,24,0)) -> 0 | AB64: =IF($D64="","",VLOOKUP($D64,'HK2'!$D$4:$AH$258,25,0)) -> 0 | AC64: =IF($D64="","",VLOOKUP($D64,'HK2'!$D$4:$AH$258,26,0)) -> 0 | AD64: =IF($D64="","",VLOOKUP($D64,'HK2'!$D$4:$AH$258,27,0)) -> 0 | AE64: =IF($D64="","",VLOOKUP($D64,'HK2'!$D$4:$AH$258,28,0)) -> 0 | AF64: =IF($D64="","",VLOOKUP($D64,'HK2'!$D$4:$AH$258,29,0)) -> 0 | AG64: =IF($D64="","",VLOOKUP($D64,'HK2'!$D$4:$AH$258,30,0)) -> 0 | AH64: =IF(D64="","",ROUND(I64+N64+R64+V64+Y64+AB64+AE64+SUM(AF64:AG64),1)) -> 3.8 | AI64: =IF(AH64="","",ROUND(AH64*10/3,1)) -> 12.7
A65: =IF(D65="","",SUBTOTAL(3,$D$4:$D65)) | E65: =IF($D65="","",VLOOKUP($D65,'HK2'!$D$4:$AH$258,2,0)) | F65: =IF($D65="","",VLOOKUP($D65,'HK2'!$D$4:$AH$258,3,0)) | G65: =IF($D65="","",VLOOKUP($D65,'HK2'!$D$4:$AH$258,4,0)) | H65: =IF($D65="","",VLOOKUP($D65,'HK2'!$D$4:$AH$258,5,0)) | I65: =IF($D65="","",VLOOKUP($D65,'HK2'!$D$4:$AH$258,6,0)) | J65: =IF($D65="","",VLOOKUP($D65,'HK2'!$D$4:$AH$258,7,0)) | K65: =IF($D65="","",VLOOKUP($D65,'HK2'!$D$4:$AH$258,8,0)) | L65: =IF($D65="","",VLOOKUP($D65,'HK2'!$D$4:$AH$258,9,0)) | M65: =IF($D65="","",VLOOKUP($D65,'HK2'!$D$4:$AH$258,10,0)) | N65: =IF($D65="","",VLOOKUP($D65,'HK2'!$D$4:$AH$258,11,0)) | O65: =IF($D65="","",VLOOKUP($D65,'HK2'!$D$4:$AH$258,12,0)) | P65: =IF($D65="","",VLOOKUP($D65,'HK2'!$D$4:$AH$258,13,0)) | Q65: =IF($D65="","",VLOOKUP($D65,'HK2'!$D$4:$AH$258,14,0)) | R65: =IF($D65="","",VLOOKUP($D65,'HK2'!$D$4:$AH$258,15,0)) | S65: =IF($D65="","",VLOOKUP($D65,'HK2'!$D$4:$AH$258,16,0)) | T65: =IF($D65="","",VLOOKUP($D65,'HK2'!$D$4:$AH$258,17,0)) | U65: =IF($D65="","",VLOOKUP($D65,'HK2'!$D$4:$AH$258,18,0)) | V65: =IF($D65="","",VLOOKUP($D65,'HK2'!$D$4:$AH$258,19,0)) | W65: =IF($D65="","",VLOOKUP($D65,'HK2'!$D$4:$AH$258,20,0)) | X65: =IF($D65="","",VLOOKUP($D65,'HK2'!$D$4:$AH$258,21,0)) | Y65: =IF($D65="","",VLOOKUP($D65,'HK2'!$D$4:$AH$258,22,0)) | Z65: =IF($D65="","",VLOOKUP($D65,'HK2'!$D$4:$AH$258,23,0)) | AA65: =IF($D65="","",VLOOKUP($D65,'HK2'!$D$4:$AH$258,24,0)) | AB65: =IF($D65="","",VLOOKUP($D65,'HK2'!$D$4:$AH$258,25,0)) | AC65: =IF($D65="","",VLOOKUP($D65,'HK2'!$D$4:$AH$258,26,0)) | AD65: =IF($D65="","",VLOOKUP($D65,'HK2'!$D$4:$AH$258,27,0)) | AE65: =IF($D65="","",VLOOKUP($D65,'HK2'!$D$4:$AH$258,28,0)) | AF65: =IF($D65="","",VLOOKUP($D65,'HK2'!$D$4:$AH$258,29,0)) | AG65: =IF($D65="","",VLOOKUP($D65,'HK2'!$D$4:$AH$258,30,0)) | AH65: =IF(D65="","",ROUND(I65+N65+R65+V65+Y65+AB65+AE65+SUM(AF65:AG65),1)) | AI65: =IF(AH65="","",ROUND(AH65*10/3,1))
E66: =SUBTOTAL(9,E2:E65) -> 55 | F66: =SUBTOTAL(9,F2:F65) -> 19 | G66: =SUBTOTAL(9,G2:G65) -> 0 | H66: =SUBTOTAL(9,H2:H65) -> 0 | I66: =SUBTOTAL(9,I2:I65) -> 93 | J66: =SUBTOTAL(9,J2:J65) -> 229.2 | K66: =SUBTOTAL(9,K2:K65) -> 236.4 | L66: =SUBTOTAL(9,L2:L65) -> 0 | ... AH66: =SUBTOTAL(9,AH2:AH65) -> 1001.1

Sheet KHCB CN
A1: STT | B1: Mã nhân sự | C1: Đơn vị | D1: HỌ VÀ TÊN GIẢNG VIÊN | E1: ĐỀ THI | J1: COI THI | O1: CHẤM THI KTHP | W1: CHẤM THI TỐT NGHIỆP | AF1: DỰ PHÒNG KỲ THI | AG1: GIÁM SÁT | AH1: TỔNG KHỐI LƯỢNG | AI1: =SUBTOTAL(9,AH:AH) -> 1747.3
O2: LÝ THUYẾT | S2: TIỂU LUẬN | W2: LÝ THUYẾT | Z2: T.HÀNH CHUNG | AC2: T.HÀNH RIÊNG
E3: SL ĐỀ LT KTHP | F3: SL ĐỀ TN KTHP | G3: SL ĐỀ LT TN | H3: SL ĐỀ TH TN | I3: KL SOẠN ĐỀ (tiết) | J3: KTHPLT COITHI 1 | K3: KTHPLT COITHI 2 | L3: ThiTN COITHI 1 | M3: ThiTN COITHI 2 | N3: KL COITHI (tiết) | O3: SL BÀI LT CHẤM 1 | P3: SL BÀI LT CHẤM 2 | Q3: SL CHẤM LT NGHĨA VỤ | R3: KL CHẤM LT (tiết) | S3: SL BÀI TL CHẤM 1 | T3: SL BÀI TL CHẤM 2 | U3: SL CHẤM TL NGHĨA VỤ | V3: KL CHẤM TL (tiết) | W3: SL BÀI LT CHẤM 1 | X3: SL BÀI LT CHẤM 2 | Y3: KL CHẤM LT (tiết) | Z3: SL BÀI TL CHẤM 1 | AA3: SL BÀI TL CHẤM 2 | AB3: KL CHẤM TL (tiết) | AC3: SL BÀI TL CHẤM 1 | AD3: SL BÀI TL CHẤM 2 | AE3: KL CHẤM TL (tiết)
A4: =IF(D4="","",SUBTOTAL(3,$D$4:$D4)) -> 1 | B4: 01010046 | C4: Khoa Khoa học cơ bản | D4: Bùi Thị Liễu Trang | E4: =IF($D4="","",VLOOKUP($D4,'HK1'!$D$4:$AH$259,2,0)+VLOOKUP($D4,'HK2'!$D$4:$AH$258,2,0)) -> 0 | F4: =IF($D4="","",VLOOKUP($D4,'HK1'!$D$4:$AH$259,3,0)+VLOOKUP($D4,'HK2'!$D$4:$AH$258,3,0)) -> 0 | G4: =IF($D4="","",VLOOKUP($D4,'HK1'!$D$4:$AH$259,4,0)+VLOOKUP($D4,'HK2'!$D$4:$AH$258,4,0)) -> 0 | H4: =IF($D4="","",VLOOKUP($D4,'HK1'!$D$4:$AH$259,5,0)+VLOOKUP($D4,'HK2'!$D$4:$AH$258,5,0)) -> 0 | I4: =IF($D4="","",VLOOKUP($D4,'HK1'!$D$4:$AH$259,6,0)+VLOOKUP($D4,'HK2'!$D$4:$AH$258,6,0)) -> 0 | J4: =IF($D4="","",VLOOKUP($D4,'HK1'!$D$4:$AH$259,7,0)+VLOOKUP($D4,'HK2'!$D$4:$AH$258,7,0)) -> 0 | K4: =IF($D4="","",VLOOKUP($D4,'HK1'!$D$4:$AH$259,8,0)+VLOOKUP($D4,'HK2'!$D$4:$AH$258,8,0)) -> 0 | L4: =IF($D4="","",VLOOKUP($D4,'HK1'!$D$4:$AH$259,9,0)+VLOOKUP($D4,'HK2'!$D$4:$AH$258,9,0)) -> 0 | M4: =IF($D4="","",VLOOKUP($D4,'HK1'!$D$4:$AH$259,10,0)+VLOOKUP($D4,'HK2'!$D$4:$AH$258,10,0)) -> 0 | N4: =IF($D4="","",VLOOKUP($D4,'HK1'!$D$4:$AH$259,11,0)+VLOOKUP($D4,'HK2'!$D$4:$AH$258,11,0)) -> 0 | O4: =IF($D4="","",VLOOKUP($D4,'HK1'!$D$4:$AH$259,12,0)+VLOOKUP($D4,'HK2'!$D$4:$AH$258,12,0)) -> 137 | P4: =IF($D4="","",VLOOKUP($D4,'HK1'!$D$4:$AH$259,13,0)+VLOOKUP($D4,'HK2'!$D$4:$AH$258,13,0)) -> 308 | Q4: =IF($D4="","",VLOOKUP($D4,'HK1'!$D$4:$AH$259,14,0)+VLOOKUP($D4,'HK2'!$D$4:$AH$258,14,0)) -> 360 | R4: =IF($D4="","",VLOOKUP($D4,'HK1'!$D$4:$AH$259,15,0)+VLOOKUP($D4,'HK2'!$D$4:$AH$258,15,0)) -> 4.25 | S4: =IF($D4="","",VLOOKUP($D4,'HK1'!$D$4:$AH$259,16,0)+VLOOKUP($D4,'HK2'!$D$4:$AH$258,16,0)) -> 0 | T4: =IF($D4="","",VLOOKUP($D4,'HK1'!$D$4:$AH$259,17,0)+VLOOKUP($D4,'HK2'!$D$4:$AH$258,17,0)) -> 0 | U4: =IF($D4="","",VLOOKUP($D4,'HK1'!$D$4:$AH$259,18,0)+VLOOKUP($D4,'HK2'!$D$4:$AH$258,18,0)) -> 0 | V4: =IF($D4="","",VLOOKUP($D4,'HK1'!$D$4:$AH$259,19,0)+VLOOKUP($D4,'HK2'!$D$4:$AH$258,19,0)) -> 0 | W4: =IF($D4="","",VLOOKUP($D4,'HK1'!$D$4:$AH$259,20,0)+VLOOKUP($D4,'HK2'!$D$4:$AH$258,20,0)) -> 0 | X4: =IF($D4="","",VLOOKUP($D4,'HK1'!$D$4:$AH$259,21,0)+VLOOKUP($D4,'HK2'!$D$4:$AH$258,21,0)) -> 0 | Y4: =IF($D4="","",VLOOKUP($D4,'HK1'!$D$4:$AH$259,22,0)+VLOOKUP($D4,'HK2'!$D$4:$AH$258,22,0)) -> 0 | Z4: =IF($D4="","",VLOOKUP($D4,'HK1'!$D$4:$AH$259,23,0)+VLOOKUP($D4,'HK2'!$D$4:$AH$258,23,0)) -> 0 | AA4: =IF($D4="","",VLOOKUP($D4,'HK1'!$D$4:$AH$259,24,0)+VLOOKUP($D4,'HK2'!$D$4:$AH$258,24,0)) -> 0 | AB4: =IF($D4="","",VLOOKUP($D4,'HK1'!$D$4:$AH$259,25,0)+VLOOKUP($D4,'HK2'!$D$4:$AH$258,25,0)) -> 0 | AC4: =IF($D4="","",VLOOKUP($D4,'HK1'!$D$4:$AH$259,26,0)+VLOOKUP($D4,'HK2'!$D$4:$AH$258,26,0)) -> 0 | AD4: =IF($D4="","",VLOOKUP($D4,'HK1'!$D$4:$AH$259,27,0)+VLOOKUP($D4,'HK2'!$D$4:$AH$258,27,0)) -> 0 | AE4: =IF($D4="","",VLOOKUP($D4,'HK1'!$D$4:$AH$259,28,0)+VLOOKUP($D4,'HK2'!$D$4:$AH$258,28,0)) -> 0 | AF4: =IF($D4="","",VLOOKUP($D4,'HK1'!$D$4:$AH$259,29,0)+VLOOKUP($D4,'HK2'!$D$4:$AH$258,29,0)) -> 0 | AG4: =IF($D4="","",VLOOKUP($D4,'HK1'!$D$4:$AH$259,30,0)+VLOOKUP($D4,'HK2'!$D$4:$AH$258,30,0)) -> 0 | AH4: =IF(D4="","",ROUND(I4+N4+R4+V4+Y4+AB4+AE4+SUM(AF4:AG4),1)) -> 4.3 | AI4: =IF(AH4="","",ROUND(AH4*10/3,1)) -> 14.3
A5: =IF(D5="","",SUBTOTAL(3,$D$4:$D5)) -> 2 | B5: 01010050 | C5: Khoa Khoa học cơ bản | D5: Bùi Thị Tú Uyên | E5: =IF($D5="","",VLOOKUP($D5,'HK1'!$D$4:$AH$259,2,0)+VLOOKUP($D5,'HK2'!$D$4:$AH$258,2,0)) -> 0 | F5: =IF($D5="","",VLOOKUP($D5,'HK1'!$D$4:$AH$259,3,0)+VLOOKUP($D5,'HK2'!$D$4:$AH$258,3,0)) -> 0 | G5: =IF($D5="","",VLOOKUP($D5,'HK1'!$D$4:$AH$259,4,0)+VLOOKUP($D5,'HK2'!$D$4:$AH$258,4,0)) -> 0 | H5: =IF($D5="","",VLOOKUP($D5,'HK1'!$D$4:$AH$259,5,0)+VLOOKUP($D5,'HK2'!$D$4:$AH$258,5,0)) -> 0 | I5: =IF($D5="","",VLOOKUP($D5,'HK1'!$D$4:$AH$259,6,0)+VLOOKUP($D5,'HK2'!$D$4:$AH$258,6,0)) -> 0 | J5: =IF($D5="","",VLOOKUP($D5,'HK1'!$D$4:$AH$259,7,0)+VLOOKUP($D5,'HK2'!$D$4:$AH$258,7,0)) -> 0 | K5: =IF($D5="","",VLOOKUP($D5,'HK1'!$D$4:$AH$259,8,0)+VLOOKUP($D5,'HK2'!$D$4:$AH$258,8,0)) -> 0 | L5: =IF($D5="","",VLOOKUP($D5,'HK1'!$D$4:$AH$259,9,0)+VLOOKUP($D5,'HK2'!$D$4:$AH$258,9,0)) -> 0 | M5: =IF($D5="","",VLOOKUP($D5,'HK1'!$D$4:$AH$259,10,0)+VLOOKUP($D5,'HK2'!$D$4:$AH$258,10,0)) -> 0 | N5: =IF($D5="","",VLOOKUP($D5,'HK1'!$D$4:$AH$259,11,0)+VLOOKUP($D5,'HK2'!$D$4:$AH$258,11,0)) -> 0 | O5: =IF($D5="","",VLOOKUP($D5,'HK1'!$D$4:$AH$259,12,0)+VLOOKUP($D5,'HK2'!$D$4:$AH$258,12,0)) -> 138 | P5: =IF($D5="","",VLOOKUP($D5,'HK1'!$D$4:$AH$259,13,0)+VLOOKUP($D5,'HK2'!$D$4:$AH$258,13,0)) -> 164 | Q5: =IF($D5="","",VLOOKUP($D5,'HK1'!$D$4:$AH$259,14,0)+VLOOKUP($D5,'HK2'!$D$4:$AH$258,14,0)) -> 287 | R5: =IF($D5="","",VLOOKUP($D5,'HK1'!$D$4:$AH$259,15,0)+VLOOKUP($D5,'HK2'!$D$4:$AH$258,15,0)) -> 0.75 | S5: =IF($D5="","",VLOOKUP($D5,'HK1'!$D$4:$AH$259,16,0)+VLOOKUP($D5,'HK2'!$D$4:$AH$258,16,0)) -> 0 | T5: =IF($D5="","",VLOOKUP($D5,'HK1'!$D$4:$AH$259,17,0)+VLOOKUP($D5,'HK2'!$D$4:$AH$258,17,0)) -> 0 | U5: =IF($D5="","",VLOOKUP($D5,'HK1'!$D$4:$AH$259,18,0)+VLOOKUP($D5,'HK2'!$D$4:$AH$258,18,0)) -> 0 | V5: =IF($D5="","",VLOOKUP($D5,'HK1'!$D$4:$AH$259,19,0)+VLOOKUP($D5,'HK2'!$D$4:$AH$258,19,0)) -> 0 | W5: =IF($D5="","",VLOOKUP($D5,'HK1'!$D$4:$AH$259,20,0)+VLOOKUP($D5,'HK2'!$D$4:$AH$258,20,0)) -> 0 | X5: =IF($D5="","",VLOOKUP($D5,'HK1'!$D$4:$AH$259,21,0)+VLOOKUP($D5,'HK2'!$D$4:$AH$258,21,0)) -> 0 | Y5: =IF($D5="","",VLOOKUP($D5,'HK1'!$D$4:$AH$259,22,0)+VLOOKUP($D5,'HK2'!$D$4:$AH$258,22,0)) -> 0 | Z5: =IF($D5="","",VLOOKUP($D5,'HK1'!$D$4:$AH$259,23,0)+VLOOKUP($D5,'HK2'!$D$4:$AH$258,23,0)) -> 0 | AA5: =IF($D5="","",VLOOKUP($D5,'HK1'!$D$4:$AH$259,24,0)+VLOOKUP($D5,'HK2'!$D$4:$AH$258,24,0)) -> 0 | AB5: =IF($D5="","",VLOOKUP($D5,'HK1'!$D$4:$AH$259,25,0)+VLOOKUP($D5,'HK2'!$D$4:$AH$258,25,0)) -> 0 | AC5: =IF($D5="","",VLOOKUP($D5,'HK1'!$D$4:$AH$259,26,0)+VLOOKUP($D5,'HK2'!$D$4:$AH$258,26,0)) -> 0 | AD5: =IF($D5="","",VLOOKUP($D5,'HK1'!$D$4:$AH$259,27,0)+VLOOKUP($D5,'HK2'!$D$4:$AH$258,27,0)) -> 0 | AE5: =IF($D5="","",VLOOKUP($D5,'HK1'!$D$4:$AH$259,28,0)+VLOOKUP($D5,'HK2'!$D$4:$AH$258,28,0)) -> 0 | AF5: =IF($D5="","",VLOOKUP($D5,'HK1'!$D$4:$AH$259,29,0)+VLOOKUP($D5,'HK2'!$D$4:$AH$258,29,0)) -> 0 | AG5: =IF($D5="","",VLOOKUP($D5,'HK1'!$D$4:$AH$259,30,0)+VLOOKUP($D5,'HK2'!$D$4:$AH$258,30,0)) -> 0 | AH5: =IF(D5="","",ROUND(I5+N5+R5+V5+Y5+AB5+AE5+SUM(AF5:AG5),1)) -> 0.8 | AI5: =IF(AH5="","",ROUND(AH5*10/3,1)) -> 2.7
A6: =IF(D6="","",SUBTOTAL(3,$D$4:$D6)) -> 3 | B6: 01010036 | C6: Khoa Khoa học cơ bản | D6: Cao Đình Trung Hậu | E6: =IF($D6="","",VLOOKUP($D6,'HK1'!$D$4:$AH$259,2,0)+VLOOKUP($D6,'HK2'!$D$4:$AH$258,2,0)) -> 0 | F6: =IF($D6="","",VLOOKUP($D6,'HK1'!$D$4:$AH$259,3,0)+VLOOKUP($D6,'HK2'!$D$4:$AH$258,3,0)) -> 0 | G6: =IF($D6="","",VLOOKUP($D6,'HK1'!$D$4:$AH$259,4,0)+VLOOKUP($D6,'HK2'!$D$4:$AH$258,4,0)) -> 0 | H6: =IF($D6="","",VLOOKUP($D6,'HK1'!$D$4:$AH$259,5,0)+VLOOKUP($D6,'HK2'!$D$4:$AH$258,5,0)) -> 0 | I6: =IF($D6="","",VLOOKUP($D6,'HK1'!$D$4:$AH$259,6,0)+VLOOKUP($D6,'HK2'!$D$4:$AH$258,6,0)) -> 0 | J6: =IF($D6="","",VLOOKUP($D6,'HK1'!$D$4:$AH$259,7,0)+VLOOKUP($D6,'HK2'!$D$4:$AH$258,7,0)) -> 16.8 | K6: =IF($D6="","",VLOOKUP($D6,'HK1'!$D$4:$AH$259,8,0)+VLOOKUP($D6,'HK2'!$D$4:$AH$258,8,0)) -> 0 | L6: =IF($D6="","",VLOOKUP($D6,'HK1'!$D$4:$AH$259,9,0)+VLOOKUP($D6,'HK2'!$D$4:$AH$258,9,0)) -> 0 | M6: =IF($D6="","",VLOOKUP($D6,'HK1'!$D$4:$AH$259,10,0)+VLOOKUP($D6,'HK2'!$D$4:$AH$258,10,0)) -> 0 | N6: =IF($D6="","",VLOOKUP($D6,'HK1'!$D$4:$AH$259,11,0)+VLOOKUP($D6,'HK2'!$D$4:$AH$258,11,0)) -> 16.8 | O6: =IF($D6="","",VLOOKUP($D6,'HK1'!$D$4:$AH$259,12,0)+VLOOKUP($D6,'HK2'!$D$4:$AH$258,12,0)) -> 177 | P6: =IF($D6="","",VLOOKUP($D6,'HK1'!$D$4:$AH$259,13,0)+VLOOKUP($D6,'HK2'!$D$4:$AH$258,13,0)) -> 554 | Q6: =IF($D6="","",VLOOKUP($D6,'HK1'!$D$4:$AH$259,14,0)+VLOOKUP($D6,'HK2'!$D$4:$AH$258,14,0)) -> 451 | R6: =IF($D6="","",VLOOKUP($D6,'HK1'!$D$4:$AH$259,15,0)+VLOOKUP($D6,'HK2'!$D$4:$AH$258,15,0)) -> 14 | S6: =IF($D6="","",VLOOKUP($D6,'HK1'!$D$4:$AH$259,16,0)+VLOOKUP($D6,'HK2'!$D$4:$AH$258,16,0)) -> 0 | T6: =IF($D6="","",VLOOKUP($D6,'HK1'!$D$4:$AH$259,17,0)+VLOOKUP($D6,'HK2'!$D$4:$AH$258,17,0)) -> 0 | U6: =IF($D6="","",VLOOKUP($D6,'HK1'!$D$4:$AH$259,18,0)+VLOOKUP($D6,'HK2'!$D$4:$AH$258,18,0)) -> 0 | V6: =IF($D6="","",VLOOKUP($D6,'HK1'!$D$4:$AH$259,19,0)+VLOOKUP($D6,'HK2'!$D$4:$AH$258,19,0)) -> 0 | W6: =IF($D6="","",VLOOKUP($D6,'HK1'!$D$4:$AH$259,20,0)+VLOOKUP($D6,'HK2'!$D$4:$AH$258,20,0)) -> 0 | X6: =IF($D6="","",VLOOKUP($D6,'HK1'!$D$4:$AH$259,21,0)+VLOOKUP($D6,'HK2'!$D$4:$AH$258,21,0)) -> 0 | Y6: =IF($D6="","",VLOOKUP($D6,'HK1'!$D$4:$AH$259,22,0)+VLOOKUP($D6,'HK2'!$D$4:$AH$258,22,0)) -> 0 | Z6: =IF($D6="","",VLOOKUP($D6,'HK1'!$D$4:$AH$259,23,0)+VLOOKUP($D6,'HK2'!$D$4:$AH$258,23,0)) -> 0 | AA6: =IF($D6="","",VLOOKUP($D6,'HK1'!$D$4:$AH$259,24,0)+VLOOKUP($D6,'HK2'!$D$4:$AH$258,24,0)) -> 0 | AB6: =IF($D6="","",VLOOKUP($D6,'HK1'!$D$4:$AH$259,25,0)+VLOOKUP($D6,'HK2'!$D$4:$AH$258,25,0)) -> 0 | AC6: =IF($D6="","",VLOOKUP($D6,'HK1'!$D$4:$AH$259,26,0)+VLOOKUP($D6,'HK2'!$D$4:$AH$258,26,0)) -> 0 | AD6: =IF($D6="","",VLOOKUP($D6,'HK1'!$D$4:$AH$259,27,0)+VLOOKUP($D6,'HK2'!$D$4:$AH$258,27,0)) -> 0 | AE6: =IF($D6="","",VLOOKUP($D6,'HK1'!$D$4:$AH$259,28,0)+VLOOKUP($D6,'HK2'!$D$4:$AH$258,28,0)) -> 0 | AF6: =IF($D6="","",VLOOKUP($D6,'HK1'!$D$4:$AH$259,29,0)+VLOOKUP($D6,'HK2'!$D$4:$AH$258,29,0)) -> 0 | AG6: =IF($D6="","",VLOOKUP($D6,'HK1'!$D$4:$AH$259,30,0)+VLOOKUP($D6,'HK2'!$D$4:$AH$258,30,0)) -> 3.6 | AH6: =IF(D6="","",ROUND(I6+N6+R6+V6+Y6+AB6+AE6+SUM(AF6:AG6),1)) -> 34.4 | AI6: =IF(AH6="","",ROUND(AH6*10/3,1)) -> 114.7
A7: =IF(D7="","",SUBTOTAL(3,$D$4:$D7)) -> 4 | B7: 01010013 | C7: Khoa Khoa học cơ bản | D7: Cao Thị Nga | E7: =IF($D7="","",VLOOKUP($D7,'HK1'!$D$4:$AH$259,2,0)+VLOOKUP($D7,'HK2'!$D$4:$AH$258,2,0)) -> 2 | F7: =IF($D7="","",VLOOKUP($D7,'HK1'!$D$4:$AH$259,3,0)+VLOOKUP($D7,'HK2'!$D$4:$AH$258,3,0)) -> 0 | G7: =IF($D7="","",VLOOKUP($D7,'HK1'!$D$4:$AH$259,4,0)+VLOOKUP($D7,'HK2'!$D$4:$AH$258,4,0)) -> 0 | H7: =IF($D7="","",VLOOKUP($D7,'HK1'!$D$4:$AH$259,5,0)+VLOOKUP($D7,'HK2'!$D$4:$AH$258,5,0)) -> 0 | I7: =IF($D7="","",VLOOKUP($D7,'HK1'!$D$4:$AH$259,6,0)+VLOOKUP($D7,'HK2'!$D$4:$AH$258,6,0)) -> 2 | J7: =IF($D7="","",VLOOKUP($D7,'HK1'!$D$4:$AH$259,7,0)+VLOOKUP($D7,'HK2'!$D$4:$AH$258,7,0)) -> 36 | K7: =IF($D7="","",VLOOKUP($D7,'HK1'!$D$4:$AH$259,8,0)+VLOOKUP($D7,'HK2'!$D$4:$AH$258,8,0)) -> 1.2 | L7: =IF($D7="","",VLOOKUP($D7,'HK1'!$D$4:$AH$259,9,0)+VLOOKUP($D7,'HK2'!$D$4:$AH$258,9,0)) -> 0 | M7: =IF($D7="","",VLOOKUP($D7,'HK1'!$D$4:$AH$259,10,0)+VLOOKUP($D7,'HK2'!$D$4:$AH$258,10,0)) -> 0 | N7: =IF($D7="","",VLOOKUP($D7,'HK1'!$D$4:$AH$259,11,0)+VLOOKUP($D7,'HK2'!$D$4:$AH$258,11,0)) -> 37.2 | O7: =IF($D7="","",VLOOKUP($D7,'HK1'!$D$4:$AH$259,12,0)+VLOOKUP($D7,'HK2'!$D$4:$AH$258,12,0)) -> 385 | P7: =IF($D7="","",VLOOKUP($D7,'HK1'!$D$4:$AH$259,13,0)+VLOOKUP($D7,'HK2'!$D$4:$AH$258,13,0)) -> 406 | Q7: =IF($D7="","",VLOOKUP($D7,'HK1'!$D$4:$AH$259,14,0)+VLOOKUP($D7,'HK2'!$D$4:$AH$258,14,0)) -> 293 | R7: =IF($D7="","",VLOOKUP($D7,'HK1'!$D$4:$AH$259,15,0)+VLOOKUP($D7,'HK2'!$D$4:$AH$258,15,0)) -> 24.9 | S7: =IF($D7="","",VLOOKUP($D7,'HK1'!$D$4:$AH$259,16,0)+VLOOKUP($D7,'HK2'!$D$4:$AH$258,16,0)) -> 0 | T7: =IF($D7="","",VLOOKUP($D7,'HK1'!$D$4:$AH$259,17,0)+VLOOKUP($D7,'HK2'!$D$4:$AH$258,17,0)) -> 0 | U7: =IF($D7="","",VLOOKUP($D7,'HK1'!$D$4:$AH$259,18,0)+VLOOKUP($D7,'HK2'!$D$4:$AH$258,18,0)) -> 0 | V7: =IF($D7="","",VLOOKUP($D7,'HK1'!$D$4:$AH$259,19,0)+VLOOKUP($D7,'HK2'!$D$4:$AH$258,19,0)) -> 0 | W7: =IF($D7="","",VLOOKUP($D7,'HK1'!$D$4:$AH$259,20,0)+VLOOKUP($D7,'HK2'!$D$4:$AH$258,20,0)) -> 0 | X7: =IF($D7="","",VLOOKUP($D7,'HK1'!$D$4:$AH$259,21,0)+VLOOKUP($D7,'HK2'!$D$4:$AH$258,21,0)) -> 0 | Y7: =IF($D7="","",VLOOKUP($D7,'HK1'!$D$4:$AH$259,22,0)+VLOOKUP($D7,'HK2'!$D$4:$AH$258,22,0)) -> 0 | Z7: =IF($D7="","",VLOOKUP($D7,'HK1'!$D$4:$AH$259,23,0)+VLOOKUP($D7,'HK2'!$D$4:$AH$258,23,0)) -> 0 | AA7: =IF($D7="","",VLOOKUP($D7,'HK1'!$D$4:$AH$259,24,0)+VLOOKUP($D7,'HK2'!$D$4:$AH$258,24,0)) -> 0 | AB7: =IF($D7="","",VLOOKUP($D7,'HK1'!$D$4:$AH$259,25,0)+VLOOKUP($D7,'HK2'!$D$4:$AH$258,25,0)) -> 0 | AC7: =IF($D7="","",VLOOKUP($D7,'HK1'!$D$4:$AH$259,26,0)+VLOOKUP($D7,'HK2'!$D$4:$AH$258,26,0)) -> 0 | AD7: =IF($D7="","",VLOOKUP($D7,'HK1'!$D$4:$AH$259,27,0)+VLOOKUP($D7,'HK2'!$D$4:$AH$258,27,0)) -> 0 | AE7: =IF($D7="","",VLOOKUP($D7,'HK1'!$D$4:$AH$259,28,0)+VLOOKUP($D7,'HK2'!$D$4:$AH$258,28,0)) -> 0 | AF7: =IF($D7="","",VLOOKUP($D7,'HK1'!$D$4:$AH$259,29,0)+VLOOKUP($D7,'HK2'!$D$4:$AH$258,29,0)) -> 1.2 | AG7: =IF($D7="","",VLOOKUP($D7,'HK1'!$D$4:$AH$259,30,0)+VLOOKUP($D7,'HK2'!$D$4:$AH$258,30,0)) -> 0 | AH7: =IF(D7="","",ROUND(I7+N7+R7+V7+Y7+AB7+AE7+SUM(AF7:AG7),1)) -> 65.3 | AI7: =IF(AH7="","",ROUND(AH7*10/3,1)) -> 217.7
A8: =IF(D8="","",SUBTOTAL(3,$D$4:$D8)) -> 5 | B8: 01010024 | C8: Khoa Khoa học cơ bản | D8: Đặng Thị Kiến Trúc | E8: =IF($D8="","",VLOOKUP($D8,'HK1'!$D$4:$AH$259,2,0)+VLOOKUP($D8,'HK2'!$D$4:$AH$258,2,0)) -> 0 | F8: =IF($D8="","",VLOOKUP($D8,'HK1'!$D$4:$AH$259,3,0)+VLOOKUP($D8,'HK2'!$D$4:$AH$258,3,0)) -> 0 | G8: =IF($D8="","",VLOOKUP($D8,'HK1'!$D$4:$AH$259,4,0)+VLOOKUP($D8,'HK2'!$D$4:$AH$258,4,0)) -> 0 | H8: =IF($D8="","",VLOOKUP($D8,'HK1'!$D$4:$AH$259,5,0)+VLOOKUP($D8,'HK2'!$D$4:$AH$258,5,0)) -> 0 | I8: =IF($D8="","",VLOOKUP($D8,'HK1'!$D$4:$AH$259,6,0)+VLOOKUP($D8,'HK2'!$D$4:$AH$258,6,0)) -> 0 | J8: =IF($D8="","",VLOOKUP($D8,'HK1'!$D$4:$AH$259,7,0)+VLOOKUP($D8,'HK2'!$D$4:$AH$258,7,0)) -> 26.8 | K8: =IF($D8="","",VLOOKUP($D8,'HK1'!$D$4:$AH$259,8,0)+VLOOKUP($D8,'HK2'!$D$4:$AH$258,8,0)) -> 1.2 | L8: =IF($D8="","",VLOOKUP($D8,'HK1'!$D$4:$AH$259,9,0)+VLOOKUP($D8,'HK2'!$D$4:$AH$258,9,0)) -> 0 | M8: =IF($D8="","",VLOOKUP($D8,'HK1'!$D$4:$AH$259,10,0)+VLOOKUP($D8,'HK2'!$D$4:$AH$258,10,0)) -> 0 | N8: =IF($D8="","",VLOOKUP($D8,'HK1'!$D$4:$AH$259,11,0)+VLOOKUP($D8,'HK2'!$D$4:$AH$258,11,0)) -> 28 | O8: =IF($D8="","",VLOOKUP($D8,'HK1'!$D$4:$AH$259,12,0)+VLOOKUP($D8,'HK2'!$D$4:$AH$258,12,0)) -> 753 | P8: =IF($D8="","",VLOOKUP($D8,'HK1'!$D$4:$AH$259,13,0)+VLOOKUP($D8,'HK2'!$D$4:$AH$258,13,0)) -> 1032 | Q8: =IF($D8="","",VLOOKUP($D8,'HK1'!$D$4:$AH$259,14,0)+VLOOKUP($D8,'HK2'!$D$4:$AH$258,14,0)) -> 679 | R8: =IF($D8="","",VLOOKUP($D8,'HK1'!$D$4:$AH$259,15,0)+VLOOKUP($D8,'HK2'!$D$4:$AH$258,15,0)) -> 55.3 | S8: =IF($D8="","",VLOOKUP($D8,'HK1'!$D$4:$AH$259,16,0)+VLOOKUP($D8,'HK2'!$D$4:$AH$258,16,0)) -> 0 | T8: =IF($D8="","",VLOOKUP($D8,'HK1'!$D$4:$AH$259,17,0)+VLOOKUP($D8,'HK2'!$D$4:$AH$258,17,0)) -> 0 | U8: =IF($D8="","",VLOOKUP($D8,'HK1'!$D$4:$AH$259,18,0)+VLOOKUP($D8,'HK2'!$D$4:$AH$258,18,0)) -> 0 | V8: =IF($D8="","",VLOOKUP($D8,'HK1'!$D$4:$AH$259,19,0)+VLOOKUP($D8,'HK2'!$D$4:$AH$258,19,0)) -> 0 | W8: =IF($D8="","",VLOOKUP($D8,'HK1'!$D$4:$AH$259,20,0)+VLOOKUP($D8,'HK2'!$D$4:$AH$258,20,0)) -> 0 | X8: =IF($D8="","",VLOOKUP($D8,'HK1'!$D$4:$AH$259,21,0)+VLOOKUP($D8,'HK2'!$D$4:$AH$258,21,0)) -> 0 | Y8: =IF($D8="","",VLOOKUP($D8,'HK1'!$D$4:$AH$259,22,0)+VLOOKUP($D8,'HK2'!$D$4:$AH$258,22,0)) -> 0 | Z8: =IF($D8="","",VLOOKUP($D8,'HK1'!$D$4:$AH$259,23,0)+VLOOKUP($D8,'HK2'!$D$4:$AH$258,23,0)) -> 0 | AA8: =IF($D8="","",VLOOKUP($D8,'HK1'!$D$4:$AH$259,24,0)+VLOOKUP($D8,'HK2'!$D$4:$AH$258,24,0)) -> 0 | AB8: =IF($D8="","",VLOOKUP($D8,'HK1'!$D$4:$AH$259,25,0)+VLOOKUP($D8,'HK2'!$D$4:$AH$258,25,0)) -> 0 | AC8: =IF($D8="","",VLOOKUP($D8,'HK1'!$D$4:$AH$259,26,0)+VLOOKUP($D8,'HK2'!$D$4:$AH$258,26,0)) -> 0 | AD8: =IF($D8="","",VLOOKUP($D8,'HK1'!$D$4:$AH$259,27,0)+VLOOKUP($D8,'HK2'!$D$4:$AH$258,27,0)) -> 0 | AE8: =IF($D8="","",VLOOKUP($D8,'HK1'!$D$4:$AH$259,28,0)+VLOOKUP($D8,'HK2'!$D$4:$AH$258,28,0)) -> 0 | AF8: =IF($D8="","",VLOOKUP($D8,'HK1'!$D$4:$AH$259,29,0)+VLOOKUP($D8,'HK2'!$D$4:$AH$258,29,0)) -> 1.2 | AG8: =IF($D8="","",VLOOKUP($D8,'HK1'!$D$4:$AH$259,30,0)+VLOOKUP($D8,'HK2'!$D$4:$AH$258,30,0)) -> 0 | AH8: =IF(D8="","",ROUND(I8+N8+R8+V8+Y8+AB8+AE8+SUM(AF8:AG8),1)) -> 84.5 | AI8: =IF(AH8="","",ROUND(AH8*10/3,1)) -> 281.7
A9: =IF(D9="","",SUBTOTAL(3,$D$4:$D9)) -> 6 | B9: 01010056 | C9: Khoa Khoa học cơ bản | D9: Đinh Thị Thắng | E9: =IF($D9="","",VLOOKUP($D9,'HK1'!$D$4:$AH$259,2,0)+VLOOKUP($D9,'HK2'!$D$4:$AH$258,2,0)) -> 0 | F9: =IF($D9="","",VLOOKUP($D9,'HK1'!$D$4:$AH$259,3,0)+VLOOKUP($D9,'HK2'!$D$4:$AH$258,3,0)) -> 0 | G9: =IF($D9="","",VLOOKUP($D9,'HK1'!$D$4:$AH$259,4,0)+VLOOKUP($D9,'HK2'!$D$4:$AH$258,4,0)) -> 0 | H9: =IF($D9="","",VLOOKUP($D9,'HK1'!$D$4:$AH$259,5,0)+VLOOKUP($D9,'HK2'!$D$4:$AH$258,5,0)) -> 0 | I9: =IF($D9="","",VLOOKUP($D9,'HK1'!$D$4:$AH$259,6,0)+VLOOKUP($D9,'HK2'!$D$4:$AH$258,6,0)) -> 0 | J9: =IF($D9="","",VLOOKUP($D9,'HK1'!$D$4:$AH$259,7,0)+VLOOKUP($D9,'HK2'!$D$4:$AH$258,7,0)) -> 0 | K9: =IF($D9="","",VLOOKUP($D9,'HK1'!$D$4:$AH$259,8,0)+VLOOKUP($D9,'HK2'!$D$4:$AH$258,8,0)) -> 0 | L9: =IF($D9="","",VLOOKUP($D9,'HK1'!$D$4:$AH$259,9,0)+VLOOKUP($D9,'HK2'!$D$4:$AH$258,9,0)) -> 0 | M9: =IF($D9="","",VLOOKUP($D9,'HK1'!$D$4:$AH$259,10,0)+VLOOKUP($D9,'HK2'!$D$4:$AH$258,10,0)) -> 0 | N9: =IF($D9="","",VLOOKUP($D9,'HK1'!$D$4:$AH$259,11,0)+VLOOKUP($D9,'HK2'!$D$4:$AH$258,11,0)) -> 0 | O9: =IF($D9="","",VLOOKUP($D9,'HK1'!$D$4:$AH$259,12,0)+VLOOKUP($D9,'HK2'!$D$4:$AH$258,12,0)) -> 197 | P9: =IF($D9="","",VLOOKUP($D9,'HK1'!$D$4:$AH$259,13,0)+VLOOKUP($D9,'HK2'!$D$4:$AH$258,13,0)) -> 0 | Q9: =IF($D9="","",VLOOKUP($D9,'HK1'!$D$4:$AH$259,14,0)+VLOOKUP($D9,'HK2'!$D$4:$AH$258,14,0)) -> 77 | R9: =IF($D9="","",VLOOKUP($D9,'HK1'!$D$4:$AH$259,15,0)+VLOOKUP($D9,'HK2'!$D$4:$AH$258,15,0)) -> 6 | S9: =IF($D9="","",VLOOKUP($D9,'HK1'!$D$4:$AH$259,16,0)+VLOOKUP($D9,'HK2'!$D$4:$AH$258,16,0)) -> 0 | T9: =IF($D9="","",VLOOKUP($D9,'HK1'!$D$4:$AH$259,17,0)+VLOOKUP($D9,'HK2'!$D$4:$AH$258,17,0)) -> 0 | U9: =IF($D9="","",VLOOKUP($D9,'HK1'!$D$4:$AH$259,18,0)+VLOOKUP($D9,'HK2'!$D$4:$AH$258,18,0)) -> 0 | V9: =IF($D9="","",VLOOKUP($D9,'HK1'!$D$4:$AH$259,19,0)+VLOOKUP($D9,'HK2'!$D$4:$AH$258,19,0)) -> 0 | W9: =IF($D9="","",VLOOKUP($D9,'HK1'!$D$4:$AH$259,20,0)+VLOOKUP($D9,'HK2'!$D$4:$AH$258,20,0)) -> 0 | X9: =IF($D9="","",VLOOKUP($D9,'HK1'!$D$4:$AH$259,21,0)+VLOOKUP($D9,'HK2'!$D$4:$AH$258,21,0)) -> 0 | Y9: =IF($D9="","",VLOOKUP($D9,'HK1'!$D$4:$AH$259,22,0)+VLOOKUP($D9,'HK2'!$D$4:$AH$258,22,0)) -> 0 | Z9: =IF($D9="","",VLOOKUP($D9,'HK1'!$D$4:$AH$259,23,0)+VLOOKUP($D9,'HK2'!$D$4:$AH$258,23,0)) -> 0 | AA9: =IF($D9="","",VLOOKUP($D9,'HK1'!$D$4:$AH$259,24,0)+VLOOKUP($D9,'HK2'!$D$4:$AH$258,24,0)) -> 0 | AB9: =IF($D9="","",VLOOKUP($D9,'HK1'!$D$4:$AH$259,25,0)+VLOOKUP($D9,'HK2'!$D$4:$AH$258,25,0)) -> 0 | AC9: =IF($D9="","",VLOOKUP($D9,'HK1'!$D$4:$AH$259,26,0)+VLOOKUP($D9,'HK2'!$D$4:$AH$258,26,0)) -> 0 | AD9: =IF($D9="","",VLOOKUP($D9,'HK1'!$D$4:$AH$259,27,0)+VLOOKUP($D9,'HK2'!$D$4:$AH$258,27,0)) -> 0 | AE9: =IF($D9="","",VLOOKUP($D9,'HK1'!$D$4:$AH$259,28,0)+VLOOKUP($D9,'HK2'!$D$4:$AH$258,28,0)) -> 0 | AF9: =IF($D9="","",VLOOKUP($D9,'HK1'!$D$4:$AH$259,29,0)+VLOOKUP($D9,'HK2'!$D$4:$AH$258,29,0)) -> 0 | AG9: =IF($D9="","",VLOOKUP($D9,'HK1'!$D$4:$AH$259,30,0)+VLOOKUP($D9,'HK2'!$D$4:$AH$258,30,0)) -> 0 | AH9: =IF(D9="","",ROUND(I9+N9+R9+V9+Y9+AB9+AE9+SUM(AF9:AG9),1)) -> 6 | AI9: =IF(AH9="","",ROUND(AH9*10/3,1)) -> 20
A10: =IF(D10="","",SUBTOTAL(3,$D$4:$D10)) -> 7 | B10: 01010034 | C10: Khoa Khoa học cơ bản | D10: Đinh Trần Phương Thảo | E10: =IF($D10="","",VLOOKUP($D10,'HK1'!$D$4:$AH$259,2,0)+VLOOKUP($D10,'HK2'!$D$4:$AH$258,2,0)) -> 0 | F10: =IF($D10="","",VLOOKUP($D10,'HK1'!$D$4:$AH$259,3,0)+VLOOKUP($D10,'HK2'!$D$4:$AH$258,3,0)) -> 4 | G10: =IF($D10="","",VLOOKUP($D10,'HK1'!$D$4:$AH$259,4,0)+VLOOKUP($D10,'HK2'!$D$4:$AH$258,4,0)) -> 0 | H10: =IF($D10="","",VLOOKUP($D10,'HK1'!$D$4:$AH$259,5,0)+VLOOKUP($D10,'HK2'!$D$4:$AH$258,5,0)) -> 0 | I10: =IF($D10="","",VLOOKUP($D10,'HK1'!$D$4:$AH$259,6,0)+VLOOKUP($D10,'HK2'!$D$4:$AH$258,6,0)) -> 8 | J10: =IF($D10="","",VLOOKUP($D10,'HK1'!$D$4:$AH$259,7,0)+VLOOKUP($D10,'HK2'!$D$4:$AH$258,7,0)) -> 3.6 | K10: =IF($D10="","",VLOOKUP($D10,'HK1'!$D$4:$AH$259,8,0)+VLOOKUP($D10,'HK2'!$D$4:$AH$258,8,0)) -> 45.6 | L10: =IF($D10="","",VLOOKUP($D10,'HK1'!$D$4:$AH$259,9,0)+VLOOKUP($D10,'HK2'!$D$4:$AH$258,9,0)) -> 0 | M10: =IF($D10="","",VLOOKUP($D10,'HK1'!$D$4:$AH$259,10,0)+VLOOKUP($D10,'HK2'!$D$4:$AH$258,10,0)) -> 0 | N10: =IF($D10="","",VLOOKUP($D10,'HK1'!$D$4:$AH$259,11,0)+VLOOKUP($D10,'HK2'!$D$4:$AH$258,11,0)) -> 49.2 | O10: =IF($D10="","",VLOOKUP($D10,'HK1'!$D$4:$AH$259,12,0)+VLOOKUP($D10,'HK2'!$D$4:$AH$258,12,0)) -> 0 | P10: =IF($D10="","",VLOOKUP($D10,'HK1'!$D$4:$AH$259,13,0)+VLOOKUP($D10,'HK2'!$D$4:$AH$258,13,0)) -> 0 | Q10: =IF($D10="","",VLOOKUP($D10,'HK1'!$D$4:$AH$259,14,0)+VLOOKUP($D10,'HK2'!$D$4:$AH$258,14,0)) -> 0 | R10: =IF($D10="","",VLOOKUP($D10,'HK1'!$D$4:$AH$259,15,0)+VLOOKUP($D10,'HK2'!$D$4:$AH$258,15,0)) -> 0 | S10: =IF($D10="","",VLOOKUP($D10,'HK1'!$D$4:$AH$259,16,0)+VLOOKUP($D10,'HK2'!$D$4:$AH$258,16,0)) -> 0 | T10: =IF($D10="","",VLOOKUP($D10,'HK1'!$D$4:$AH$259,17,0)+VLOOKUP($D10,'HK2'!$D$4:$AH$258,17,0)) -> 0 | U10: =IF($D10="","",VLOOKUP($D10,'HK1'!$D$4:$AH$259,18,0)+VLOOKUP($D10,'HK2'!$D$4:$AH$258,18,0)) -> 0 | V10: =IF($D10="","",VLOOKUP($D10,'HK1'!$D$4:$AH$259,19,0)+VLOOKUP($D10,'HK2'!$D$4:$AH$258,19,0)) -> 0 | W10: =IF($D10="","",VLOOKUP($D10,'HK1'!$D$4:$AH$259,20,0)+VLOOKUP($D10,'HK2'!$D$4:$AH$258,20,0)) -> 0 | X10: =IF($D10="","",VLOOKUP($D10,'HK1'!$D$4:$AH$259,21,0)+VLOOKUP($D10,'HK2'!$D$4:$AH$258,21,0)) -> 0 | Y10: =IF($D10="","",VLOOKUP($D10,'HK1'!$D$4:$AH$259,22,0)+VLOOKUP($D10,'HK2'!$D$4:$AH$258,22,0)) -> 0 | Z10: =IF($D10="","",VLOOKUP($D10,'HK1'!$D$4:$AH$259,23,0)+VLOOKUP($D10,'HK2'!$D$4:$AH$258,23,0)) -> 0 | AA10: =IF($D10="","",VLOOKUP($D10,'HK1'!$D$4:$AH$259,24,0)+VLOOKUP($D10,'HK2'!$D$4:$AH$258,24,0)) -> 0 | AB10: =IF($D10="","",VLOOKUP($D10,'HK1'!$D$4:$AH$259,25,0)+VLOOKUP($D10,'HK2'!$D$4:$AH$258,25,0)) -> 0 | AC10: =IF($D10="","",VLOOKUP($D10,'HK1'!$D$4:$AH$259,26,0)+VLOOKUP($D10,'HK2'!$D$4:$AH$258,26,0)) -> 0 | AD10: =IF($D10="","",VLOOKUP($D10,'HK1'!$D$4:$AH$259,27,0)+VLOOKUP($D10,'HK2'!$D$4:$AH$258,27,0)) -> 0 | AE10: =IF($D10="","",VLOOKUP($D10,'HK1'!$D$4:$AH$259,28,0)+VLOOKUP($D10,'HK2'!$D$4:$AH$258,28,0)) -> 0 | AF10: =IF($D10="","",VLOOKUP($D10,'HK1'!$D$4:$AH$259,29,0)+VLOOKUP($D10,'HK2'!$D$4:$AH$258,29,0)) -> 3.6 | AG10: =IF($D10="","",VLOOKUP($D10,'HK1'!$D$4:$AH$259,30,0)+VLOOKUP($D10,'HK2'!$D$4:$AH$258,30,0)) -> 0 | AH10: =IF(D10="","",ROUND(I10+N10+R10+V10+Y10+AB10+AE10+SUM(AF10:AG10),1)) -> 60.8 | AI10: =IF(AH10="","",ROUND(AH10*10/3,1)) -> 202.7
A11: =IF(D11="","",SUBTOTAL(3,$D$4:$D11)) -> 8 | B11: 01022063 | C11: Khoa Khoa học cơ bản | D11: Đinh Trần Trọng Hiếu | E11: =IF($D11="","",VLOOKUP($D11,'HK1'!$D$4:$AH$259,2,0)+VLOOKUP($D11,'HK2'!$D$4:$AH$258,2,0)) -> 0 | F11: =IF($D11="","",VLOOKUP($D11,'HK1'!$D$4:$AH$259,3,0)+VLOOKUP($D11,'HK2'!$D$4:$AH$258,3,0)) -> 0 | G11: =IF($D11="","",VLOOKUP($D11,'HK1'!$D$4:$AH$259,4,0)+VLOOKUP($D11,'HK2'!$D$4:$AH$258,4,0)) -> 0 | H11: =IF($D11="","",VLOOKUP($D11,'HK1'!$D$4:$AH$259,5,0)+VLOOKUP($D11,'HK2'!$D$4:$AH$258,5,0)) -> 0 | I11: =IF($D11="","",VLOOKUP($D11,'HK1'!$D$4:$AH$259,6,0)+VLOOKUP($D11,'HK2'!$D$4:$AH$258,6,0)) -> 0 | J11: =IF($D11="","",VLOOKUP($D11,'HK1'!$D$4:$AH$259,7,0)+VLOOKUP($D11,'HK2'!$D$4:$AH$258,7,0)) -> 0 | K11: =IF($D11="","",VLOOKUP($D11,'HK1'!$D$4:$AH$259,8,0)+VLOOKUP($D11,'HK2'!$D$4:$AH$258,8,0)) -> 0 | L11: =IF($D11="","",VLOOKUP($D11,'HK1'!$D$4:$AH$259,9,0)+VLOOKUP($D11,'HK2'!$D$4:$AH$258,9,0)) -> 0 | M11: =IF($D11="","",VLOOKUP($D11,'HK1'!$D$4:$AH$259,10,0)+VLOOKUP($D11,'HK2'!$D$4:$AH$258,10,0)) -> 0 | N11: =IF($D11="","",VLOOKUP($D11,'HK1'!$D$4:$AH$259,11,0)+VLOOKUP($D11,'HK2'!$D$4:$AH$258,11,0)) -> 0 | O11: =IF($D11="","",VLOOKUP($D11,'HK1'!$D$4:$AH$259,12,0)+VLOOKUP($D11,'HK2'!$D$4:$AH$258,12,0)) -> 0 | P11: =IF($D11="","",VLOOKUP($D11,'HK1'!$D$4:$AH$259,13,0)+VLOOKUP($D11,'HK2'!$D$4:$AH$258,13,0)) -> 0 | Q11: =IF($D11="","",VLOOKUP($D11,'HK1'!$D$4:$AH$259,14,0)+VLOOKUP($D11,'HK2'!$D$4:$AH$258,14,0)) -> 0 | R11: =IF($D11="","",VLOOKUP($D11,'HK1'!$D$4:$AH$259,15,0)+VLOOKUP($D11,'HK2'!$D$4:$AH$258,15,0)) -> 0 | S11: =IF($D11="","",VLOOKUP($D11,'HK1'!$D$4:$AH$259,16,0)+VLOOKUP($D11,'HK2'!$D$4:$AH$258,16,0)) -> 0 | T11: =IF($D11="","",VLOOKUP($D11,'HK1'!$D$4:$AH$259,17,0)+VLOOKUP($D11,'HK2'!$D$4:$AH$258,17,0)) -> 0 | U11: =IF($D11="","",VLOOKUP($D11,'HK1'!$D$4:$AH$259,18,0)+VLOOKUP($D11,'HK2'!$D$4:$AH$258,18,0)) -> 0 | V11: =IF($D11="","",VLOOKUP($D11,'HK1'!$D$4:$AH$259,19,0)+VLOOKUP($D11,'HK2'!$D$4:$AH$258,19,0)) -> 0 | W11: =IF($D11="","",VLOOKUP($D11,'HK1'!$D$4:$AH$259,20,0)+VLOOKUP($D11,'HK2'!$D$4:$AH$258,20,0)) -> 0 | X11: =IF($D11="","",VLOOKUP($D11,'HK1'!$D$4:$AH$259,21,0)+VLOOKUP($D11,'HK2'!$D$4:$AH$258,21,0)) -> 0 | Y11: =IF($D11="","",VLOOKUP($D11,'HK1'!$D$4:$AH$259,22,0)+VLOOKUP($D11,'HK2'!$D$4:$AH$258,22,0)) -> 0 | Z11: =IF($D11="","",VLOOKUP($D11,'HK1'!$D$4:$AH$259,23,0)+VLOOKUP($D11,'HK2'!$D$4:$AH$258,23,0)) -> 0 | AA11: =IF($D11="","",VLOOKUP($D11,'HK1'!$D$4:$AH$259,24,0)+VLOOKUP($D11,'HK2'!$D$4:$AH$258,24,0)) -> 0 | AB11: =IF($D11="","",VLOOKUP($D11,'HK1'!$D$4:$AH$259,25,0)+VLOOKUP($D11,'HK2'!$D$4:$AH$258,25,0)) -> 0 | AC11: =IF($D11="","",VLOOKUP($D11,'HK1'!$D$4:$AH$259,26,0)+VLOOKUP($D11,'HK2'!$D$4:$AH$258,26,0)) -> 0 | AD11: =IF($D11="","",VLOOKUP($D11,'HK1'!$D$4:$AH$259,27,0)+VLOOKUP($D11,'HK2'!$D$4:$AH$258,27,0)) -> 0 | AE11: =IF($D11="","",VLOOKUP($D11,'HK1'!$D$4:$AH$259,28,0)+VLOOKUP($D11,'HK2'!$D$4:$AH$258,28,0)) -> 0 | AF11: =IF($D11="","",VLOOKUP($D11,'HK1'!$D$4:$AH$259,29,0)+VLOOKUP($D11,'HK2'!$D$4:$AH$258,29,0)) -> 0 | AG11: =IF($D11="","",VLOOKUP($D11,'HK1'!$D$4:$AH$259,30,0)+VLOOKUP($D11,'HK2'!$D$4:$AH$258,30,0)) -> 0 | AH11: =IF(D11="","",ROUND(I11+N11+R11+V11+Y11+AB11+AE11+SUM(AF11:AG11),1)) -> 0 | AI11: =IF(AH11="","",ROUND(AH11*10/3,1)) -> 0
A12: =IF(D12="","",SUBTOTAL(3,$D$4:$D12)) -> 9 | B12: 01010049 | C12: Khoa Khoa học cơ bản | D12: Đoàn Thị Điểm | E12: =IF($D12="","",VLOOKUP($D12,'HK1'!$D$4:$AH$259,2,0)+VLOOKUP($D12,'HK2'!$D$4:$AH$258,2,0)) -> 0 | F12: =IF($D12="","",VLOOKUP($D12,'HK1'!$D$4:$AH$259,3,0)+VLOOKUP($D12,'HK2'!$D$4:$AH$258,3,0)) -> 0 | G12: =IF($D12="","",VLOOKUP($D12,'HK1'!$D$4:$AH$259,4,0)+VLOOKUP($D12,'HK2'!$D$4:$AH$258,4,0)) -> 0 | H12: =IF($D12="","",VLOOKUP($D12,'HK1'!$D$4:$AH$259,5,0)+VLOOKUP($D12,'HK2'!$D$4:$AH$258,5,0)) -> 0 | I12: =IF($D12="","",VLOOKUP($D12,'HK1'!$D$4:$AH$259,6,0)+VLOOKUP($D12,'HK2'!$D$4:$AH$258,6,0)) -> 0 | J12: =IF($D12="","",VLOOKUP($D12,'HK1'!$D$4:$AH$259,7,0)+VLOOKUP($D12,'HK2'!$D$4:$AH$258,7,0)) -> 0 | K12: =IF($D12="","",VLOOKUP($D12,'HK1'!$D$4:$AH$259,8,0)+VLOOKUP($D12,'HK2'!$D$4:$AH$258,8,0)) -> 0 | L12: =IF($D12="","",VLOOKUP($D12,'HK1'!$D$4:$AH$259,9,0)+VLOOKUP($D12,'HK2'!$D$4:$AH$258,9,0)) -> 0 | M12: =IF($D12="","",VLOOKUP($D12,'HK1'!$D$4:$AH$259,10,0)+VLOOKUP($D12,'HK2'!$D$4:$AH$258,10,0)) -> 0 | N12: =IF($D12="","",VLOOKUP($D12,'HK1'!$D$4:$AH$259,11,0)+VLOOKUP($D12,'HK2'!$D$4:$AH$258,11,0)) -> 0 | O12: =IF($D12="","",VLOOKUP($D12,'HK1'!$D$4:$AH$259,12,0)+VLOOKUP($D12,'HK2'!$D$4:$AH$258,12,0)) -> 319 | P12: =IF($D12="","",VLOOKUP($D12,'HK1'!$D$4:$AH$259,13,0)+VLOOKUP($D12,'HK2'!$D$4:$AH$258,13,0)) -> 245 | Q12: =IF($D12="","",VLOOKUP($D12,'HK1'!$D$4:$AH$259,14,0)+VLOOKUP($D12,'HK2'!$D$4:$AH$258,14,0)) -> 302 | R12: =IF($D12="","",VLOOKUP($D12,'HK1'!$D$4:$AH$259,15,0)+VLOOKUP($D12,'HK2'!$D$4:$AH$258,15,0)) -> 13.1 | S12: =IF($D12="","",VLOOKUP($D12,'HK1'!$D$4:$AH$259,16,0)+VLOOKUP($D12,'HK2'!$D$4:$AH$258,16,0)) -> 0 | T12: =IF($D12="","",VLOOKUP($D12,'HK1'!$D$4:$AH$259,17,0)+VLOOKUP($D12,'HK2'!$D$4:$AH$258,17,0)) -> 0 | U12: =IF($D12="","",VLOOKUP($D12,'HK1'!$D$4:$AH$259,18,0)+VLOOKUP($D12,'HK2'!$D$4:$AH$258,18,0)) -> 0 | V12: =IF($D12="","",VLOOKUP($D12,'HK1'!$D$4:$AH$259,19,0)+VLOOKUP($D12,'HK2'!$D$4:$AH$258,19,0)) -> 0 | W12: =IF($D12="","",VLOOKUP($D12,'HK1'!$D$4:$AH$259,20,0)+VLOOKUP($D12,'HK2'!$D$4:$AH$258,20,0)) -> 0 | X12: =IF($D12="","",VLOOKUP($D12,'HK1'!$D$4:$AH$259,21,0)+VLOOKUP($D12,'HK2'!$D$4:$AH$258,21,0)) -> 0 | Y12: =IF($D12="","",VLOOKUP($D12,'HK1'!$D$4:$AH$259,22,0)+VLOOKUP($D12,'HK2'!$D$4:$AH$258,22,0)) -> 0 | Z12: =IF($D12="","",VLOOKUP($D12,'HK1'!$D$4:$AH$259,23,0)+VLOOKUP($D12,'HK2'!$D$4:$AH$258,23,0)) -> 0 | AA12: =IF($D12="","",VLOOKUP($D12,'HK1'!$D$4:$AH$259,24,0)+VLOOKUP($D12,'HK2'!$D$4:$AH$258,24,0)) -> 0 | AB12: =IF($D12="","",VLOOKUP($D12,'HK1'!$D$4:$AH$259,25,0)+VLOOKUP($D12,'HK2'!$D$4:$AH$258,25,0)) -> 0 | AC12: =IF($D12="","",VLOOKUP($D12,'HK1'!$D$4:$AH$259,26,0)+VLOOKUP($D12,'HK2'!$D$4:$AH$258,26,0)) -> 0 | AD12: =IF($D12="","",VLOOKUP($D12,'HK1'!$D$4:$AH$259,27,0)+VLOOKUP($D12,'HK2'!$D$4:$AH$258,27,0)) -> 0 | AE12: =IF($D12="","",VLOOKUP($D12,'HK1'!$D$4:$AH$259,28,0)+VLOOKUP($D12,'HK2'!$D$4:$AH$258,28,0)) -> 0 | AF12: =IF($D12="","",VLOOKUP($D12,'HK1'!$D$4:$AH$259,29,0)+VLOOKUP($D12,'HK2'!$D$4:$AH$258,29,0)) -> 0 | AG12: =IF($D12="","",VLOOKUP($D12,'HK1'!$D$4:$AH$259,30,0)+VLOOKUP($D12,'HK2'!$D$4:$AH$258,30,0)) -> 0 | AH12: =IF(D12="","",ROUND(I12+N12+R12+V12+Y12+AB12+AE12+SUM(AF12:AG12),1)) -> 13.1 | AI12: =IF(AH12="","",ROUND(AH12*10/3,1)) -> 43.7
A13: =IF(D13="","",SUBTOTAL(3,$D$4:$D13)) -> 10 | B13: 01010037 | C13: Khoa Khoa học cơ bản | D13: Dương Đức Kiên | E13: =IF($D13="","",VLOOKUP($D13,'HK1'!$D$4:$AH$259,2,0)+VLOOKUP($D13,'HK2'!$D$4:$AH$258,2,0)) -> 4 | F13: =IF($D13="","",VLOOKUP($D13,'HK1'!$D$4:$AH$259,3,0)+VLOOKUP($D13,'HK2'!$D$4:$AH$258,3,0)) -> 0 | G13: =IF($D13="","",VLOOKUP($D13,'HK1'!$D$4:$AH$259,4,0)+VLOOKUP($D13,'HK2'!$D$4:$AH$258,4,0)) -> 0 | H13: =IF($D13="","",VLOOKUP($D13,'HK1'!$D$4:$AH$259,5,0)+VLOOKUP($D13,'HK2'!$D$4:$AH$258,5,0)) -> 0 | I13: =IF($D13="","",VLOOKUP($D13,'HK1'!$D$4:$AH$259,6,0)+VLOOKUP($D13,'HK2'!$D$4:$AH$258,6,0)) -> 4 | J13: =IF($D13="","",VLOOKUP($D13,'HK1'!$D$4:$AH$259,7,0)+VLOOKUP($D13,'HK2'!$D$4:$AH$258,7,0)) -> 20.4 | K13: =IF($D13="","",VLOOKUP($D13,'HK1'!$D$4:$AH$259,8,0)+VLOOKUP($D13,'HK2'!$D$4:$AH$258,8,0)) -> 18.8 | L13: =IF($D13="","",VLOOKUP($D13,'HK1'!$D$4:$AH$259,9,0)+VLOOKUP($D13,'HK2'!$D$4:$AH$258,9,0)) -> 0 | M13: =IF($D13="","",VLOOKUP($D13,'HK1'!$D$4:$AH$259,10,0)+VLOOKUP($D13,'HK2'!$D$4:$AH$258,10,0)) -> 0 | N13: =IF($D13="","",VLOOKUP($D13,'HK1'!$D$4:$AH$259,11,0)+VLOOKUP($D13,'HK2'!$D$4:$AH$258,11,0)) -> 39.2 | O13: =IF($D13="","",VLOOKUP($D13,'HK1'!$D$4:$AH$259,12,0)+VLOOKUP($D13,'HK2'!$D$4:$AH$258,12,0)) -> 775 | P13: =IF($D13="","",VLOOKUP($D13,'HK1'!$D$4:$AH$259,13,0)+VLOOKUP($D13,'HK2'!$D$4:$AH$258,13,0)) -> 747 | Q13: =IF($D13="","",VLOOKUP($D13,'HK1'!$D$4:$AH$259,14,0)+VLOOKUP($D13,'HK2'!$D$4:$AH$258,14,0)) -> 632 | R13: =IF($D13="","",VLOOKUP($D13,'HK1'!$D$4:$AH$259,15,0)+VLOOKUP($D13,'HK2'!$D$4:$AH$258,15,0)) -> 44.5 | S13: =IF($D13="","",VLOOKUP($D13,'HK1'!$D$4:$AH$259,16,0)+VLOOKUP($D13,'HK2'!$D$4:$AH$258,16,0)) -> 0 | T13: =IF($D13="","",VLOOKUP($D13,'HK1'!$D$4:$AH$259,17,0)+VLOOKUP($D13,'HK2'!$D$4:$AH$258,17,0)) -> 0 | U13: =IF($D13="","",VLOOKUP($D13,'HK1'!$D$4:$AH$259,18,0)+VLOOKUP($D13,'HK2'!$D$4:$AH$258,18,0)) -> 0 | V13: =IF($D13="","",VLOOKUP($D13,'HK1'!$D$4:$AH$259,19,0)+VLOOKUP($D13,'HK2'!$D$4:$AH$258,19,0)) -> 0 | W13: =IF($D13="","",VLOOKUP($D13,'HK1'!$D$4:$AH$259,20,0)+VLOOKUP($D13,'HK2'!$D$4:$AH$258,20,0)) -> 0 | X13: =IF($D13="","",VLOOKUP($D13,'HK1'!$D$4:$AH$259,21,0)+VLOOKUP($D13,'HK2'!$D$4:$AH$258,21,0)) -> 0 | Y13: =IF($D13="","",VLOOKUP($D13,'HK1'!$D$4:$AH$259,22,0)+VLOOKUP($D13,'HK2'!$D$4:$AH$258,22,0)) -> 0 | Z13: =IF($D13="","",VLOOKUP($D13,'HK1'!$D$4:$AH$259,23,0)+VLOOKUP($D13,'HK2'!$D$4:$AH$258,23,0)) -> 0 | AA13: =IF($D13="","",VLOOKUP($D13,'HK1'!$D$4:$AH$259,24,0)+VLOOKUP($D13,'HK2'!$D$4:$AH$258,24,0)) -> 0 | AB13: =IF($D13="","",VLOOKUP($D13,'HK1'!$D$4:$AH$259,25,0)+VLOOKUP($D13,'HK2'!$D$4:$AH$258,25,0)) -> 0 | AC13: =IF($D13="","",VLOOKUP($D13,'HK1'!$D$4:$AH$259,26,0)+VLOOKUP($D13,'HK2'!$D$4:$AH$258,26,0)) -> 0 | AD13: =IF($D13="","",VLOOKUP($D13,'HK1'!$D$4:$AH$259,27,0)+VLOOKUP($D13,'HK2'!$D$4:$AH$258,27,0)) -> 0 | AE13: =IF($D13="","",VLOOKUP($D13,'HK1'!$D$4:$AH$259,28,0)+VLOOKUP($D13,'HK2'!$D$4:$AH$258,28,0)) -> 0 | AF13: =IF($D13="","",VLOOKUP($D13,'HK1'!$D$4:$AH$259,29,0)+VLOOKUP($D13,'HK2'!$D$4:$AH$258,29,0)) -> 2.4 | AG13: =IF($D13="","",VLOOKUP($D13,'HK1'!$D$4:$AH$259,30,0)+VLOOKUP($D13,'HK2'!$D$4:$AH$258,30,0)) -> 0 | AH13: =IF(D13="","",ROUND(I13+N13+R13+V13+Y13+AB13+AE13+SUM(AF13:AG13),1)) -> 90.1 | AI13: =IF(AH13="","",ROUND(AH13*10/3,1)) -> 300.3
A14: =IF(D14="","",SUBTOTAL(3,$D$4:$D14)) -> 11 | B14: 01010030 | C14: Khoa Khoa học cơ bản | D14: Giang Phi Hùng | E14: =IF($D14="","",VLOOKUP($D14,'HK1'!$D$4:$AH$259,2,0)+VLOOKUP($D14,'HK2'!$D$4:$AH$258,2,0)) -> 0 | F14: =IF($D14="","",VLOOKUP($D14,'HK1'!$D$4:$AH$259,3,0)+VLOOKUP($D14,'HK2'!$D$4:$AH$258,3,0)) -> 0 | G14: =IF($D14="","",VLOOKUP($D14,'HK1'!$D$4:$AH$259,4,0)+VLOOKUP($D14,'HK2'!$D$4:$AH$258,4,0)) -> 0 | H14: =IF($D14="","",VLOOKUP($D14,'HK1'!$D$4:$AH$259,5,0)+VLOOKUP($D14,'HK2'!$D$4:$AH$258,5,0)) -> 0 | I14: =IF($D14="","",VLOOKUP($D14,'HK1'!$D$4:$AH$259,6,0)+VLOOKUP($D14,'HK2'!$D$4:$AH$258,6,0)) -> 0 | J14: =IF($D14="","",VLOOKUP($D14,'HK1'!$D$4:$AH$259,7,0)+VLOOKUP($D14,'HK2'!$D$4:$AH$258,7,0)) -> 0 | K14: =IF($D14="","",VLOOKUP($D14,'HK1'!$D$4:$AH$259,8,0)+VLOOKUP($D14,'HK2'!$D$4:$AH$258,8,0)) -> 0 | L14: =IF($D14="","",VLOOKUP($D14,'HK1'!$D$4:$AH$259,9,0)+VLOOKUP($D14,'HK2'!$D$4:$AH$258,9,0)) -> 0 | M14: =IF($D14="","",VLOOKUP($D14,'HK1'!$D$4:$AH$259,10,0)+VLOOKUP($D14,'HK2'!$D$4:$AH$258,10,0)) -> 0 | N14: =IF($D14="","",VLOOKUP($D14,'HK1'!$D$4:$AH$259,11,0)+VLOOKUP($D14,'HK2'!$D$4:$AH$258,11,0)) -> 0 | O14: =IF($D14="","",VLOOKUP($D14,'HK1'!$D$4:$AH$259,12,0)+VLOOKUP($D14,'HK2'!$D$4:$AH$258,12,0)) -> 0 | P14: =IF($D14="","",VLOOKUP($D14,'HK1'!$D$4:$AH$259,13,0)+VLOOKUP($D14,'HK2'!$D$4:$AH$258,13,0)) -> 0 | Q14: =IF($D14="","",VLOOKUP($D14,'HK1'!$D$4:$AH$259,14,0)+VLOOKUP($D14,'HK2'!$D$4:$AH$258,14,0)) -> 0 | R14: =IF($D14="","",VLOOKUP($D14,'HK1'!$D$4:$AH$259,15,0)+VLOOKUP($D14,'HK2'!$D$4:$AH$258,15,0)) -> 0 | S14: =IF($D14="","",VLOOKUP($D14,'HK1'!$D$4:$AH$259,16,0)+VLOOKUP($D14,'HK2'!$D$4:$AH$258,16,0)) -> 0 | T14: =IF($D14="","",VLOOKUP($D14,'HK1'!$D$4:$AH$259,17,0)+VLOOKUP($D14,'HK2'!$D$4:$AH$258,17,0)) -> 0 | U14: =IF($D14="","",VLOOKUP($D14,'HK1'!$D$4:$AH$259,18,0)+VLOOKUP($D14,'HK2'!$D$4:$AH$258,18,0)) -> 0 | V14: =IF($D14="","",VLOOKUP($D14,'HK1'!$D$4:$AH$259,19,0)+VLOOKUP($D14,'HK2'!$D$4:$AH$258,19,0)) -> 0 | W14: =IF($D14="","",VLOOKUP($D14,'HK1'!$D$4:$AH$259,20,0)+VLOOKUP($D14,'HK2'!$D$4:$AH$258,20,0)) -> 0 | X14: =IF($D14="","",VLOOKUP($D14,'HK1'!$D$4:$AH$259,21,0)+VLOOKUP($D14,'HK2'!$D$4:$AH$258,21,0)) -> 0 | Y14: =IF($D14="","",VLOOKUP($D14,'HK1'!$D$4:$AH$259,22,0)+VLOOKUP($D14,'HK2'!$D$4:$AH$258,22,0)) -> 0 | Z14: =IF($D14="","",VLOOKUP($D14,'HK1'!$D$4:$AH$259,23,0)+VLOOKUP($D14,'HK2'!$D$4:$AH$258,23,0)) -> 0 | AA14: =IF($D14="","",VLOOKUP($D14,'HK1'!$D$4:$AH$259,24,0)+VLOOKUP($D14,'HK2'!$D$4:$AH$258,24,0)) -> 0 | AB14: =IF($D14="","",VLOOKUP($D14,'HK1'!$D$4:$AH$259,25,0)+VLOOKUP($D14,'HK2'!$D$4:$AH$258,25,0)) -> 0 | AC14: =IF($D14="","",VLOOKUP($D14,'HK1'!$D$4:$AH$259,26,0)+VLOOKUP($D14,'HK2'!$D$4:$AH$258,26,0)) -> 0 | AD14: =IF($D14="","",VLOOKUP($D14,'HK1'!$D$4:$AH$259,27,0)+VLOOKUP($D14,'HK2'!$D$4:$AH$258,27,0)) -> 0 | AE14: =IF($D14="","",VLOOKUP($D14,'HK1'!$D$4:$AH$259,28,0)+VLOOKUP($D14,'HK2'!$D$4:$AH$258,28,0)) -> 0 | AF14: =IF($D14="","",VLOOKUP($D14,'HK1'!$D$4:$AH$259,29,0)+VLOOKUP($D14,'HK2'!$D$4:$AH$258,29,0)) -> 0 | AG14: =IF($D14="","",VLOOKUP($D14,'HK1'!$D$4:$AH$259,30,0)+VLOOKUP($D14,'HK2'!$D$4:$AH$258,30,0)) -> 0 | AH14: =IF(D14="","",ROUND(I14+N14+R14+V14+Y14+AB14+AE14+SUM(AF14:AG14),1)) -> 0 | AI14: =IF(AH14="","",ROUND(AH14*10/3,1)) -> 0
A15: =IF(D15="","",SUBTOTAL(3,$D$4:$D15)) -> 12 | B15: 01010031 | C15: Khoa Khoa học cơ bản | D15: Hà Như Mai | E15: =IF($D15="","",VLOOKUP($D15,'HK1'!$D$4:$AH$259,2,0)+VLOOKUP($D15,'HK2'!$D$4:$AH$258,2,0)) -> 6 | F15: =IF($D15="","",VLOOKUP($D15,'HK1'!$D$4:$AH$259,3,0)+VLOOKUP($D15,'HK2'!$D$4:$AH$258,3,0)) -> 0 | G15: =IF($D15="","",VLOOKUP($D15,'HK1'!$D$4:$AH$259,4,0)+VLOOKUP($D15,'HK2'!$D$4:$AH$258,4,0)) -> 0 | H15: =IF($D15="","",VLOOKUP($D15,'HK1'!$D$4:$AH$259,5,0)+VLOOKUP($D15,'HK2'!$D$4:$AH$258,5,0)) -> 0 | I15: =IF($D15="","",VLOOKUP($D15,'HK1'!$D$4:$AH$259,6,0)+VLOOKUP($D15,'HK2'!$D$4:$AH$258,6,0)) -> 6 | J15: =IF($D15="","",VLOOKUP($D15,'HK1'!$D$4:$AH$259,7,0)+VLOOKUP($D15,'HK2'!$D$4:$AH$258,7,0)) -> 23.2 | K15: =IF($D15="","",VLOOKUP($D15,'HK1'!$D$4:$AH$259,8,0)+VLOOKUP($D15,'HK2'!$D$4:$AH$258,8,0)) -> 1.2 | L15: =IF($D15="","",VLOOKUP($D15,'HK1'!$D$4:$AH$259,9,0)+VLOOKUP($D15,'HK2'!$D$4:$AH$258,9,0)) -> 0 | M15: =IF($D15="","",VLOOKUP($D15,'HK1'!$D$4:$AH$259,10,0)+VLOOKUP($D15,'HK2'!$D$4:$AH$258,10,0)) -> 0 | N15: =IF($D15="","",VLOOKUP($D15,'HK1'!$D$4:$AH$259,11,0)+VLOOKUP($D15,'HK2'!$D$4:$AH$258,11,0)) -> 24.4 | O15: =IF($D15="","",VLOOKUP($D15,'HK1'!$D$4:$AH$259,12,0)+VLOOKUP($D15,'HK2'!$D$4:$AH$258,12,0)) -> 703 | P15: =IF($D15="","",VLOOKUP($D15,'HK1'!$D$4:$AH$259,13,0)+VLOOKUP($D15,'HK2'!$D$4:$AH$258,13,0)) -> 662 | Q15: =IF($D15="","",VLOOKUP($D15,'HK1'!$D$4:$AH$259,14,0)+VLOOKUP($D15,'HK2'!$D$4:$AH$258,14,0)) -> 622 | R15: =IF($D15="","",VLOOKUP($D15,'HK1'!$D$4:$AH$259,15,0)+VLOOKUP($D15,'HK2'!$D$4:$AH$258,15,0)) -> 37.15 | S15: =IF($D15="","",VLOOKUP($D15,'HK1'!$D$4:$AH$259,16,0)+VLOOKUP($D15,'HK2'!$D$4:$AH$258,16,0)) -> 0 | T15: =IF($D15="","",VLOOKUP($D15,'HK1'!$D$4:$AH$259,17,0)+VLOOKUP($D15,'HK2'!$D$4:$AH$258,17,0)) -> 0 | U15: =IF($D15="","",VLOOKUP($D15,'HK1'!$D$4:$AH$259,18,0)+VLOOKUP($D15,'HK2'!$D$4:$AH$258,18,0)) -> 0 | V15: =IF($D15="","",VLOOKUP($D15,'HK1'!$D$4:$AH$259,19,0)+VLOOKUP($D15,'HK2'!$D$4:$AH$258,19,0)) -> 0 | W15: =IF($D15="","",VLOOKUP($D15,'HK1'!$D$4:$AH$259,20,0)+VLOOKUP($D15,'HK2'!$D$4:$AH$258,20,0)) -> 0 | X15: =IF($D15="","",VLOOKUP($D15,'HK1'!$D$4:$AH$259,21,0)+VLOOKUP($D15,'HK2'!$D$4:$AH$258,21,0)) -> 0 | Y15: =IF($D15="","",VLOOKUP($D15,'HK1'!$D$4:$AH$259,22,0)+VLOOKUP($D15,'HK2'!$D$4:$AH$258,22,0)) -> 0 | Z15: =IF($D15="","",VLOOKUP($D15,'HK1'!$D$4:$AH$259,23,0)+VLOOKUP($D15,'HK2'!$D$4:$AH$258,23,0)) -> 0 | AA15: =IF($D15="","",VLOOKUP($D15,'HK1'!$D$4:$AH$259,24,0)+VLOOKUP($D15,'HK2'!$D$4:$AH$258,24,0)) -> 0 | AB15: =IF($D15="","",VLOOKUP($D15,'HK1'!$D$4:$AH$259,25,0)+VLOOKUP($D15,'HK2'!$D$4:$AH$258,25,0)) -> 0 | AC15: =IF($D15="","",VLOOKUP($D15,'HK1'!$D$4:$AH$259,26,0)+VLOOKUP($D15,'HK2'!$D$4:$AH$258,26,0)) -> 0 | AD15: =IF($D15="","",VLOOKUP($D15,'HK1'!$D$4:$AH$259,27,0)+VLOOKUP($D15,'HK2'!$D$4:$AH$258,27,0)) -> 0 | AE15: =IF($D15="","",VLOOKUP($D15,'HK1'!$D$4:$AH$259,28,0)+VLOOKUP($D15,'HK2'!$D$4:$AH$258,28,0)) -> 0 | AF15: =IF($D15="","",VLOOKUP($D15,'HK1'!$D$4:$AH$259,29,0)+VLOOKUP($D15,'HK2'!$D$4:$AH$258,29,0)) -> 4.8 | AG15: =IF($D15="","",VLOOKUP($D15,'HK1'!$D$4:$AH$259,30,0)+VLOOKUP($D15,'HK2'!$D$4:$AH$258,30,0)) -> 0 | AH15: =IF(D15="","",ROUND(I15+N15+R15+V15+Y15+AB15+AE15+SUM(AF15:AG15),1)) -> 72.4 | AI15: =IF(AH15="","",ROUND(AH15*10/3,1)) -> 241.3
... A64: =IF(D64="","",SUBTOTAL(3,$D$4:$D64)) -> 61 | B64: 01005007 | C64: Phòng TC-HC-TH | D64: Nguyễn Thành Nam | E64: =IF($D64="","",VLOOKUP($D64,'HK1'!$D$4:$AH$259,2,0)+VLOOKUP($D64,'HK2'!$D$4:$AH$258,2,0)) -> 0 | F64: =IF($D64="","",VLOOKUP($D64,'HK1'!$D$4:$AH$259,3,0)+VLOOKUP($D64,'HK2'!$D$4:$AH$258,3,0)) -> 0 | G64: =IF($D64="","",VLOOKUP($D64,'HK1'!$D$4:$AH$259,4,0)+VLOOKUP($D64,'HK2'!$D$4:$AH$258,4,0)) -> 0 | H64: =IF($D64="","",VLOOKUP($D64,'HK1'!$D$4:$AH$259,5,0)+VLOOKUP($D64,'HK2'!$D$4:$AH$258,5,0)) -> 0 | I64: =IF($D64="","",VLOOKUP($D64,'HK1'!$D$4:$AH$259,6,0)+VLOOKUP($D64,'HK2'!$D$4:$AH$258,6,0)) -> 0 | J64: =IF($D64="","",VLOOKUP($D64,'HK1'!$D$4:$AH$259,7,0)+VLOOKUP($D64,'HK2'!$D$4:$AH$258,7,0)) -> 0 | K64: =IF($D64="","",VLOOKUP($D64,'HK1'!$D$4:$AH$259,8,0)+VLOOKUP($D64,'HK2'!$D$4:$AH$258,8,0)) -> 0 | L64: =IF($D64="","",VLOOKUP($D64,'HK1'!$D$4:$AH$259,9,0)+VLOOKUP($D64,'HK2'!$D$4:$AH$258,9,0)) -> 0 | M64: =IF($D64="","",VLOOKUP($D64,'HK1'!$D$4:$AH$259,10,0)+VLOOKUP($D64,'HK2'!$D$4:$AH$258,10,0)) -> 0 | N64: =IF($D64="","",VLOOKUP($D64,'HK1'!$D$4:$AH$259,11,0)+VLOOKUP($D64,'HK2'!$D$4:$AH$258,11,0)) -> 0 | O64: =IF($D64="","",VLOOKUP($D64,'HK1'!$D$4:$AH$259,12,0)+VLOOKUP($D64,'HK2'!$D$4:$AH$258,12,0)) -> 94 | P64: =IF($D64="","",VLOOKUP($D64,'HK1'!$D$4:$AH$259,13,0)+VLOOKUP($D64,'HK2'!$D$4:$AH$258,13,0)) -> 87 | Q64: =IF($D64="","",VLOOKUP($D64,'HK1'!$D$4:$AH$259,14,0)+VLOOKUP($D64,'HK2'!$D$4:$AH$258,14,0)) -> 105 | R64: =IF($D64="","",VLOOKUP($D64,'HK1'!$D$4:$AH$259,15,0)+VLOOKUP($D64,'HK2'!$D$4:$AH$258,15,0)) -> 3.8 | S64: =IF($D64="","",VLOOKUP($D64,'HK1'!$D$4:$AH$259,16,0)+VLOOKUP($D64,'HK2'!$D$4:$AH$258,16,0)) -> 0 | T64: =IF($D64="","",VLOOKUP($D64,'HK1'!$D$4:$AH$259,17,0)+VLOOKUP($D64,'HK2'!$D$4:$AH$258,17,0)) -> 0 | U64: =IF($D64="","",VLOOKUP($D64,'HK1'!$D$4:$AH$259,18,0)+VLOOKUP($D64,'HK2'!$D$4:$AH$258,18,0)) -> 0 | V64: =IF($D64="","",VLOOKUP($D64,'HK1'!$D$4:$AH$259,19,0)+VLOOKUP($D64,'HK2'!$D$4:$AH$258,19,0)) -> 0 | W64: =IF($D64="","",VLOOKUP($D64,'HK1'!$D$4:$AH$259,20,0)+VLOOKUP($D64,'HK2'!$D$4:$AH$258,20,0)) -> 0 | X64: =IF($D64="","",VLOOKUP($D64,'HK1'!$D$4:$AH$259,21,0)+VLOOKUP($D64,'HK2'!$D$4:$AH$258,21,0)) -> 0 | Y64: =IF($D64="","",VLOOKUP($D64,'HK1'!$D$4:$AH$259,22,0)+VLOOKUP($D64,'HK2'!$D$4:$AH$258,22,0)) -> 0 | Z64: =IF($D64="","",VLOOKUP($D64,'HK1'!$D$4:$AH$259,23,0)+VLOOKUP($D64,'HK2'!$D$4:$AH$258,23,0)) -> 0 | AA64: =IF($D64="","",VLOOKUP($D64,'HK1'!$D$4:$AH$259,24,0)+VLOOKUP($D64,'HK2'!$D$4:$AH$258,24,0)) -> 0 | AB64: =IF($D64="","",VLOOKUP($D64,'HK1'!$D$4:$AH$259,25,0)+VLOOKUP($D64,'HK2'!$D$4:$AH$258,25,0)) -> 0 | AC64: =IF($D64="","",VLOOKUP($D64,'HK1'!$D$4:$AH$259,26,0)+VLOOKUP($D64,'HK2'!$D$4:$AH$258,26,0)) -> 0 | AD64: =IF($D64="","",VLOOKUP($D64,'HK1'!$D$4:$AH$259,27,0)+VLOOKUP($D64,'HK2'!$D$4:$AH$258,27,0)) -> 0 | AE64: =IF($D64="","",VLOOKUP($D64,'HK1'!$D$4:$AH$259,28,0)+VLOOKUP($D64,'HK2'!$D$4:$AH$258,28,0)) -> 0 | AF64: =IF($D64="","",VLOOKUP($D64,'HK1'!$D$4:$AH$259,29,0)+VLOOKUP($D64,'HK2'!$D$4:$AH$258,29,0)) -> 0 | AG64: =IF($D64="","",VLOOKUP($D64,'HK1'!$D$4:$AH$259,30,0)+VLOOKUP($D64,'HK2'!$D$4:$AH$258,30,0)) -> 0 | AH64: =IF(D64="","",ROUND(I64+N64+R64+V64+Y64+AB64+AE64+SUM(AF64:AG64),1)) -> 3.8 | AI64: =IF(AH64="","",ROUND(AH64*10/3,1)) -> 12.7
A65: =IF(D65="","",SUBTOTAL(3,$D$4:$D65)) | E65: =IF($D65="","",VLOOKUP($D65,'HK1'!$D$4:$AH$259,2,0)+VLOOKUP($D65,'HK2'!$D$4:$AH$258,2,0)) | F65: =IF($D65="","",VLOOKUP($D65,'HK1'!$D$4:$AH$259,3,0)+VLOOKUP($D65,'HK2'!$D$4:$AH$258,3,0)) | G65: =IF($D65="","",VLOOKUP($D65,'HK1'!$D$4:$AH$259,4,0)+VLOOKUP($D65,'HK2'!$D$4:$AH$258,4,0)) | H65: =IF($D65="","",VLOOKUP($D65,'HK1'!$D$4:$AH$259,5,0)+VLOOKUP($D65,'HK2'!$D$4:$AH$258,5,0)) | I65: =IF($D65="","",VLOOKUP($D65,'HK1'!$D$4:$AH$259,6,0)+VLOOKUP($D65,'HK2'!$D$4:$AH$258,6,0)) | J65: =IF($D65="","",VLOOKUP($D65,'HK1'!$D$4:$AH$259,7,0)+VLOOKUP($D65,'HK2'!$D$4:$AH$258,7,0)) | K65: =IF($D65="","",VLOOKUP($D65,'HK1'!$D$4:$AH$259,8,0)+VLOOKUP($D65,'HK2'!$D$4:$AH$258,8,0)) | L65: =IF($D65="","",VLOOKUP($D65,'HK1'!$D$4:$AH$259,9,0)+VLOOKUP($D65,'HK2'!$D$4:$AH$258,9,0)) | M65: =IF($D65="","",VLOOKUP($D65,'HK1'!$D$4:$AH$259,10,0)+VLOOKUP($D65,'HK2'!$D$4:$AH$258,10,0)) | N65: =IF($D65="","",VLOOKUP($D65,'HK1'!$D$4:$AH$259,11,0)+VLOOKUP($D65,'HK2'!$D$4:$AH$258,11,0)) | O65: =IF($D65="","",VLOOKUP($D65,'HK1'!$D$4:$AH$259,12,0)+VLOOKUP($D65,'HK2'!$D$4:$AH$258,12,0)) | P65: =IF($D65="","",VLOOKUP($D65,'HK1'!$D$4:$AH$259,13,0)+VLOOKUP($D65,'HK2'!$D$4:$AH$258,13,0)) | Q65: =IF($D65="","",VLOOKUP($D65,'HK1'!$D$4:$AH$259,14,0)+VLOOKUP($D65,'HK2'!$D$4:$AH$258,14,0)) | R65: =IF($D65="","",VLOOKUP($D65,'HK1'!$D$4:$AH$259,15,0)+VLOOKUP($D65,'HK2'!$D$4:$AH$258,15,0)) | S65: =IF($D65="","",VLOOKUP($D65,'HK1'!$D$4:$AH$259,16,0)+VLOOKUP($D65,'HK2'!$D$4:$AH$258,16,0)) | T65: =IF($D65="","",VLOOKUP($D65,'HK1'!$D$4:$AH$259,17,0)+VLOOKUP($D65,'HK2'!$D$4:$AH$258,17,0)) | U65: =IF($D65="","",VLOOKUP($D65,'HK1'!$D$4:$AH$259,18,0)+VLOOKUP($D65,'HK2'!$D$4:$AH$258,18,0)) | V65: =IF($D65="","",VLOOKUP($D65,'HK1'!$D$4:$AH$259,19,0)+VLOOKUP($D65,'HK2'!$D$4:$AH$258,19,0)) | W65: =IF($D65="","",VLOOKUP($D65,'HK1'!$D$4:$AH$259,20,0)+VLOOKUP($D65,'HK2'!$D$4:$AH$258,20,0)) | X65: =IF($D65="","",VLOOKUP($D65,'HK1'!$D$4:$AH$259,21,0)+VLOOKUP($D65,'HK2'!$D$4:$AH$258,21,0)) | Y65: =IF($D65="","",VLOOKUP($D65,'HK1'!$D$4:$AH$259,22,0)+VLOOKUP($D65,'HK2'!$D$4:$AH$258,22,0)) | Z65: =IF($D65="","",VLOOKUP($D65,'HK1'!$D$4:$AH$259,23,0)+VLOOKUP($D65,'HK2'!$D$4:$AH$258,23,0)) | AA65: =IF($D65="","",VLOOKUP($D65,'HK1'!$D$4:$AH$259,24,0)+VLOOKUP($D65,'HK2'!$D$4:$AH$258,24,0)) | AB65: =IF($D65="","",VLOOKUP($D65,'HK1'!$D$4:$AH$259,25,0)+VLOOKUP($D65,'HK2'!$D$4:$AH$258,25,0)) | AC65: =IF($D65="","",VLOOKUP($D65,'HK1'!$D$4:$AH$259,26,0)+VLOOKUP($D65,'HK2'!$D$4:$AH$258,26,0)) | AD65: =IF($D65="","",VLOOKUP($D65,'HK1'!$D$4:$AH$259,27,0)+VLOOKUP($D65,'HK2'!$D$4:$AH$258,27,0)) | AE65: =IF($D65="","",VLOOKUP($D65,'HK1'!$D$4:$AH$259,28,0)+VLOOKUP($D65,'HK2'!$D$4:$AH$258,28,0)) | AF65: =IF($D65="","",VLOOKUP($D65,'HK1'!$D$4:$AH$259,29,0)+VLOOKUP($D65,'HK2'!$D$4:$AH$258,29,0)) | AG65: =IF($D65="","",VLOOKUP($D65,'HK1'!$D$4:$AH$259,30,0)+VLOOKUP($D65,'HK2'!$D$4:$AH$258,30,0)) | AH65: =IF(D65="","",ROUND(I65+N65+R65+V65+Y65+AB65+AE65+SUM(AF65:AG65),1)) | AI65: =IF(AH65="","",ROUND(AH65*10/3,1))
E66: =SUBTOTAL(9,E2:E65) -> 83 | F66: =SUBTOTAL(9,F2:F65) -> 50 | G66: =SUBTOTAL(9,G2:G65) -> 0 | H66: =SUBTOTAL(9,H2:H65) -> 0 | I66: =SUBTOTAL(9,I2:I65) -> 183 | J66: =SUBTOTAL(9,J2:J65) -> 422 | K66: =SUBTOTAL(9,K2:K65) -> 412 | L66: =SUBTOTAL(9,L2:L65) -> 0 | ... AH66: =SUBTOTAL(9,AH2:AH65) -> 1747.3

Sheet XUAT HK1 KHOA
A1: STT | B1: Mã nhân sự | C1: Đơn vị | D1: HỌ VÀ TÊN GIẢNG VIÊN | E1: ĐỀ THI | J1: COI THI | O1: CHẤM THI KTHP | W1: CHẤM THI TỐT NGHIỆP | AF1: DỰ PHÒNG KỲ THI | AG1: GIÁM SÁT | AH1: TỔNG KHỐI LƯỢNG | AI1: =SUBTOTAL(9,AH:AH) -> 753.6
O2: LÝ THUYẾT | S2: TIỂU LUẬN | W2: LÝ THUYẾT | Z2: T.HÀNH CHUNG | AC2: T.HÀNH RIÊNG
E3: SL ĐỀ LT KTHP | F3: SL ĐỀ TN KTHP | G3: SL ĐỀ LT TN | H3: SL ĐỀ TH TN | I3: KL SOẠN ĐỀ (tiết) | J3: KTHPLT COITHI 1 | K3: KTHPLT COITHI 2 | L3: ThiTN COITHI 1 | M3: ThiTN COITHI 2 | N3: KL COITHI (tiết) | O3: SL BÀI LT CHẤM 1 | P3: SL BÀI LT CHẤM 2 | Q3: SL CHẤM LT NGHĨA VỤ | R3: KL CHẤM LT (tiết) | S3: SL BÀI TL CHẤM 1 | T3: SL BÀI TL CHẤM 2 | U3: SL CHẤM TL NGHĨA VỤ | V3: KL CHẤM TL (tiết) | W3: SL BÀI LT CHẤM 1 | X3: SL BÀI LT CHẤM 2 | Y3: KL CHẤM LT (tiết) | Z3: SL BÀI TL CHẤM 1 | AA3: SL BÀI TL CHẤM 2 | AB3: KL CHẤM TL (tiết) | AC3: SL BÀI TL CHẤM 1 | AD3: SL BÀI TL CHẤM 2 | AE3: KL CHẤM TL (tiết)
A4: =IF(D4="","",SUBTOTAL(3,$D$4:$D4)) -> 1 | B4: 01001006 | C4: Ban Giám hiệu | D4: Đinh Văn Đệ | E4: =IF($D4="","",VLOOKUP($D4,'HK1'!$D$4:$AH$259,2,0)) -> 0 | F4: =IF($D4="","",VLOOKUP($D4,'HK1'!$D$4:$AH$259,3,0)) -> 0 | G4: =IF($D4="","",VLOOKUP($D4,'HK1'!$D$4:$AH$259,4,0)) -> 0 | H4: =IF($D4="","",VLOOKUP($D4,'HK1'!$D$4:$AH$259,5,0)) -> 0 | I4: =IF(D4="","",(E4+F4*2+G4*3+H4*2)) -> 0 | J4: =IF($D4="","",VLOOKUP($D4,'HK1'!$D$4:$AH$259,7,0)) -> 0 | K4: =IF($D4="","",VLOOKUP($D4,'HK1'!$D$4:$AH$259,8,0)) -> 0 | L4: =IF($D4="","",VLOOKUP($D4,'HK1'!$D$4:$AH$259,9,0)) -> 0 | M4: =IF($D4="","",VLOOKUP($D4,'HK1'!$D$4:$AH$259,10,0)) -> 0 | N4: =IF(D4="","",SUM(J4:M4)) -> 0 | O4: =IF($D4="","",VLOOKUP($D4,'HK1'!$D$4:$AH$259,12,0)) -> 0 | P4: =IF($D4="","",VLOOKUP($D4,'HK1'!$D$4:$AH$259,13,0)) -> 0 | Q4: =IF($D4="","",VLOOKUP($D4,'HK1'!$D$4:$AH$259,14,0)) -> 187 | R4: =IF(D4="","",(SUM(O4:P4)-Q4)/20) -> -9.35 | S4: =IF($D4="","",VLOOKUP($D4,'HK1'!$D$4:$AH$259,16,0)) -> 0 | T4: =IF($D4="","",VLOOKUP($D4,'HK1'!$D$4:$AH$259,17,0)) -> 0 | U4: =IF($D4="","",VLOOKUP($D4,'HK1'!$D$4:$AH$259,18,0)) -> 0 | V4: =IF(D4="","",(SUM(S4:T4)-U4)/10) -> 0 | W4: =IF($D4="","",VLOOKUP($D4,'HK1'!$D$4:$AH$259,20,0)) -> 0 | X4: =IF($D4="","",VLOOKUP($D4,'HK1'!$D$4:$AH$259,21,0)) -> 0 | Y4: =IF(D4="","",SUM(W4:X4)/14) -> 0 | Z4: =IF($D4="","",VLOOKUP($D4,'HK1'!$D$4:$AH$259,23,0)) -> 0 | AA4: =IF($D4="","",VLOOKUP($D4,'HK1'!$D$4:$AH$259,24,0)) -> 0 | AB4: =IF(D4="","",SUM(Z4:AA4)/10) -> 0 | AC4: =IF($D4="","",VLOOKUP($D4,'HK1'!$D$4:$AH$259,26,0)) -> 0 | AD4: =IF($D4="","",VLOOKUP($D4,'HK1'!$D$4:$AH$259,27,0)) -> 0 | AE4: =IF(D4="","",SUM(AC4:AD4)/20) -> 0 | AF4: =IF($D4="","",VLOOKUP($D4,'HK1'!$D$4:$AH$259,29,0)) -> 0 | AG4: =IF($D4="","",VLOOKUP($D4,'HK1'!$D$4:$AH$259,30,0)) -> 0 | AH4: =IF(D4="","",ROUND(I4+N4+R4+V4+Y4+AB4+AE4+SUM(AF4:AG4),1)) -> -9.4 | AI4: =IF(AH4="","",ROUND(AH4*10/3,1)) -> -31.3
A5: =IF(D5="","",SUBTOTAL(3,$D$4:$D5)) -> 2 | B5: 01012023 | C5: Khoa CN Cơ khí | D5: Bùi Anh Tuấn | E5: =IF($D5="","",VLOOKUP($D5,'HK1'!$D$4:$AH$259,2,0)) -> 11 | F5: =IF($D5="","",VLOOKUP($D5,'HK1'!$D$4:$AH$259,3,0)) -> 0 | G5: =IF($D5="","",VLOOKUP($D5,'HK1'!$D$4:$AH$259,4,0)) -> 0 | H5: =IF($D5="","",VLOOKUP($D5,'HK1'!$D$4:$AH$259,5,0)) -> 0 | I5: =IF(D5="","",(E5+F5*2+G5*3+H5*2)) -> 11 | J5: =IF($D5="","",VLOOKUP($D5,'HK1'!$D$4:$AH$259,7,0)) -> 9.6 | K5: =IF($D5="","",VLOOKUP($D5,'HK1'!$D$4:$AH$259,8,0)) -> 7.2 | L5: =IF($D5="","",VLOOKUP($D5,'HK1'!$D$4:$AH$259,9,0)) -> 0 | M5: =IF($D5="","",VLOOKUP($D5,'HK1'!$D$4:$AH$259,10,0)) -> 0 | N5: =IF(D5="","",SUM(J5:M5)) -> 16.8 | O5: =IF($D5="","",VLOOKUP($D5,'HK1'!$D$4:$AH$259,12,0)) -> 158 | P5: =IF($D5="","",VLOOKUP($D5,'HK1'!$D$4:$AH$259,13,0)) -> 31 | Q5: =IF($D5="","",VLOOKUP($D5,'HK1'!$D$4:$AH$259,14,0)) -> 178 | R5: =IF(D5="","",(SUM(O5:P5)-Q5)/20) -> 0.55 | S5: =IF($D5="","",VLOOKUP($D5,'HK1'!$D$4:$AH$259,16,0)) -> 0 | T5: =IF($D5="","",VLOOKUP($D5,'HK1'!$D$4:$AH$259,17,0)) -> 0 | U5: =IF($D5="","",VLOOKUP($D5,'HK1'!$D$4:$AH$259,18,0)) -> 0 | V5: =IF(D5="","",(SUM(S5:T5)-U5)/10) -> 0 | W5: =IF($D5="","",VLOOKUP($D5,'HK1'!$D$4:$AH$259,20,0)) -> 0 | X5: =IF($D5="","",VLOOKUP($D5,'HK1'!$D$4:$AH$259,21,0)) -> 0 | Y5: =IF(D5="","",SUM(W5:X5)/14) -> 0 | Z5: =IF($D5="","",VLOOKUP($D5,'HK1'!$D$4:$AH$259,23,0)) -> 0 | AA5: =IF($D5="","",VLOOKUP($D5,'HK1'!$D$4:$AH$259,24,0)) -> 0 | AB5: =IF(D5="","",SUM(Z5:AA5)/10) -> 0 | AC5: =IF($D5="","",VLOOKUP($D5,'HK1'!$D$4:$AH$259,26,0)) -> 0 | AD5: =IF($D5="","",VLOOKUP($D5,'HK1'!$D$4:$AH$259,27,0)) -> 0 | AE5: =IF(D5="","",SUM(AC5:AD5)/20) -> 0 | AF5: =IF($D5="","",VLOOKUP($D5,'HK1'!$D$4:$AH$259,29,0)) -> 0 | AG5: =IF($D5="","",VLOOKUP($D5,'HK1'!$D$4:$AH$259,30,0)) -> 2.4 | AH5: =IF(D5="","",ROUND(I5+N5+R5+V5+Y5+AB5+AE5+SUM(AF5:AG5),1)) -> 30.8 | AI5: =IF(AH5="","",ROUND(AH5*10/3,1)) -> 102.7
A6: =IF(D6="","",SUBTOTAL(3,$D$4:$D6)) -> 3 | B6: 01012003 | C6: Khoa CN Cơ khí | D6: Chung Trần Thế Vinh | E6: =IF($D6="","",VLOOKUP($D6,'HK1'!$D$4:$AH$259,2,0)) -> 2 | F6: =IF($D6="","",VLOOKUP($D6,'HK1'!$D$4:$AH$259,3,0)) -> 0 | G6: =IF($D6="","",VLOOKUP($D6,'HK1'!$D$4:$AH$259,4,0)) -> 0 | H6: =IF($D6="","",VLOOKUP($D6,'HK1'!$D$4:$AH$259,5,0)) -> 0 | I6: =IF(D6="","",(E6+F6*2+G6*3+H6*2)) -> 2 | J6: =IF($D6="","",VLOOKUP($D6,'HK1'!$D$4:$AH$259,7,0)) -> 0 | K6: =IF($D6="","",VLOOKUP($D6,'HK1'!$D$4:$AH$259,8,0)) -> 0 | L6: =IF($D6="","",VLOOKUP($D6,'HK1'!$D$4:$AH$259,9,0)) -> 0 | M6: =IF($D6="","",VLOOKUP($D6,'HK1'!$D$4:$AH$259,10,0)) -> 0 | N6: =IF(D6="","",SUM(J6:M6)) -> 0 | O6: =IF($D6="","",VLOOKUP($D6,'HK1'!$D$4:$AH$259,12,0)) -> 16 | P6: =IF($D6="","",VLOOKUP($D6,'HK1'!$D$4:$AH$259,13,0)) -> 118 | Q6: =IF($D6="","",VLOOKUP($D6,'HK1'!$D$4:$AH$259,14,0)) -> 45 | R6: =IF(D6="","",(SUM(O6:P6)-Q6)/20) -> 4.45 | S6: =IF($D6="","",VLOOKUP($D6,'HK1'!$D$4:$AH$259,16,0)) -> 0 | T6: =IF($D6="","",VLOOKUP($D6,'HK1'!$D$4:$AH$259,17,0)) -> 0 | U6: =IF($D6="","",VLOOKUP($D6,'HK1'!$D$4:$AH$259,18,0)) -> 0 | V6: =IF(D6="","",(SUM(S6:T6)-U6)/10) -> 0 | W6: =IF($D6="","",VLOOKUP($D6,'HK1'!$D$4:$AH$259,20,0)) -> 0 | X6: =IF($D6="","",VLOOKUP($D6,'HK1'!$D$4:$AH$259,21,0)) -> 0 | Y6: =IF(D6="","",SUM(W6:X6)/14) -> 0 | Z6: =IF($D6="","",VLOOKUP($D6,'HK1'!$D$4:$AH$259,23,0)) -> 0 | AA6: =IF($D6="","",VLOOKUP($D6,'HK1'!$D$4:$AH$259,24,0)) -> 0 | AB6: =IF(D6="","",SUM(Z6:AA6)/10) -> 0 | AC6: =IF($D6="","",VLOOKUP($D6,'HK1'!$D$4:$AH$259,26,0)) -> 0 | AD6: =IF($D6="","",VLOOKUP($D6,'HK1'!$D$4:$AH$259,27,0)) -> 0 | AE6: =IF(D6="","",SUM(AC6:AD6)/20) -> 0 | AF6: =IF($D6="","",VLOOKUP($D6,'HK1'!$D$4:$AH$259,29,0)) -> 0 | AG6: =IF($D6="","",VLOOKUP($D6,'HK1'!$D$4:$AH$259,30,0)) -> 26.4 | AH6: =IF(D6="","",ROUND(I6+N6+R6+V6+Y6+AB6+AE6+SUM(AF6:AG6),1)) -> 32.9 | AI6: =IF(AH6="","",ROUND(AH6*10/3,1)) -> 109.7
A7: =IF(D7="","",SUBTOTAL(3,$D$4:$D7)) -> 4 | B7: 01012005 | C7: Khoa CN Cơ khí | D7: Đỗ Thị Phương Khanh | E7: =IF($D7="","",VLOOKUP($D7,'HK1'!$D$4:$AH$259,2,0)) -> 0 | F7: =IF($D7="","",VLOOKUP($D7,'HK1'!$D$4:$AH$259,3,0)) -> 4 | G7: =IF($D7="","",VLOOKUP($D7,'HK1'!$D$4:$AH$259,4,0)) -> 0 | H7: =IF($D7="","",VLOOKUP($D7,'HK1'!$D$4:$AH$259,5,0)) -> 0 | I7: =IF(D7="","",(E7+F7*2+G7*3+H7*2)) -> 8 | J7: =IF($D7="","",VLOOKUP($D7,'HK1'!$D$4:$AH$259,7,0)) -> 12.8 | K7: =IF($D7="","",VLOOKUP($D7,'HK1'!$D$4:$AH$259,8,0)) -> 3.6 | L7: =IF($D7="","",VLOOKUP($D7,'HK1'!$D$4:$AH$259,9,0)) -> 0 | M7: =IF($D7="","",VLOOKUP($D7,'HK1'!$D$4:$AH$259,10,0)) -> 0 | N7: =IF(D7="","",SUM(J7:M7)) -> 16.4 | O7: =IF($D7="","",VLOOKUP($D7,'HK1'!$D$4:$AH$259,12,0)) -> 80 | P7: =IF($D7="","",VLOOKUP($D7,'HK1'!$D$4:$AH$259,13,0)) -> 71 | Q7: =IF($D7="","",VLOOKUP($D7,'HK1'!$D$4:$AH$259,14,0)) -> 22 | R7: =IF(D7="","",(SUM(O7:P7)-Q7)/20) -> 6.45 | S7: =IF($D7="","",VLOOKUP($D7,'HK1'!$D$4:$AH$259,16,0)) -> 0 | T7: =IF($D7="","",VLOOKUP($D7,'HK1'!$D$4:$AH$259,17,0)) -> 0 | U7: =IF($D7="","",VLOOKUP($D7,'HK1'!$D$4:$AH$259,18,0)) -> 0 | V7: =IF(D7="","",(SUM(S7:T7)-U7)/10) -> 0 | W7: =IF($D7="","",VLOOKUP($D7,'HK1'!$D$4:$AH$259,20,0)) -> 0 | X7: =IF($D7="","",VLOOKUP($D7,'HK1'!$D$4:$AH$259,21,0)) -> 0 | Y7: =IF(D7="","",SUM(W7:X7)/14) -> 0 | Z7: =IF($D7="","",VLOOKUP($D7,'HK1'!$D$4:$AH$259,23,0)) -> 0 | AA7: =IF($D7="","",VLOOKUP($D7,'HK1'!$D$4:$AH$259,24,0)) -> 0 | AB7: =IF(D7="","",SUM(Z7:AA7)/10) -> 0 | AC7: =IF($D7="","",VLOOKUP($D7,'HK1'!$D$4:$AH$259,26,0)) -> 0 | AD7: =IF($D7="","",VLOOKUP($D7,'HK1'!$D$4:$AH$259,27,0)) -> 0 | AE7: =IF(D7="","",SUM(AC7:AD7)/20) -> 0 | AF7: =IF($D7="","",VLOOKUP($D7,'HK1'!$D$4:$AH$259,29,0)) -> 0 | AG7: =IF($D7="","",VLOOKUP($D7,'HK1'!$D$4:$AH$259,30,0)) -> 2.4 | AH7: =IF(D7="","",ROUND(I7+N7+R7+V7+Y7+AB7+AE7+SUM(AF7:AG7),1)) -> 33.3 | AI7: =IF(AH7="","",ROUND(AH7*10/3,1)) -> 111
A8: =IF(D8="","",SUBTOTAL(3,$D$4:$D8)) -> 5 | B8: 01012014 | C8: Khoa CN Cơ khí | D8: Dương Minh Chung | E8: =IF($D8="","",VLOOKUP($D8,'HK1'!$D$4:$AH$259,2,0)) -> 4 | F8: =IF($D8="","",VLOOKUP($D8,'HK1'!$D$4:$AH$259,3,0)) -> 0 | G8: =IF($D8="","",VLOOKUP($D8,'HK1'!$D$4:$AH$259,4,0)) -> 0 | H8: =IF($D8="","",VLOOKUP($D8,'HK1'!$D$4:$AH$259,5,0)) -> 0 | I8: =IF(D8="","",(E8+F8*2+G8*3+H8*2)) -> 4 | J8: =IF($D8="","",VLOOKUP($D8,'HK1'!$D$4:$AH$259,7,0)) -> 10.8 | K8: =IF($D8="","",VLOOKUP($D8,'HK1'!$D$4:$AH$259,8,0)) -> 0 | L8: =IF($D8="","",VLOOKUP($D8,'HK1'!$D$4:$AH$259,9,0)) -> 0 | M8: =IF($D8="","",VLOOKUP($D8,'HK1'!$D$4:$AH$259,10,0)) -> 0 | N8: =IF(D8="","",SUM(J8:M8)) -> 10.8 | O8: =IF($D8="","",VLOOKUP($D8,'HK1'!$D$4:$AH$259,12,0)) -> 93 | P8: =IF($D8="","",VLOOKUP($D8,'HK1'!$D$4:$AH$259,13,0)) -> 65 | Q8: =IF($D8="","",VLOOKUP($D8,'HK1'!$D$4:$AH$259,14,0)) -> 40 | R8: =IF(D8="","",(SUM(O8:P8)-Q8)/20) -> 5.9 | S8: =IF($D8="","",VLOOKUP($D8,'HK1'!$D$4:$AH$259,16,0)) -> 0 | T8: =IF($D8="","",VLOOKUP($D8,'HK1'!$D$4:$AH$259,17,0)) -> 0 | U8: =IF($D8="","",VLOOKUP($D8,'HK1'!$D$4:$AH$259,18,0)) -> 0 | V8: =IF(D8="","",(SUM(S8:T8)-U8)/10) -> 0 | W8: =IF($D8="","",VLOOKUP($D8,'HK1'!$D$4:$AH$259,20,0)) -> 0 | X8: =IF($D8="","",VLOOKUP($D8,'HK1'!$D$4:$AH$259,21,0)) -> 0 | Y8: =IF(D8="","",SUM(W8:X8)/14) -> 0 | Z8: =IF($D8="","",VLOOKUP($D8,'HK1'!$D$4:$AH$259,23,0)) -> 0 | AA8: =IF($D8="","",VLOOKUP($D8,'HK1'!$D$4:$AH$259,24,0)) -> 0 | AB8: =IF(D8="","",SUM(Z8:AA8)/10) -> 0 | AC8: =IF($D8="","",VLOOKUP($D8,'HK1'!$D$4:$AH$259,26,0)) -> 0 | AD8: =IF($D8="","",VLOOKUP($D8,'HK1'!$D$4:$AH$259,27,0)) -> 0 | AE8: =IF(D8="","",SUM(AC8:AD8)/20) -> 0 | AF8: =IF($D8="","",VLOOKUP($D8,'HK1'!$D$4:$AH$259,29,0)) -> 0 | AG8: =IF($D8="","",VLOOKUP($D8,'HK1'!$D$4:$AH$259,30,0)) -> 0 | AH8: =IF(D8="","",ROUND(I8+N8+R8+V8+Y8+AB8+AE8+SUM(AF8:AG8),1)) -> 20.7 | AI8: =IF(AH8="","",ROUND(AH8*10/3,1)) -> 69
A9: =IF(D9="","",SUBTOTAL(3,$D$4:$D9)) -> 6 | B9: 01012028 | C9: Khoa CN Cơ khí | D9: Dương Thị Hồng | E9: =IF($D9="","",VLOOKUP($D9,'HK1'!$D$4:$AH$259,2,0)) -> 10 | F9: =IF($D9="","",VLOOKUP($D9,'HK1'!$D$4:$AH$259,3,0)) -> 0 | G9: =IF($D9="","",VLOOKUP($D9,'HK1'!$D$4:$AH$259,4,0)) -> 0 | H9: =IF($D9="","",VLOOKUP($D9,'HK1'!$D$4:$AH$259,5,0)) -> 0 | I9: =IF(D9="","",(E9+F9*2+G9*3+H9*2)) -> 10 | J9: =IF($D9="","",VLOOKUP($D9,'HK1'!$D$4:$AH$259,7,0)) -> 3.6 | K9: =IF($D9="","",VLOOKUP($D9,'HK1'!$D$4:$AH$259,8,0)) -> 0 | L9: =IF($D9="","",VLOOKUP($D9,'HK1'!$D$4:$AH$259,9,0)) -> 0 | M9: =IF($D9="","",VLOOKUP($D9,'HK1'!$D$4:$AH$259,10,0)) -> 0 | N9: =IF(D9="","",SUM(J9:M9)) -> 3.6 | O9: =IF($D9="","",VLOOKUP($D9,'HK1'!$D$4:$AH$259,12,0)) -> 489 | P9: =IF($D9="","",VLOOKUP($D9,'HK1'!$D$4:$AH$259,13,0)) -> 529 | Q9: =IF($D9="","",VLOOKUP($D9,'HK1'!$D$4:$AH$259,14,0)) -> 515 | R9: =IF(D9="","",(SUM(O9:P9)-Q9)/20) -> 25.15 | S9: =IF($D9="","",VLOOKUP($D9,'HK1'!$D$4:$AH$259,16,0)) -> 0 | T9: =IF($D9="","",VLOOKUP($D9,'HK1'!$D$4:$AH$259,17,0)) -> 0 | U9: =IF($D9="","",VLOOKUP($D9,'HK1'!$D$4:$AH$259,18,0)) -> 0 | V9: =IF(D9="","",(SUM(S9:T9)-U9)/10) -> 0 | W9: =IF($D9="","",VLOOKUP($D9,'HK1'!$D$4:$AH$259,20,0)) -> 0 | X9: =IF($D9="","",VLOOKUP($D9,'HK1'!$D$4:$AH$259,21,0)) -> 0 | Y9: =IF(D9="","",SUM(W9:X9)/14) -> 0 | Z9: =IF($D9="","",VLOOKUP($D9,'HK1'!$D$4:$AH$259,23,0)) -> 0 | AA9: =IF($D9="","",VLOOKUP($D9,'HK1'!$D$4:$AH$259,24,0)) -> 0 | AB9: =IF(D9="","",SUM(Z9:AA9)/10) -> 0 | AC9: =IF($D9="","",VLOOKUP($D9,'HK1'!$D$4:$AH$259,26,0)) -> 0 | AD9: =IF($D9="","",VLOOKUP($D9,'HK1'!$D$4:$AH$259,27,0)) -> 0 | AE9: =IF(D9="","",SUM(AC9:AD9)/20) -> 0 | AF9: =IF($D9="","",VLOOKUP($D9,'HK1'!$D$4:$AH$259,29,0)) -> 0 | AG9: =IF($D9="","",VLOOKUP($D9,'HK1'!$D$4:$AH$259,30,0)) -> 0 | AH9: =IF(D9="","",ROUND(I9+N9+R9+V9+Y9+AB9+AE9+SUM(AF9:AG9),1)) -> 38.8 | AI9: =IF(AH9="","",ROUND(AH9*10/3,1)) -> 129.3
A10: =IF(D10="","",SUBTOTAL(3,$D$4:$D10)) -> 7 | B10: 01012027 | C10: Khoa CN Cơ khí | D10: Giáp Đức Nhận | E10: =IF($D10="","",VLOOKUP($D10,'HK1'!$D$4:$AH$259,2,0)) -> 0 | F10: =IF($D10="","",VLOOKUP($D10,'HK1'!$D$4:$AH$259,3,0)) -> 0 | G10: =IF($D10="","",VLOOKUP($D10,'HK1'!$D$4:$AH$259,4,0)) -> 0 | H10: =IF($D10="","",VLOOKUP($D10,'HK1'!$D$4:$AH$259,5,0)) -> 0 | I10: =IF(D10="","",(E10+F10*2+G10*3+H10*2)) -> 0 | J10: =IF($D10="","",VLOOKUP($D10,'HK1'!$D$4:$AH$259,7,0)) -> 0 | K10: =IF($D10="","",VLOOKUP($D10,'HK1'!$D$4:$AH$259,8,0)) -> 0 | L10: =IF($D10="","",VLOOKUP($D10,'HK1'!$D$4:$AH$259,9,0)) -> 0 | M10: =IF($D10="","",VLOOKUP($D10,'HK1'!$D$4:$AH$259,10,0)) -> 0 | N10: =IF(D10="","",SUM(J10:M10)) -> 0 | O10: =IF($D10="","",VLOOKUP($D10,'HK1'!$D$4:$AH$259,12,0)) -> 0 | P10: =IF($D10="","",VLOOKUP($D10,'HK1'!$D$4:$AH$259,13,0)) -> 0 | Q10: =IF($D10="","",VLOOKUP($D10,'HK1'!$D$4:$AH$259,14,0)) -> 0 | R10: =IF(D10="","",(SUM(O10:P10)-Q10)/20) -> 0 | S10: =IF($D10="","",VLOOKUP($D10,'HK1'!$D$4:$AH$259,16,0)) -> 0 | T10: =IF($D10="","",VLOOKUP($D10,'HK1'!$D$4:$AH$259,17,0)) -> 0 | U10: =IF($D10="","",VLOOKUP($D10,'HK1'!$D$4:$AH$259,18,0)) -> 0 | V10: =IF(D10="","",(SUM(S10:T10)-U10)/10) -> 0 | W10: =IF($D10="","",VLOOKUP($D10,'HK1'!$D$4:$AH$259,20,0)) -> 0 | X10: =IF($D10="","",VLOOKUP($D10,'HK1'!$D$4:$AH$259,21,0)) -> 0 | Y10: =IF(D10="","",SUM(W10:X10)/14) -> 0 | Z10: =IF($D10="","",VLOOKUP($D10,'HK1'!$D$4:$AH$259,23,0)) -> 0 | AA10: =IF($D10="","",VLOOKUP($D10,'HK1'!$D$4:$AH$259,24,0)) -> 0 | AB10: =IF(D10="","",SUM(Z10:AA10)/10) -> 0 | AC10: =IF($D10="","",VLOOKUP($D10,'HK1'!$D$4:$AH$259,26,0)) -> 0 | AD10: =IF($D10="","",VLOOKUP($D10,'HK1'!$D$4:$AH$259,27,0)) -> 0 | AE10: =IF(D10="","",SUM(AC10:AD10)/20) -> 0 | AF10: =IF($D10="","",VLOOKUP($D10,'HK1'!$D$4:$AH$259,29,0)) -> 0 | AG10: =IF($D10="","",VLOOKUP($D10,'HK1'!$D$4:$AH$259,30,0)) -> 0 | AH10: =IF(D10="","",ROUND(I10+N10+R10+V10+Y10+AB10+AE10+SUM(AF10:AG10),1)) -> 0 | AI10: =IF(AH10="","",ROUND(AH10*10/3,1)) -> 0
A11: =IF(D11="","",SUBTOTAL(3,$D$4:$D11)) -> 8 | B11: 01012030 | C11: Khoa CN Cơ khí | D11: Hồ Nhật Linh | E11: =IF($D11="","",VLOOKUP($D11,'HK1'!$D$4:$AH$259,2,0)) -> 0 | F11: =IF($D11="","",VLOOKUP($D11,'HK1'!$D$4:$AH$259,3,0)) -> 0 | G11: =IF($D11="","",VLOOKUP($D11,'HK1'!$D$4:$AH$259,4,0)) -> 0 | H11: =IF($D11="","",VLOOKUP($D11,'HK1'!$D$4:$AH$259,5,0)) -> 0 | I11: =IF(D11="","",(E11+F11*2+G11*3+H11*2)) -> 0 | J11: =IF($D11="","",VLOOKUP($D11,'HK1'!$D$4:$AH$259,7,0)) -> 0 | K11: =IF($D11="","",VLOOKUP($D11,'HK1'!$D$4:$AH$259,8,0)) -> 0 | L11: =IF($D11="","",VLOOKUP($D11,'HK1'!$D$4:$AH$259,9,0)) -> 0 | M11: =IF($D11="","",VLOOKUP($D11,'HK1'!$D$4:$AH$259,10,0)) -> 0 | N11: =IF(D11="","",SUM(J11:M11)) -> 0 | O11: =IF($D11="","",VLOOKUP($D11,'HK1'!$D$4:$AH$259,12,0)) -> 0 | P11: =IF($D11="","",VLOOKUP($D11,'HK1'!$D$4:$AH$259,13,0)) -> 0 | Q11: =IF($D11="","",VLOOKUP($D11,'HK1'!$D$4:$AH$259,14,0)) -> 0 | R11: =IF(D11="","",(SUM(O11:P11)-Q11)/20) -> 0 | S11: =IF($D11="","",VLOOKUP($D11,'HK1'!$D$4:$AH$259,16,0)) -> 0 | T11: =IF($D11="","",VLOOKUP($D11,'HK1'!$D$4:$AH$259,17,0)) -> 0 | U11: =IF($D11="","",VLOOKUP($D11,'HK1'!$D$4:$AH$259,18,0)) -> 0 | V11: =IF(D11="","",(SUM(S11:T11)-U11)/10) -> 0 | W11: =IF($D11="","",VLOOKUP($D11,'HK1'!$D$4:$AH$259,20,0)) -> 0 | X11: =IF($D11="","",VLOOKUP($D11,'HK1'!$D$4:$AH$259,21,0)) -> 0 | Y11: =IF(D11="","",SUM(W11:X11)/14) -> 0 | Z11: =IF($D11="","",VLOOKUP($D11,'HK1'!$D$4:$AH$259,23,0)) -> 0 | AA11: =IF($D11="","",VLOOKUP($D11,'HK1'!$D$4:$AH$259,24,0)) -> 0 | AB11: =IF(D11="","",SUM(Z11:AA11)/10) -> 0 | AC11: =IF($D11="","",VLOOKUP($D11,'HK1'!$D$4:$AH$259,26,0)) -> 0 | AD11: =IF($D11="","",VLOOKUP($D11,'HK1'!$D$4:$AH$259,27,0)) -> 0 | AE11: =IF(D11="","",SUM(AC11:AD11)/20) -> 0 | AF11: =IF($D11="","",VLOOKUP($D11,'HK1'!$D$4:$AH$259,29,0)) -> 0 | AG11: =IF($D11="","",VLOOKUP($D11,'HK1'!$D$4:$AH$259,30,0)) -> 0 | AH11: =IF(D11="","",ROUND(I11+N11+R11+V11+Y11+AB11+AE11+SUM(AF11:AG11),1)) -> 0 | AI11: =IF(AH11="","",ROUND(AH11*10/3,1)) -> 0
A12: =IF(D12="","",SUBTOTAL(3,$D$4:$D12)) -> 9 | B12: 01012016 | C12: Khoa CN Cơ khí | D12: Lư Thị Yến Vũ | E12: =IF($D12="","",VLOOKUP($D12,'HK1'!$D$4:$AH$259,2,0)) -> 4 | F12: =IF($D12="","",VLOOKUP($D12,'HK1'!$D$4:$AH$259,3,0)) -> 3 | G12: =IF($D12="","",VLOOKUP($D12,'HK1'!$D$4:$AH$259,4,0)) -> 0 | H12: =IF($D12="","",VLOOKUP($D12,'HK1'!$D$4:$AH$259,5,0)) -> 0 | I12: =IF(D12="","",(E12+F12*2+G12*3+H12*2)) -> 10 | J12: =IF($D12="","",VLOOKUP($D12,'HK1'!$D$4:$AH$259,7,0)) -> 0 | K12: =IF($D12="","",VLOOKUP($D12,'HK1'!$D$4:$AH$259,8,0)) -> 14.8 | L12: =IF($D12="","",VLOOKUP($D12,'HK1'!$D$4:$AH$259,9,0)) -> 0 | M12: =IF($D12="","",VLOOKUP($D12,'HK1'!$D$4:$AH$259,10,0)) -> 0 | N12: =IF(D12="","",SUM(J12:M12)) -> 14.8 | O12: =IF($D12="","",VLOOKUP($D12,'HK1'!$D$4:$AH$259,12,0)) -> 114 | P12: =IF($D12="","",VLOOKUP($D12,'HK1'!$D$4:$AH$259,13,0)) -> 187 | Q12: =IF($D12="","",VLOOKUP($D12,'HK1'!$D$4:$AH$259,14,0)) -> 152 | R12: =IF(D12="","",(SUM(O12:P12)-Q12)/20) -> 7.45 | S12: =IF($D12="","",VLOOKUP($D12,'HK1'!$D$4:$AH$259,16,0)) -> 181 | T12: =IF($D12="","",VLOOKUP($D12,'HK1'!$D$4:$AH$259,17,0)) -> 201 | U12: =IF($D12="","",VLOOKUP($D12,'HK1'!$D$4:$AH$259,18,0)) -> 181 | V12: =IF(D12="","",(SUM(S12:T12)-U12)/10) -> 20.1 | W12: =IF($D12="","",VLOOKUP($D12,'HK1'!$D$4:$AH$259,20,0)) -> 0 | X12: =IF($D12="","",VLOOKUP($D12,'HK1'!$D$4:$AH$259,21,0)) -> 0 | Y12: =IF(D12="","",SUM(W12:X12)/14) -> 0 | Z12: =IF($D12="","",VLOOKUP($D12,'HK1'!$D$4:$AH$259,23,0)) -> 0 | AA12: =IF($D12="","",VLOOKUP($D12,'HK1'!$D$4:$AH$259,24,0)) -> 0 | AB12: =IF(D12="","",SUM(Z12:AA12)/10) -> 0 | AC12: =IF($D12="","",VLOOKUP($D12,'HK1'!$D$4:$AH$259,26,0)) -> 0 | AD12: =IF($D12="","",VLOOKUP($D12,'HK1'!$D$4:$AH$259,27,0)) -> 0 | AE12: =IF(D12="","",SUM(AC12:AD12)/20) -> 0 | AF12: =IF($D12="","",VLOOKUP($D12,'HK1'!$D$4:$AH$259,29,0)) -> 0 | AG12: =IF($D12="","",VLOOKUP($D12,'HK1'!$D$4:$AH$259,30,0)) -> 1.6 | AH12: =IF(D12="","",ROUND(I12+N12+R12+V12+Y12+AB12+AE12+SUM(AF12:AG12),1)) -> 54 | AI12: =IF(AH12="","",ROUND(AH12*10/3,1)) -> 180
